BEGIN:VCALENDAR
VERSION:2.0
PRODID:-//AMERICAN LEGION POST 233 - ECPv6.10.1.1//NONSGML v1.0//EN
CALSCALE:GREGORIAN
METHOD:PUBLISH
X-ORIGINAL-URL:http://www.gapost233.com
X-WR-CALDESC:Events for AMERICAN LEGION POST 233
REFRESH-INTERVAL;VALUE=DURATION:PT1H
X-Robots-Tag:noindex
X-PUBLISHED-TTL:PT1H
BEGIN:VTIMEZONE
TZID:America/New_York
BEGIN:DAYLIGHT
TZOFFSETFROM:-0500
TZOFFSETTO:-0400
TZNAME:EDT
DTSTART:20160313T070000
END:DAYLIGHT
BEGIN:STANDARD
TZOFFSETFROM:-0400
TZOFFSETTO:-0500
TZNAME:EST
DTSTART:20161106T060000
END:STANDARD
BEGIN:DAYLIGHT
TZOFFSETFROM:-0500
TZOFFSETTO:-0400
TZNAME:EDT
DTSTART:20170312T070000
END:DAYLIGHT
BEGIN:STANDARD
TZOFFSETFROM:-0400
TZOFFSETTO:-0500
TZNAME:EST
DTSTART:20171105T060000
END:STANDARD
BEGIN:DAYLIGHT
TZOFFSETFROM:-0500
TZOFFSETTO:-0400
TZNAME:EDT
DTSTART:20180311T070000
END:DAYLIGHT
BEGIN:STANDARD
TZOFFSETFROM:-0400
TZOFFSETTO:-0500
TZNAME:EST
DTSTART:20181104T060000
END:STANDARD
END:VTIMEZONE
BEGIN:VEVENT
DTSTART;TZID=America/New_York:20180120T120000
DTEND;TZID=America/New_York:20180120T153000
DTSTAMP:20260422T052745
CREATED:20160118T165028Z
LAST-MODIFIED:20180111T232821Z
UID:10000472-1516449600-1516462200@www.gapost233.com
SUMMARY:American Legion Oratorical Contest
DESCRIPTION:On Saturday\, January 20th we will be conducting our annual Post Oratorical Contest for local high school students.  Doors will open at noon and the contest will start at 1:00 p.m. and should be over by 3:30 p.m. The Post will be awarding prizes for the top three contestants.   \nThis is a great opportunity for high school students to learn about our nation’s constitution while having a chance to win money toward scholarships or other school needs.  The winner of our contest will go on to represent the Post at the District contest.  Nationally\, the winner of the American Legion’s oratorical contest could win almost $20\,000.00.  \nWe are inviting members of the Post and the Auxiliary to attend this event.  If you would like assist with support for this event\, to be a judge\, a timekeeper\, or assist with this program\, please contact George Hinkle or Thom Williams via email: 65ghinkle@gmail.com \, twilliams@adittech.com.   \nWe will have snacks and drinks available for the contestants and all attendees at the end of the activities.   \nThis is a great opportunity for our members to show our support for one of the American Legion’s most important programs.
URL:http://www.gapost233.com/event/american-legion-oratorical-contest/
LOCATION:Ladies Auxiliary Room
END:VEVENT
BEGIN:VEVENT
DTSTART;TZID=America/New_York:20160518T190000
DTEND;TZID=America/New_York:20160518T203000
DTSTAMP:20260422T052745
CREATED:20160503T132324Z
LAST-MODIFIED:20160511T014735Z
UID:10000127-1463598000-1463603400@www.gapost233.com
SUMMARY:Ride for America Planning Meeting
DESCRIPTION:The Legion Riders and others will meet in the Ladies Auxiliary room to discuss Memorial Day assignments and activities.
URL:http://www.gapost233.com/event/ride-for-america-planning-meeting-3/
LOCATION:Ladies Auxiliary Room
END:VEVENT
BEGIN:VEVENT
DTSTART;TZID=America/New_York:20160427T190000
DTEND;TZID=America/New_York:20160427T210000
DTSTAMP:20260422T052745
CREATED:20160419T004308Z
LAST-MODIFIED:20160419T004308Z
UID:10000125-1461783600-1461790800@www.gapost233.com
SUMMARY:Ride For America Planning Meeting
DESCRIPTION:
URL:http://www.gapost233.com/event/ride-for-america-planning-meeting-2/
LOCATION:Ladies Auxiliary Room
END:VEVENT
BEGIN:VEVENT
DTSTART;TZID=America/New_York:20160316T190000
DTEND;TZID=America/New_York:20160316T203000
DTSTAMP:20260422T052745
CREATED:20160314T000958Z
LAST-MODIFIED:20160314T000958Z
UID:10000477-1458154800-1458160200@www.gapost233.com
SUMMARY:Ride For America Planning Meeting
DESCRIPTION:ALR members and others will gather in the Auxiliary room to continue planning for Ride for America 2016.
URL:http://www.gapost233.com/event/ride-for-america-planning-meeting/
LOCATION:Ladies Auxiliary Room
END:VEVENT
BEGIN:VEVENT
DTSTART;TZID=America/New_York:20160210T190000
DTEND;TZID=America/New_York:20160210T204500
DTSTAMP:20260422T052745
CREATED:20160208T010907Z
LAST-MODIFIED:20160208T010907Z
UID:10000478-1455130800-1455137100@www.gapost233.com
SUMMARY:2016 Ride For America Kickoff Meeting
DESCRIPTION:The Legion Riders will start planning for RFA 2016.
URL:http://www.gapost233.com/event/2016-ride-for-america-kickoff-meeting/
LOCATION:Ladies Auxiliary Room
END:VEVENT
END:VCALENDAR