BEGIN:VCALENDAR
VERSION:2.0
PRODID:-//AMERICAN LEGION POST 233 - ECPv6.10.1.1//NONSGML v1.0//EN
CALSCALE:GREGORIAN
METHOD:PUBLISH
X-ORIGINAL-URL:https://www.gapost233.com
X-WR-CALDESC:Events for AMERICAN LEGION POST 233
REFRESH-INTERVAL;VALUE=DURATION:PT1H
X-Robots-Tag:noindex
X-PUBLISHED-TTL:PT1H
BEGIN:VTIMEZONE
TZID:America/New_York
BEGIN:DAYLIGHT
TZOFFSETFROM:-0500
TZOFFSETTO:-0400
TZNAME:EDT
DTSTART:20190310T070000
END:DAYLIGHT
BEGIN:STANDARD
TZOFFSETFROM:-0400
TZOFFSETTO:-0500
TZNAME:EST
DTSTART:20191103T060000
END:STANDARD
END:VTIMEZONE
BEGIN:VEVENT
DTSTART;TZID=America/New_York:20190201T180000
DTEND;TZID=America/New_York:20190201T230000
DTSTAMP:20260423T141924
CREATED:20170827T222403Z
LAST-MODIFIED:20190128T004245Z
UID:10000497-1549044000-1549062000@www.gapost233.com
SUMMARY:Cancelled! Friday Night Happy Hour- Patriots' Grill Cancelled!
DESCRIPTION:
URL:https://www.gapost233.com/event/friday-night-happy-hour-patriots-grill-2019-02-01/
LOCATION:Post 233\, 4635 Hwy 78\, Loganville\, GA\, 30052\, United States
END:VEVENT
END:VCALENDAR