BEGIN:VCALENDAR
VERSION:2.0
PRODID:-//AMERICAN LEGION POST 233 - ECPv6.10.1.1//NONSGML v1.0//EN
CALSCALE:GREGORIAN
METHOD:PUBLISH
X-WR-CALNAME:AMERICAN LEGION POST 233
X-ORIGINAL-URL:https://www.gapost233.com
X-WR-CALDESC:Events for AMERICAN LEGION POST 233
REFRESH-INTERVAL;VALUE=DURATION:PT1H
X-Robots-Tag:noindex
X-PUBLISHED-TTL:PT1H
BEGIN:VTIMEZONE
TZID:America/New_York
BEGIN:DAYLIGHT
TZOFFSETFROM:-0500
TZOFFSETTO:-0400
TZNAME:EDT
DTSTART:20190310T070000
END:DAYLIGHT
BEGIN:STANDARD
TZOFFSETFROM:-0400
TZOFFSETTO:-0500
TZNAME:EST
DTSTART:20191103T060000
END:STANDARD
END:VTIMEZONE
BEGIN:VEVENT
DTSTART;TZID=America/New_York:20190203T163000
DTEND;TZID=America/New_York:20190203T233000
DTSTAMP:20260423T141815
CREATED:20190128T184224Z
LAST-MODIFIED:20190128T184412Z
UID:10000314-1549211400-1549236600@www.gapost233.com
SUMMARY:Super Bowl LIII Party in the Grill!
DESCRIPTION:Come join us in the Patriots’ Grill for a good time.  Even if you don’t have a team in the game\, come enjoy a cold one with friends.
URL:https://www.gapost233.com/event/super-bowl-liii-party/
LOCATION:GA
END:VEVENT
END:VCALENDAR