BEGIN:VCALENDAR
VERSION:2.0
PRODID:-//AMERICAN LEGION POST 233 - ECPv6.10.1.1//NONSGML v1.0//EN
CALSCALE:GREGORIAN
METHOD:PUBLISH
X-WR-CALNAME:AMERICAN LEGION POST 233
X-ORIGINAL-URL:https://www.gapost233.com
X-WR-CALDESC:Events for AMERICAN LEGION POST 233
REFRESH-INTERVAL;VALUE=DURATION:PT1H
X-Robots-Tag:noindex
X-PUBLISHED-TTL:PT1H
BEGIN:VTIMEZONE
TZID:America/New_York
BEGIN:DAYLIGHT
TZOFFSETFROM:-0500
TZOFFSETTO:-0400
TZNAME:EDT
DTSTART:20200308T070000
END:DAYLIGHT
BEGIN:STANDARD
TZOFFSETFROM:-0400
TZOFFSETTO:-0500
TZNAME:EST
DTSTART:20201101T060000
END:STANDARD
END:VTIMEZONE
BEGIN:VEVENT
DTSTART;TZID=America/New_York:20200313T180000
DTEND;TZID=America/New_York:20200313T230000
DTSTAMP:20260422T125457
CREATED:20170827T222403Z
LAST-MODIFIED:20200313T161845Z
UID:10000528-1584122400-1584140400@www.gapost233.com
SUMMARY:Cancelled! 65 cent wing night! Cancelled!
DESCRIPTION:!!! CANCELLATION NOTICE !!! This morning we received guidance from The American Legion National Commander\, James Oxford\, that underscored how the legion should respond and cooperate with public health in helping to contain the spread of the novel coronavirus that threatens primarily people over 60. Given the continued rise in identified cases and the belief that there are a great number of cases that are not being counted we are looking at all of our options. Tonight there will be an emergency meeting of the leaders of the Legion family to determine how we are going to maintain our mission\, assisting and supporting our veterans\, while also protecting our members\, our customers\, and our friends. \nIn the meantime we are cancelling the following events: \n*Wing Night on Friday 3/13/2020\n*The Country Breakfast on Saturday 3/14/2020 \nWe are evaluating BINGO and other operations tonight and further updates will be provided. We take our responsibility to our community seriously and we can assure you that everything we do is in keeping with our continued ability to serve.
URL:https://www.gapost233.com/event/friday-night-happy-hour-patriots-grill-2020-03-13/
LOCATION:Post 233\, 4635 Hwy 78\, Loganville\, GA\, 30052\, United States
END:VEVENT
END:VCALENDAR