BEGIN:VCALENDAR
VERSION:2.0
PRODID:-//AMERICAN LEGION POST 233 - ECPv6.10.1.1//NONSGML v1.0//EN
CALSCALE:GREGORIAN
METHOD:PUBLISH
X-WR-CALNAME:AMERICAN LEGION POST 233
X-ORIGINAL-URL:https://www.gapost233.com
X-WR-CALDESC:Events for AMERICAN LEGION POST 233
REFRESH-INTERVAL;VALUE=DURATION:PT1H
X-Robots-Tag:noindex
X-PUBLISHED-TTL:PT1H
BEGIN:VTIMEZONE
TZID:America/New_York
BEGIN:DAYLIGHT
TZOFFSETFROM:-0500
TZOFFSETTO:-0400
TZNAME:EDT
DTSTART:20200308T070000
END:DAYLIGHT
BEGIN:STANDARD
TZOFFSETFROM:-0400
TZOFFSETTO:-0500
TZNAME:EST
DTSTART:20201101T060000
END:STANDARD
END:VTIMEZONE
BEGIN:VEVENT
DTSTART;VALUE=DATE:20200804
DTEND;VALUE=DATE:20200805
DTSTAMP:20260422T062948
CREATED:20151110T110335Z
LAST-MODIFIED:20151110T110335Z
UID:10000455-1596499200-1596585599@www.gapost233.com
SUMMARY:Coast Guard Birthday
DESCRIPTION:The Coast Guard is one of America’s five armed forces and traces its founding to Aug. 4\, 1790\, when the first Congress authorized the construction of 10 vessels to enforce tariff and trade laws\, prevent smuggling\, and protect the collection of federal revenue. Responsibilities added over the years included humanitarian duties such as aiding mariners in distress.\nThe service received its present name in 1915 when the Revenue Cutter Service merged with the U.S. Life-Saving Service to form a single maritime service dedicated to the safety of life at sea and enforcing the nation’s maritime laws.\nThe Coast Guard is a multi-mission\, maritime\, military service and the smallest of the five Armed Services. Its mission is to protect the public\, the environment and U.S. economic interests in the nation’s waterways\, along the coast\, on international waters\, or in any maritime region as required to support national security.
URL:https://www.gapost233.com/event/coast-guard-birthday/2020-08-04/
LOCATION:GA
END:VEVENT
BEGIN:VEVENT
DTSTART;TZID=America/New_York:20200804T200000
DTEND;TZID=America/New_York:20200804T210000
DTSTAMP:20260422T062948
CREATED:20181007T182103Z
LAST-MODIFIED:20200705T164755Z
UID:10000554-1596571200-1596574800@www.gapost233.com
SUMMARY:Sons of the American Legion Meeting
DESCRIPTION:The Sons of the Legion meet in conjunction with the American Legion on the First Tuesday of each Month.
URL:https://www.gapost233.com/event/sons-of-the-american-legion-meeting/2020-08-04/
LOCATION:GA
END:VEVENT
END:VCALENDAR