BEGIN:VCALENDAR
VERSION:2.0
PRODID:-//AMERICAN LEGION POST 233 - ECPv6.10.1.1//NONSGML v1.0//EN
CALSCALE:GREGORIAN
METHOD:PUBLISH
X-WR-CALNAME:AMERICAN LEGION POST 233
X-ORIGINAL-URL:https://www.gapost233.com
X-WR-CALDESC:Events for AMERICAN LEGION POST 233
REFRESH-INTERVAL;VALUE=DURATION:PT1H
X-Robots-Tag:noindex
X-PUBLISHED-TTL:PT1H
BEGIN:VTIMEZONE
TZID:America/New_York
BEGIN:DAYLIGHT
TZOFFSETFROM:-0500
TZOFFSETTO:-0400
TZNAME:EDT
DTSTART:20210314T070000
END:DAYLIGHT
BEGIN:STANDARD
TZOFFSETFROM:-0400
TZOFFSETTO:-0500
TZNAME:EST
DTSTART:20211107T060000
END:STANDARD
END:VTIMEZONE
BEGIN:VEVENT
DTSTART;TZID=America/New_York:20210104T193000
DTEND;TZID=America/New_York:20210104T213000
DTSTAMP:20260421T211538
CREATED:20200629T005839Z
LAST-MODIFIED:20201227T200741Z
UID:10001684-1609788600-1609795800@www.gapost233.com
SUMMARY:Cancelled!!! Weekday BINGO Cancelled!!!
DESCRIPTION:A few reminders about our COVID-19 mitigation efforts.\n* Only the front door will be open for entry\, enter and go to the right.\n* Every person will have their temperature checked and will be asked about any recent illness or exposure. Wristbands will be used to designate those who have completed that process.\n* Seats are limited to 170 so players only please.\n* Minimum buy-in is the the four (4) book package for $15.\n* Hand Sanitizers will be available throughout the building and all restrooms will be open.\n* Masks or cloth face coverings are recommended for all players.\n* We will not have our full menu (and may not for a while)\, We will have different selections each day and we will have a selection of chips\, candy\, and soft drinks available.
URL:https://www.gapost233.com/event/weekday-bingo-2021-01-04/
LOCATION:Post 233 Main Hall\, 4635 U.S. 78\, Loganville\, GA\, 30052\, United States
GEO:33.8337745;-83.8911131
X-APPLE-STRUCTURED-LOCATION;VALUE=URI;X-ADDRESS=Post 233 Main Hall 4635 U.S. 78 Loganville GA 30052 United States;X-APPLE-RADIUS=500;X-TITLE=4635 U.S. 78:geo:-83.8911131,33.8337745
END:VEVENT
END:VCALENDAR