BEGIN:VCALENDAR
VERSION:2.0
PRODID:-//AMERICAN LEGION POST 233 - ECPv6.10.1.1//NONSGML v1.0//EN
CALSCALE:GREGORIAN
METHOD:PUBLISH
X-ORIGINAL-URL:https://www.gapost233.com
X-WR-CALDESC:Events for AMERICAN LEGION POST 233
REFRESH-INTERVAL;VALUE=DURATION:PT1H
X-Robots-Tag:noindex
X-PUBLISHED-TTL:PT1H
BEGIN:VTIMEZONE
TZID:America/New_York
BEGIN:DAYLIGHT
TZOFFSETFROM:-0500
TZOFFSETTO:-0400
TZNAME:EDT
DTSTART:20220313T070000
END:DAYLIGHT
BEGIN:STANDARD
TZOFFSETFROM:-0400
TZOFFSETTO:-0500
TZNAME:EST
DTSTART:20221106T060000
END:STANDARD
END:VTIMEZONE
BEGIN:VEVENT
DTSTART;TZID=America/New_York:20220827T090000
DTEND;TZID=America/New_York:20220827T170000
DTSTAMP:20260422T103329
CREATED:20220824T172756Z
LAST-MODIFIED:20220824T194825Z
UID:10000493-1661590800-1661619600@www.gapost233.com
SUMMARY:Business Expo/Flea Market/Craft Show
DESCRIPTION:
URL:https://www.gapost233.com/event/business-expo-flea-market-craft-show/
LOCATION:Post 233 Main Hall\, 4635 U.S. 78\, Loganville\, GA\, 30052\, United States
GEO:33.8337745;-83.8911131
X-APPLE-STRUCTURED-LOCATION;VALUE=URI;X-ADDRESS=Post 233 Main Hall 4635 U.S. 78 Loganville GA 30052 United States;X-APPLE-RADIUS=500;X-TITLE=4635 U.S. 78:geo:-83.8911131,33.8337745
END:VEVENT
END:VCALENDAR