BEGIN:VCALENDAR
VERSION:2.0
PRODID:-//AMERICAN LEGION POST 233 - ECPv6.10.1.1//NONSGML v1.0//EN
CALSCALE:GREGORIAN
METHOD:PUBLISH
X-ORIGINAL-URL:https://www.gapost233.com
X-WR-CALDESC:Events for AMERICAN LEGION POST 233
REFRESH-INTERVAL;VALUE=DURATION:PT1H
X-Robots-Tag:noindex
X-PUBLISHED-TTL:PT1H
BEGIN:VTIMEZONE
TZID:America/New_York
BEGIN:DAYLIGHT
TZOFFSETFROM:-0500
TZOFFSETTO:-0400
TZNAME:EDT
DTSTART:20230312T070000
END:DAYLIGHT
BEGIN:STANDARD
TZOFFSETFROM:-0400
TZOFFSETTO:-0500
TZNAME:EST
DTSTART:20231105T060000
END:STANDARD
END:VTIMEZONE
BEGIN:VEVENT
DTSTART;TZID=America/New_York:20230525T100000
DTEND;TZID=America/New_York:20230525T150000
DTSTAMP:20260423T122336
CREATED:20230506T173909Z
LAST-MODIFIED:20230516T130235Z
UID:10002181-1685008800-1685026800@www.gapost233.com
SUMMARY:Blood Drive
DESCRIPTION:Give the Gift of Life
URL:https://www.gapost233.com/event/blood-drive-14/
LOCATION:Post 233\, 4635 Hwy 78\, Loganville\, GA\, 30052\, United States
END:VEVENT
END:VCALENDAR