BEGIN:VCALENDAR
VERSION:2.0
PRODID:-//AMERICAN LEGION POST 233 - ECPv6.10.1.1//NONSGML v1.0//EN
CALSCALE:GREGORIAN
METHOD:PUBLISH
X-WR-CALNAME:AMERICAN LEGION POST 233
X-ORIGINAL-URL:https://www.gapost233.com
X-WR-CALDESC:Events for AMERICAN LEGION POST 233
REFRESH-INTERVAL;VALUE=DURATION:PT1H
X-Robots-Tag:noindex
X-PUBLISHED-TTL:PT1H
BEGIN:VTIMEZONE
TZID:America/New_York
BEGIN:DAYLIGHT
TZOFFSETFROM:-0500
TZOFFSETTO:-0400
TZNAME:EDT
DTSTART:20250309T070000
END:DAYLIGHT
BEGIN:STANDARD
TZOFFSETFROM:-0400
TZOFFSETTO:-0500
TZNAME:EST
DTSTART:20251102T060000
END:STANDARD
END:VTIMEZONE
BEGIN:VEVENT
DTSTART;TZID=America/New_York:20250405T080000
DTEND;TZID=America/New_York:20250405T103000
DTSTAMP:20260423T052757
CREATED:20250331T182052Z
LAST-MODIFIED:20250331T182052Z
UID:10004946-1743840000-1743849000@www.gapost233.com
SUMMARY:Country Breakfast
DESCRIPTION:Join Us for a Country Breakfast at American Legion Post 233! \n Date: Saturday\, April 5th\, 2025 Time: 8:00 AM – 10:30 AM Location: American Legion Post 233\nFor just $12.00\, treat yourself to a hearty meal that includes:\n Scrambled Eggs Pancakes Sausage & Bacon Sausage Gravy & Biscuits Your choice of Apple Juice\, Orange Juice\, or Coffee\nA portion of the proceeds will support local community initiatives and Veterans programs. \n Support Local. Support Veterans. \nBring your friends and family for a delicious breakfast and help us make a difference in our community. We look forward to seeing you there!\n#SupportVeterans #CommunityPride #AmericanLegionPost233
URL:https://www.gapost233.com/event/country-breakfast-3/
LOCATION:GA
END:VEVENT
END:VCALENDAR