BEGIN:VCALENDAR
VERSION:2.0
PRODID:-//AMERICAN LEGION POST 233 - ECPv6.10.1.1//NONSGML v1.0//EN
CALSCALE:GREGORIAN
METHOD:PUBLISH
X-WR-CALNAME:AMERICAN LEGION POST 233
X-ORIGINAL-URL:https://www.gapost233.com
X-WR-CALDESC:Events for AMERICAN LEGION POST 233
REFRESH-INTERVAL;VALUE=DURATION:PT1H
X-Robots-Tag:noindex
X-PUBLISHED-TTL:PT1H
BEGIN:VTIMEZONE
TZID:America/New_York
BEGIN:DAYLIGHT
TZOFFSETFROM:-0500
TZOFFSETTO:-0400
TZNAME:EDT
DTSTART:20180311T070000
END:DAYLIGHT
BEGIN:STANDARD
TZOFFSETFROM:-0400
TZOFFSETTO:-0500
TZNAME:EST
DTSTART:20181104T060000
END:STANDARD
END:VTIMEZONE
BEGIN:VEVENT
DTSTART;TZID=America/New_York:20181109T180000
DTEND;TZID=America/New_York:20181109T230000
DTSTAMP:20260423T183637
CREATED:20181007T182413Z
LAST-MODIFIED:20181007T182413Z
UID:10000342-1541786400-1541804400@www.gapost233.com
SUMMARY:Post 233 Anniversary Dinner
DESCRIPTION:
URL:https://www.gapost233.com/event/post-233-anniversary-dinner/
LOCATION:GA
END:VEVENT
BEGIN:VEVENT
DTSTART;VALUE=DATE:20181110
DTEND;VALUE=DATE:20181111
DTSTAMP:20260423T183637
CREATED:20151110T105547Z
LAST-MODIFIED:20161110T012327Z
UID:10000405-1541808000-1541894399@www.gapost233.com
SUMMARY:Marine Corps Birthday
DESCRIPTION:On November 10\, 1775\, the Second Continental Congress meeting in Philadelphia passed a resolution stating that “two Battalions of Marines be raised” for service as landing forces with the fleet. This resolution established the Continental Marines and marked the birth date of the United States Marine Corps. Serving on land and at sea\, these first Marines distinguished themselves in a number of important operations\, including their first amphibious raid into the Bahamas in March 1776\, under the command of Captain (later Major) Samuel Nicholas.\n The first commissioned officer in the Continental Marines\, Nicholas remained the senior Marine officer throughout the American Revolution and is considered to be the first Marine Commandant. The Treaty of Paris in April 1783 brought an end to the Revolutionary War and as the last of the Navy’s ships were sold\, the Continental Navy and Marines went out of existence.\nMarine Corps birthday cake	Why the Marine Corps Birthday Matters\nCpl Dakota Meyer	Marine Corps History: The Medal of Honor\nMArine Corps Colors	Marine Corps History: The Marine Corps Flag\nmarine image history seal 250	Marine Corps History: The Emblem and Seal\nFollowing the Revolutionary War\, increasing conflict with Revolutionary France led to the formal re-establishment of the Marine Corps on 11 July 1798. Marines saw action in the quasi-war with France\, landed in Santo Domingo\, and took part in many operations against the Barbary pirates along the “Shores of Tripoli”.\nSince then\, Marines have participated in all the wars of the United States\, and in most cases were the first service members to fight. To date\, Marines have executed more than 300 landings on foreign shores.\nToday\, there are more than 200\,000 active-duty and reserve Marines\, organized into three divisions stationed at Camp Lejeune\, Camp Pendleton and Okinawa\, Japan. Each division has one or more expeditionary units\, ready to launch major operations anywhere on short notice. Marines expeditionary units are self-sufficient\, with their own tanks\, artillery\, and air forces. The motto of the service is Semper Fidelis\, meaning “Always Faithful” in Latin.
URL:https://www.gapost233.com/event/marine-corps-birthday/2018-11-10/
LOCATION:GA
END:VEVENT
BEGIN:VEVENT
DTSTART;TZID=America/New_York:20181110T090000
DTEND;TZID=America/New_York:20181110T150000
DTSTAMP:20260423T183637
CREATED:20181007T182451Z
LAST-MODIFIED:20181007T182451Z
UID:10000344-1541840400-1541862000@www.gapost233.com
SUMMARY:Abate Chili Cookoff
DESCRIPTION:
URL:https://www.gapost233.com/event/abate-chili-cookoff/
LOCATION:GA
END:VEVENT
BEGIN:VEVENT
DTSTART;TZID=America/New_York:20181111T100000
DTEND;TZID=America/New_York:20181111T130000
DTSTAMP:20260423T183637
CREATED:20181007T182543Z
LAST-MODIFIED:20181007T182551Z
UID:10000346-1541930400-1541941200@www.gapost233.com
SUMMARY:Veterans Day Ceremony
DESCRIPTION:
URL:https://www.gapost233.com/event/veterans-day-ceremony/
LOCATION:GA
END:VEVENT
BEGIN:VEVENT
DTSTART;TZID=America/New_York:20181112T080000
DTEND;TZID=America/New_York:20181112T170000
DTSTAMP:20260423T183637
CREATED:20181007T182629Z
LAST-MODIFIED:20181007T182629Z
UID:10000347-1542009600-1542042000@www.gapost233.com
SUMMARY:Walton County Veterans Memorial Dedication
DESCRIPTION:
URL:https://www.gapost233.com/event/walton-county-veterans-memorial-dedication/
LOCATION:GA
END:VEVENT
BEGIN:VEVENT
DTSTART;TZID=America/New_York:20181115T100000
DTEND;TZID=America/New_York:20181115T150000
DTSTAMP:20260423T183637
CREATED:20180112T140421Z
LAST-MODIFIED:20180112T140421Z
UID:10000503-1542276000-1542294000@www.gapost233.com
SUMMARY:Blood Drive
DESCRIPTION:The American Legion Post 233 is hosting a blood drive with the American Red Cross today from 10:00am to 3:00pm. Stop in today and Donate Life. \nTo make appointments to donate blood\, please call:\nViolet or Jerry Mahaffey at 770-963-1395
URL:https://www.gapost233.com/event/blood-drive-12/
LOCATION:GA
END:VEVENT
BEGIN:VEVENT
DTSTART;TZID=America/New_York:20181116T190000
DTEND;TZID=America/New_York:20181116T210000
DTSTAMP:20260423T183637
CREATED:20150426T152120Z
LAST-MODIFIED:20171226T170140Z
UID:10000193-1542394800-1542402000@www.gapost233.com
SUMMARY:ALR Meeting
DESCRIPTION:The American Legion Riders will meet tonight at 7:00pm. Guests are welcome to attend the meeting to learn more about this very active group.
URL:https://www.gapost233.com/event/alr-meeting/2018-11-16/
LOCATION:Robert Boss Pavilion\, 4635 U.S. 78\, Loganville\, GA\, 30052\, United States
END:VEVENT
BEGIN:VEVENT
DTSTART;TZID=America/New_York:20181118T140000
DTEND;TZID=America/New_York:20181118T160000
DTSTAMP:20260423T183637
CREATED:20180304T195801Z
LAST-MODIFIED:20181113T122959Z
UID:10000507-1542549600-1542556800@www.gapost233.com
SUMMARY:Cancelled!!! Sunday BINGO Cancelled!!!
DESCRIPTION:Our post is hosting the district meeting that Sunday… but good news!  Come see us Friday for some really big fun! \n2018 Special Bingo Game Listing- Black Friday
URL:https://www.gapost233.com/event/sunday-bingo-2018-11-18/
LOCATION:Post 233 Main Hall\, 4635 U.S. 78\, Loganville\, GA\, 30052\, United States
GEO:33.8337745;-83.8911131
X-APPLE-STRUCTURED-LOCATION;VALUE=URI;X-ADDRESS=Post 233 Main Hall 4635 U.S. 78 Loganville GA 30052 United States;X-APPLE-RADIUS=500;X-TITLE=4635 U.S. 78:geo:-83.8911131,33.8337745
END:VEVENT
BEGIN:VEVENT
DTSTART;TZID=America/New_York:20181120T190000
DTEND;TZID=America/New_York:20181120T210000
DTSTAMP:20260423T183637
CREATED:20150426T152120Z
LAST-MODIFIED:20181114T234441Z
UID:10000382-1542740400-1542747600@www.gapost233.com
SUMMARY:Cancelled! ALR Meeting Cancelled!
DESCRIPTION:Our November meeting is cancelled so our folks can enjoy Thanksgiving week with their families.
URL:https://www.gapost233.com/event/alr-meeting-2018-11-20/
LOCATION:Robert Boss Pavilion\, 4635 U.S. 78\, Loganville\, GA\, 30052\, United States
END:VEVENT
BEGIN:VEVENT
DTSTART;TZID=America/New_York:20181122T193000
DTEND;TZID=America/New_York:20181122T210000
DTSTAMP:20260423T183637
CREATED:20180304T195519Z
LAST-MODIFIED:20181119T155854Z
UID:10000304-1542915000-1542920400@www.gapost233.com
SUMMARY:Cancelled! Weekday BINGO Cancelled!
DESCRIPTION:Enjoy your Thanksgiving!
URL:https://www.gapost233.com/event/weekday-bingo-2018-11-22/
LOCATION:Post 233 Main Hall\, 4635 U.S. 78\, Loganville\, GA\, 30052\, United States
GEO:33.8337745;-83.8911131
X-APPLE-STRUCTURED-LOCATION;VALUE=URI;X-ADDRESS=Post 233 Main Hall 4635 U.S. 78 Loganville GA 30052 United States;X-APPLE-RADIUS=500;X-TITLE=4635 U.S. 78:geo:-83.8911131,33.8337745
END:VEVENT
BEGIN:VEVENT
DTSTART;TZID=America/New_York:20181123T170000
DTEND;TZID=America/New_York:20181123T213000
DTSTAMP:20260423T183637
CREATED:20181113T123148Z
LAST-MODIFIED:20181113T123148Z
UID:10000055-1542992400-1543008600@www.gapost233.com
SUMMARY:Black Friday BINGO 2018!  $3000 Payout!
DESCRIPTION:href=”http://www.gapost233.com/wp-content/uploads/2018/03/BFBINGO18.jpg”> \n2018 Special Bingo Game Listing- Black Friday
URL:https://www.gapost233.com/event/black-friday-bingo-2018-3000-payout/
LOCATION:Post 233 Main Hall\, 4635 U.S. 78\, Loganville\, GA\, 30052\, United States
GEO:33.8337745;-83.8911131
X-APPLE-STRUCTURED-LOCATION;VALUE=URI;X-ADDRESS=Post 233 Main Hall 4635 U.S. 78 Loganville GA 30052 United States;X-APPLE-RADIUS=500;X-TITLE=4635 U.S. 78:geo:-83.8911131,33.8337745
END:VEVENT
BEGIN:VEVENT
DTSTART;TZID=America/New_York:20181123T180000
DTEND;TZID=America/New_York:20181123T230000
DTSTAMP:20260423T183637
CREATED:20170827T222403Z
LAST-MODIFIED:20181119T160033Z
UID:10000496-1542996000-1543014000@www.gapost233.com
SUMMARY:Cancelled! Friday Night Happy Hour- Patriots' Grill Cancelled!
DESCRIPTION:The grille will be closed but you can enjoy black Friday BINGO in the main hall.
URL:https://www.gapost233.com/event/friday-night-happy-hour-patriots-grill-2018-11-23/
LOCATION:Post 233\, 4635 Hwy 78\, Loganville\, GA\, 30052\, United States
END:VEVENT
END:VCALENDAR