BEGIN:VCALENDAR
VERSION:2.0
PRODID:-//AMERICAN LEGION POST 233 - ECPv6.10.1.1//NONSGML v1.0//EN
CALSCALE:GREGORIAN
METHOD:PUBLISH
X-ORIGINAL-URL:https://www.gapost233.com
X-WR-CALDESC:Events for AMERICAN LEGION POST 233
REFRESH-INTERVAL;VALUE=DURATION:PT1H
X-Robots-Tag:noindex
X-PUBLISHED-TTL:PT1H
BEGIN:VTIMEZONE
TZID:America/New_York
BEGIN:DAYLIGHT
TZOFFSETFROM:-0500
TZOFFSETTO:-0400
TZNAME:EDT
DTSTART:20190310T070000
END:DAYLIGHT
BEGIN:STANDARD
TZOFFSETFROM:-0400
TZOFFSETTO:-0500
TZNAME:EST
DTSTART:20191103T060000
END:STANDARD
END:VTIMEZONE
BEGIN:VEVENT
DTSTART;VALUE=DATE:20190804
DTEND;VALUE=DATE:20190805
DTSTAMP:20260423T040028
CREATED:20151110T110335Z
LAST-MODIFIED:20151110T110335Z
UID:10000454-1564876800-1564963199@www.gapost233.com
SUMMARY:Coast Guard Birthday
DESCRIPTION:The Coast Guard is one of America’s five armed forces and traces its founding to Aug. 4\, 1790\, when the first Congress authorized the construction of 10 vessels to enforce tariff and trade laws\, prevent smuggling\, and protect the collection of federal revenue. Responsibilities added over the years included humanitarian duties such as aiding mariners in distress.\nThe service received its present name in 1915 when the Revenue Cutter Service merged with the U.S. Life-Saving Service to form a single maritime service dedicated to the safety of life at sea and enforcing the nation’s maritime laws.\nThe Coast Guard is a multi-mission\, maritime\, military service and the smallest of the five Armed Services. Its mission is to protect the public\, the environment and U.S. economic interests in the nation’s waterways\, along the coast\, on international waters\, or in any maritime region as required to support national security.
URL:https://www.gapost233.com/event/coast-guard-birthday/2019-08-04/
LOCATION:GA
END:VEVENT
BEGIN:VEVENT
DTSTART;TZID=America/New_York:20190806T200000
DTEND;TZID=America/New_York:20190806T210000
DTSTAMP:20260423T040028
CREATED:20181007T182103Z
LAST-MODIFIED:20200705T164755Z
UID:10000547-1565121600-1565125200@www.gapost233.com
SUMMARY:Sons of the American Legion Meeting
DESCRIPTION:The Sons of the Legion meet in conjunction with the American Legion on the First Tuesday of each Month.
URL:https://www.gapost233.com/event/sons-of-the-american-legion-meeting/2019-08-06/
LOCATION:GA
END:VEVENT
BEGIN:VEVENT
DTSTART;TZID=America/New_York:20190816T190000
DTEND;TZID=America/New_York:20190816T210000
DTSTAMP:20260423T040028
CREATED:20150426T152120Z
LAST-MODIFIED:20171226T170140Z
UID:10000202-1565982000-1565989200@www.gapost233.com
SUMMARY:ALR Meeting
DESCRIPTION:The American Legion Riders will meet tonight at 7:00pm. Guests are welcome to attend the meeting to learn more about this very active group.
URL:https://www.gapost233.com/event/alr-meeting/2019-08-16/
LOCATION:Robert Boss Pavilion\, 4635 U.S. 78\, Loganville\, GA\, 30052\, United States
END:VEVENT
BEGIN:VEVENT
DTSTART;TZID=America/New_York:20190822T100000
DTEND;TZID=America/New_York:20190822T150000
DTSTAMP:20260423T040028
CREATED:20190725T212059Z
LAST-MODIFIED:20190725T212059Z
UID:10000377-1566468000-1566486000@www.gapost233.com
SUMMARY:Red Cross Blood Drive
DESCRIPTION:The American Legion Post 233 is hosting a blood drive with the American Red Cross today from 10:00am to 3:00pm. Stop in today and Donate Life. \nTo make appointments to donate blood\, please call:\nViolet or Jerry Mahaffey at 770-963-1395
URL:https://www.gapost233.com/event/red-cross-blood-drive/
LOCATION:GA
END:VEVENT
END:VCALENDAR