BEGIN:VCALENDAR
VERSION:2.0
PRODID:-//AMERICAN LEGION POST 233 - ECPv6.10.1.1//NONSGML v1.0//EN
CALSCALE:GREGORIAN
METHOD:PUBLISH
X-ORIGINAL-URL:https://www.gapost233.com
X-WR-CALDESC:Events for AMERICAN LEGION POST 233
REFRESH-INTERVAL;VALUE=DURATION:PT1H
X-Robots-Tag:noindex
X-PUBLISHED-TTL:PT1H
BEGIN:VTIMEZONE
TZID:America/New_York
BEGIN:DAYLIGHT
TZOFFSETFROM:-0500
TZOFFSETTO:-0400
TZNAME:EDT
DTSTART:20190310T070000
END:DAYLIGHT
BEGIN:STANDARD
TZOFFSETFROM:-0400
TZOFFSETTO:-0500
TZNAME:EST
DTSTART:20191103T060000
END:STANDARD
END:VTIMEZONE
BEGIN:VEVENT
DTSTART;TZID=America/New_York:20191203T200000
DTEND;TZID=America/New_York:20191203T210000
DTSTAMP:20260422T180404
CREATED:20181007T182103Z
LAST-MODIFIED:20200705T164755Z
UID:10000550-1575403200-1575406800@www.gapost233.com
SUMMARY:Sons of the American Legion Meeting
DESCRIPTION:The Sons of the Legion meet in conjunction with the American Legion on the First Tuesday of each Month.
URL:https://www.gapost233.com/event/sons-of-the-american-legion-meeting/2019-12-03/
LOCATION:GA
END:VEVENT
BEGIN:VEVENT
DTSTART;TZID=America/New_York:20191207T080000
DTEND;TZID=America/New_York:20191207T110000
DTSTAMP:20260422T180404
CREATED:20150123T144531Z
LAST-MODIFIED:20191110T172533Z
UID:10000310-1575705600-1575716400@www.gapost233.com
SUMMARY:ALR Hosted Country Breakfast
DESCRIPTION:Give yourself a break and get out of the kitchen!!!\nStop in at the American Legion for a country breakfast this morning between 8am and 11am. All proceeds benefit the many charities American Legion Post 233 support. \nUnder 3 Free\n4-12 $6.00\n12 + $7.00
URL:https://www.gapost233.com/event/alr-hosted-pancake-breakfast-2019-12-14/
LOCATION:Post 233 Main Hall\, 4635 U.S. 78\, Loganville\, GA\, 30052\, United States
GEO:33.8337745;-83.8911131
X-APPLE-STRUCTURED-LOCATION;VALUE=URI;X-ADDRESS=Post 233 Main Hall 4635 U.S. 78 Loganville GA 30052 United States;X-APPLE-RADIUS=500;X-TITLE=4635 U.S. 78:geo:-83.8911131,33.8337745
END:VEVENT
BEGIN:VEVENT
DTSTART;TZID=America/New_York:20191207T090000
DTEND;TZID=America/New_York:20191207T150000
DTSTAMP:20260422T180404
CREATED:20191110T172334Z
LAST-MODIFIED:20191110T172334Z
UID:10000648-1575709200-1575730800@www.gapost233.com
SUMMARY:Christmas Craft Fair
DESCRIPTION:local crafters\, buffet breakfast… gonna be a great day!
URL:https://www.gapost233.com/event/christmas-craft-fair/
LOCATION:GA
END:VEVENT
BEGIN:VEVENT
DTSTART;TZID=America/New_York:20191216T190000
DTEND;TZID=America/New_York:20191216T210000
DTSTAMP:20260422T180404
CREATED:20150426T152120Z
LAST-MODIFIED:20171226T170140Z
UID:10000206-1576522800-1576530000@www.gapost233.com
SUMMARY:ALR Meeting
DESCRIPTION:The American Legion Riders will meet tonight at 7:00pm. Guests are welcome to attend the meeting to learn more about this very active group.
URL:https://www.gapost233.com/event/alr-meeting/2019-12-16/
LOCATION:Robert Boss Pavilion\, 4635 U.S. 78\, Loganville\, GA\, 30052\, United States
END:VEVENT
BEGIN:VEVENT
DTSTART;TZID=America/New_York:20191217T170000
DTEND;TZID=America/New_York:20191217T200000
DTSTAMP:20260422T180404
CREATED:20191110T172430Z
LAST-MODIFIED:20191110T172430Z
UID:10000649-1576602000-1576612800@www.gapost233.com
SUMMARY:Childrens' Christmas Party
DESCRIPTION:
URL:https://www.gapost233.com/event/childrens-christmas-party-3/
LOCATION:GA
END:VEVENT
BEGIN:VEVENT
DTSTART;TZID=America/New_York:20191225T193000
DTEND;TZID=America/New_York:20191225T213000
DTSTAMP:20260422T180404
CREATED:20181218T171242Z
LAST-MODIFIED:20191110T172654Z
UID:10000514-1577302200-1577309400@www.gapost233.com
SUMMARY:Cancelled! Weekday BINGO Cancelled!
DESCRIPTION:Merry Christmas to ALL… Join us on Monday the 23rd for a double BINGO session
URL:https://www.gapost233.com/event/weekday-bingo-2019-12-25/
LOCATION:Post 233 Main Hall\, 4635 U.S. 78\, Loganville\, GA\, 30052\, United States
GEO:33.8337745;-83.8911131
X-APPLE-STRUCTURED-LOCATION;VALUE=URI;X-ADDRESS=Post 233 Main Hall 4635 U.S. 78 Loganville GA 30052 United States;X-APPLE-RADIUS=500;X-TITLE=4635 U.S. 78:geo:-83.8911131,33.8337745
END:VEVENT
BEGIN:VEVENT
DTSTART;TZID=America/New_York:20191228T200000
DTEND;TZID=America/New_York:20191228T233000
DTSTAMP:20260422T180404
CREATED:20180401T164100Z
LAST-MODIFIED:20191211T222019Z
UID:10000509-1577563200-1577575800@www.gapost233.com
SUMMARY:Cancelled! ~~Dance and Live Music ~~Cancelled! Come NYE!
DESCRIPTION:Dance the night away on our LARGE Dance Floor! \n~Everyone is Welcome~ \nCome out and dance starting at 8:00pm. Only $8 per person or $15 per couple. Full bar and food service running all night. Have a great time on our large dance floor and enjoy the live music!  See the upcoming bands here: Band List
URL:https://www.gapost233.com/event/dance-and-live-music-2019-12-28/
LOCATION:Post 233 Main Hall\, 4635 U.S. 78\, Loganville\, GA\, 30052\, United States
GEO:33.8337745;-83.8911131
X-APPLE-STRUCTURED-LOCATION;VALUE=URI;X-ADDRESS=Post 233 Main Hall 4635 U.S. 78 Loganville GA 30052 United States;X-APPLE-RADIUS=500;X-TITLE=4635 U.S. 78:geo:-83.8911131,33.8337745
END:VEVENT
END:VCALENDAR