BEGIN:VCALENDAR
VERSION:2.0
PRODID:-//AMERICAN LEGION POST 233 - ECPv6.10.1.1//NONSGML v1.0//EN
CALSCALE:GREGORIAN
METHOD:PUBLISH
X-WR-CALNAME:AMERICAN LEGION POST 233
X-ORIGINAL-URL:https://www.gapost233.com
X-WR-CALDESC:Events for AMERICAN LEGION POST 233
REFRESH-INTERVAL;VALUE=DURATION:PT1H
X-Robots-Tag:noindex
X-PUBLISHED-TTL:PT1H
BEGIN:VTIMEZONE
TZID:America/New_York
BEGIN:DAYLIGHT
TZOFFSETFROM:-0500
TZOFFSETTO:-0400
TZNAME:EDT
DTSTART:20200308T070000
END:DAYLIGHT
BEGIN:STANDARD
TZOFFSETFROM:-0400
TZOFFSETTO:-0500
TZNAME:EST
DTSTART:20201101T060000
END:STANDARD
END:VTIMEZONE
BEGIN:VEVENT
DTSTART;TZID=America/New_York:20200602T190000
DTEND;TZID=America/New_York:20200602T210000
DTSTAMP:20260422T073312
CREATED:20181007T182103Z
LAST-MODIFIED:20200528T170711Z
UID:10000339-1591124400-1591131600@www.gapost233.com
SUMMARY:Cancelled! Sons of the American Legion Meeting Cancelled!
DESCRIPTION:
URL:https://www.gapost233.com/event/sons-of-the-american-legion-meeting-2020-06-02/
LOCATION:GA
END:VEVENT
BEGIN:VEVENT
DTSTART;VALUE=DATE:20200614
DTEND;VALUE=DATE:20200615
DTSTAMP:20260422T073312
CREATED:20151110T105736Z
LAST-MODIFIED:20151110T105736Z
UID:10000419-1592092800-1592179199@www.gapost233.com
SUMMARY:Army Birthday
DESCRIPTION:When the American Revolution broke out\, the rebellious colonies did not possess an army in the modern sense. Rather\, the revolutionaries fielded an amateur force of colonial troops\, cobbled together from various New England militia companies.  They had no unified chain of command\, and although Artemas Ward of Massachusetts exercised authority by informal agreement\, officers from other colonies were not obligated to obey his orders.  The American volunteers were led\, equipped\, armed\, paid for\, and supported by the colonies from which they were raised.   \nIn the spring of 1775\, this “army” was about to confront British troops near Boston\, Massachusetts. The revolutionaries had to re-organize their forces quickly if they were to stand a chance against Britain’s seasoned professionals. Recognizing the need to enlist the support of all of the American seaboard colonies\, the Massachusetts Provincial Congress appealed to the Second Continental Congress in Philadelphia to assume authority for the New England army.  Reportedly\, at John Adams’ request\, Congress voted to “adopt” the Boston troops on June 14\, although there is no written record of this decision.  Also on this day\, Congress resolved to form a committee “to bring in a draft of rules and regulations for the government of the Army\,” and voted $2\,000\,000 to support the forces around Boston\, and those at New York City.  Moreover\, Congress authorized the formation of ten companies of expert riflemen from Pennsylvania\, Maryland\, and Virginia\, which were directed to march to Boston to support the New England militia.  \nGeorge Washington received his appointment as commander-in-chief of the Continental Army the next day\, and formally took command at Boston on July 3\, 1775.
URL:https://www.gapost233.com/event/army-birthday/2020-06-14/
LOCATION:GA
END:VEVENT
BEGIN:VEVENT
DTSTART;TZID=America/New_York:20200616T190000
DTEND;TZID=America/New_York:20200616T210000
DTSTAMP:20260422T073312
CREATED:20150426T152120Z
LAST-MODIFIED:20171226T170140Z
UID:10000212-1592334000-1592341200@www.gapost233.com
SUMMARY:ALR Meeting
DESCRIPTION:The American Legion Riders will meet tonight at 7:00pm. Guests are welcome to attend the meeting to learn more about this very active group.
URL:https://www.gapost233.com/event/alr-meeting/2020-06-16/
LOCATION:Robert Boss Pavilion\, 4635 U.S. 78\, Loganville\, GA\, 30052\, United States
END:VEVENT
BEGIN:VEVENT
DTSTART;VALUE=DATE:20200622
DTEND;VALUE=DATE:20200623
DTSTAMP:20260422T073312
CREATED:20250403T162940Z
LAST-MODIFIED:20250405T154811Z
UID:10001669-1592784000-1592870399@www.gapost233.com
SUMMARY:No BINGO TONIGHT
DESCRIPTION:NO BINGO TONIGHT – Make up BINGO (Double BINGO) will be April 9th\, 2025
URL:https://www.gapost233.com/event/sunday-bingo-3/
LOCATION:GA
END:VEVENT
BEGIN:VEVENT
DTSTART;TZID=America/New_York:20200629T193000
DTEND;TZID=America/New_York:20200629T213000
DTSTAMP:20260422T073312
CREATED:20200629T005839Z
LAST-MODIFIED:20220707T111956Z
UID:10000655-1593459000-1593466200@www.gapost233.com
SUMMARY:Weekday BINGO
DESCRIPTION:Doors Open at 5PM\, Raffle Games after 6:00PM\, BINGO at 7:30 PM \nMinimum $15 buy-in\, must be 8 years or older to attend.
URL:https://www.gapost233.com/event/weekday-bingo/2020-06-29/
LOCATION:Post 233 Main Hall\, 4635 U.S. 78\, Loganville\, GA\, 30052\, United States
GEO:33.8337745;-83.8911131
X-APPLE-STRUCTURED-LOCATION;VALUE=URI;X-ADDRESS=Post 233 Main Hall 4635 U.S. 78 Loganville GA 30052 United States;X-APPLE-RADIUS=500;X-TITLE=4635 U.S. 78:geo:-83.8911131,33.8337745
END:VEVENT
END:VCALENDAR