BEGIN:VCALENDAR
VERSION:2.0
PRODID:-//AMERICAN LEGION POST 233 - ECPv6.10.1.1//NONSGML v1.0//EN
CALSCALE:GREGORIAN
METHOD:PUBLISH
X-ORIGINAL-URL:https://www.gapost233.com
X-WR-CALDESC:Events for AMERICAN LEGION POST 233
REFRESH-INTERVAL;VALUE=DURATION:PT1H
X-Robots-Tag:noindex
X-PUBLISHED-TTL:PT1H
BEGIN:VTIMEZONE
TZID:America/New_York
BEGIN:DAYLIGHT
TZOFFSETFROM:-0500
TZOFFSETTO:-0400
TZNAME:EDT
DTSTART:20200308T070000
END:DAYLIGHT
BEGIN:STANDARD
TZOFFSETFROM:-0400
TZOFFSETTO:-0500
TZNAME:EST
DTSTART:20201101T060000
END:STANDARD
END:VTIMEZONE
BEGIN:VEVENT
DTSTART;TZID=America/New_York:20200901T200000
DTEND;TZID=America/New_York:20200901T210000
DTSTAMP:20260422T035533
CREATED:20181007T182103Z
LAST-MODIFIED:20200705T164755Z
UID:10000555-1598990400-1598994000@www.gapost233.com
SUMMARY:Sons of the American Legion Meeting
DESCRIPTION:The Sons of the Legion meet in conjunction with the American Legion on the First Tuesday of each Month.
URL:https://www.gapost233.com/event/sons-of-the-american-legion-meeting/2020-09-01/
LOCATION:GA
END:VEVENT
BEGIN:VEVENT
DTSTART;TZID=America/New_York:20200901T200000
DTEND;TZID=America/New_York:20200901T210000
DTSTAMP:20260422T035533
CREATED:20200810T223314Z
LAST-MODIFIED:20200810T223314Z
UID:10000131-1598990400-1598994000@www.gapost233.com
SUMMARY:Post 233 American Legion Meeting
DESCRIPTION:Our Monthly meeting!  A great time to find out what your local legion is up to!
URL:https://www.gapost233.com/event/post-233-american-legion-meeting/2020-09-01/
LOCATION:Post 233 Main Hall\, 4635 U.S. 78\, Loganville\, GA\, 30052\, United States
GEO:33.8337745;-83.8911131
X-APPLE-STRUCTURED-LOCATION;VALUE=URI;X-ADDRESS=Post 233 Main Hall 4635 U.S. 78 Loganville GA 30052 United States;X-APPLE-RADIUS=500;X-TITLE=4635 U.S. 78:geo:-83.8911131,33.8337745
END:VEVENT
BEGIN:VEVENT
DTSTART;TZID=America/New_York:20200902T193000
DTEND;TZID=America/New_York:20200902T213000
DTSTAMP:20260422T035533
CREATED:20200629T005839Z
LAST-MODIFIED:20220707T111956Z
UID:10000683-1599075000-1599082200@www.gapost233.com
SUMMARY:Weekday BINGO
DESCRIPTION:Doors Open at 5PM\, Raffle Games after 6:00PM\, BINGO at 7:30 PM \nMinimum $15 buy-in\, must be 8 years or older to attend.
URL:https://www.gapost233.com/event/weekday-bingo/2020-09-02/
LOCATION:Post 233 Main Hall\, 4635 U.S. 78\, Loganville\, GA\, 30052\, United States
GEO:33.8337745;-83.8911131
X-APPLE-STRUCTURED-LOCATION;VALUE=URI;X-ADDRESS=Post 233 Main Hall 4635 U.S. 78 Loganville GA 30052 United States;X-APPLE-RADIUS=500;X-TITLE=4635 U.S. 78:geo:-83.8911131,33.8337745
END:VEVENT
BEGIN:VEVENT
DTSTART;TZID=America/New_York:20200903T193000
DTEND;TZID=America/New_York:20200903T213000
DTSTAMP:20260422T035533
CREATED:20200629T005839Z
LAST-MODIFIED:20220707T111956Z
UID:10000684-1599161400-1599168600@www.gapost233.com
SUMMARY:Weekday BINGO
DESCRIPTION:Doors Open at 5PM\, Raffle Games after 6:00PM\, BINGO at 7:30 PM \nMinimum $15 buy-in\, must be 8 years or older to attend.
URL:https://www.gapost233.com/event/weekday-bingo/2020-09-03/
LOCATION:Post 233 Main Hall\, 4635 U.S. 78\, Loganville\, GA\, 30052\, United States
GEO:33.8337745;-83.8911131
X-APPLE-STRUCTURED-LOCATION;VALUE=URI;X-ADDRESS=Post 233 Main Hall 4635 U.S. 78 Loganville GA 30052 United States;X-APPLE-RADIUS=500;X-TITLE=4635 U.S. 78:geo:-83.8911131,33.8337745
END:VEVENT
BEGIN:VEVENT
DTSTART;TZID=America/New_York:20200906T140000
DTEND;TZID=America/New_York:20200906T163000
DTSTAMP:20260422T035533
CREATED:20200629T010314Z
LAST-MODIFIED:20231221T194817Z
UID:10001431-1599400800-1599409800@www.gapost233.com
SUMMARY:Sunday BINGO
DESCRIPTION:Doors Open at  Noon\, Raffle Games after 1:00PM\, BINGO at 2:00 PM \nMinimum $15 buy-in\, must be 8 years or older to attend.
URL:https://www.gapost233.com/event/sunday-bingo/2020-09-06/
LOCATION:GA
END:VEVENT
BEGIN:VEVENT
DTSTART;TZID=America/New_York:20200907T193000
DTEND;TZID=America/New_York:20200907T213000
DTSTAMP:20260422T035533
CREATED:20200629T005839Z
LAST-MODIFIED:20220707T111956Z
UID:10000685-1599507000-1599514200@www.gapost233.com
SUMMARY:Weekday BINGO
DESCRIPTION:Doors Open at 5PM\, Raffle Games after 6:00PM\, BINGO at 7:30 PM \nMinimum $15 buy-in\, must be 8 years or older to attend.
URL:https://www.gapost233.com/event/weekday-bingo/2020-09-07/
LOCATION:Post 233 Main Hall\, 4635 U.S. 78\, Loganville\, GA\, 30052\, United States
GEO:33.8337745;-83.8911131
X-APPLE-STRUCTURED-LOCATION;VALUE=URI;X-ADDRESS=Post 233 Main Hall 4635 U.S. 78 Loganville GA 30052 United States;X-APPLE-RADIUS=500;X-TITLE=4635 U.S. 78:geo:-83.8911131,33.8337745
END:VEVENT
BEGIN:VEVENT
DTSTART;TZID=America/New_York:20200909T193000
DTEND;TZID=America/New_York:20200909T213000
DTSTAMP:20260422T035533
CREATED:20200629T005839Z
LAST-MODIFIED:20220707T111956Z
UID:10000686-1599679800-1599687000@www.gapost233.com
SUMMARY:Weekday BINGO
DESCRIPTION:Doors Open at 5PM\, Raffle Games after 6:00PM\, BINGO at 7:30 PM \nMinimum $15 buy-in\, must be 8 years or older to attend.
URL:https://www.gapost233.com/event/weekday-bingo/2020-09-09/
LOCATION:Post 233 Main Hall\, 4635 U.S. 78\, Loganville\, GA\, 30052\, United States
GEO:33.8337745;-83.8911131
X-APPLE-STRUCTURED-LOCATION;VALUE=URI;X-ADDRESS=Post 233 Main Hall 4635 U.S. 78 Loganville GA 30052 United States;X-APPLE-RADIUS=500;X-TITLE=4635 U.S. 78:geo:-83.8911131,33.8337745
END:VEVENT
BEGIN:VEVENT
DTSTART;TZID=America/New_York:20200910T193000
DTEND;TZID=America/New_York:20200910T213000
DTSTAMP:20260422T035533
CREATED:20200629T005839Z
LAST-MODIFIED:20220707T111956Z
UID:10000687-1599766200-1599773400@www.gapost233.com
SUMMARY:Weekday BINGO
DESCRIPTION:Doors Open at 5PM\, Raffle Games after 6:00PM\, BINGO at 7:30 PM \nMinimum $15 buy-in\, must be 8 years or older to attend.
URL:https://www.gapost233.com/event/weekday-bingo/2020-09-10/
LOCATION:Post 233 Main Hall\, 4635 U.S. 78\, Loganville\, GA\, 30052\, United States
GEO:33.8337745;-83.8911131
X-APPLE-STRUCTURED-LOCATION;VALUE=URI;X-ADDRESS=Post 233 Main Hall 4635 U.S. 78 Loganville GA 30052 United States;X-APPLE-RADIUS=500;X-TITLE=4635 U.S. 78:geo:-83.8911131,33.8337745
END:VEVENT
BEGIN:VEVENT
DTSTART;TZID=America/New_York:20200913T140000
DTEND;TZID=America/New_York:20200913T163000
DTSTAMP:20260422T035533
CREATED:20200629T010314Z
LAST-MODIFIED:20231221T194817Z
UID:10001432-1600005600-1600014600@www.gapost233.com
SUMMARY:Sunday BINGO
DESCRIPTION:Doors Open at  Noon\, Raffle Games after 1:00PM\, BINGO at 2:00 PM \nMinimum $15 buy-in\, must be 8 years or older to attend.
URL:https://www.gapost233.com/event/sunday-bingo/2020-09-13/
LOCATION:GA
END:VEVENT
BEGIN:VEVENT
DTSTART;TZID=America/New_York:20200914T193000
DTEND;TZID=America/New_York:20200914T213000
DTSTAMP:20260422T035533
CREATED:20200629T005839Z
LAST-MODIFIED:20220707T111956Z
UID:10000688-1600111800-1600119000@www.gapost233.com
SUMMARY:Weekday BINGO
DESCRIPTION:Doors Open at 5PM\, Raffle Games after 6:00PM\, BINGO at 7:30 PM \nMinimum $15 buy-in\, must be 8 years or older to attend.
URL:https://www.gapost233.com/event/weekday-bingo/2020-09-14/
LOCATION:Post 233 Main Hall\, 4635 U.S. 78\, Loganville\, GA\, 30052\, United States
GEO:33.8337745;-83.8911131
X-APPLE-STRUCTURED-LOCATION;VALUE=URI;X-ADDRESS=Post 233 Main Hall 4635 U.S. 78 Loganville GA 30052 United States;X-APPLE-RADIUS=500;X-TITLE=4635 U.S. 78:geo:-83.8911131,33.8337745
END:VEVENT
BEGIN:VEVENT
DTSTART;TZID=America/New_York:20200916T190000
DTEND;TZID=America/New_York:20200916T210000
DTSTAMP:20260422T035533
CREATED:20150426T152120Z
LAST-MODIFIED:20171226T170140Z
UID:10000215-1600282800-1600290000@www.gapost233.com
SUMMARY:ALR Meeting
DESCRIPTION:The American Legion Riders will meet tonight at 7:00pm. Guests are welcome to attend the meeting to learn more about this very active group.
URL:https://www.gapost233.com/event/alr-meeting/2020-09-16/
LOCATION:Robert Boss Pavilion\, 4635 U.S. 78\, Loganville\, GA\, 30052\, United States
END:VEVENT
BEGIN:VEVENT
DTSTART;TZID=America/New_York:20200916T193000
DTEND;TZID=America/New_York:20200916T213000
DTSTAMP:20260422T035533
CREATED:20200629T005839Z
LAST-MODIFIED:20220707T111956Z
UID:10000689-1600284600-1600291800@www.gapost233.com
SUMMARY:Weekday BINGO
DESCRIPTION:Doors Open at 5PM\, Raffle Games after 6:00PM\, BINGO at 7:30 PM \nMinimum $15 buy-in\, must be 8 years or older to attend.
URL:https://www.gapost233.com/event/weekday-bingo/2020-09-16/
LOCATION:Post 233 Main Hall\, 4635 U.S. 78\, Loganville\, GA\, 30052\, United States
GEO:33.8337745;-83.8911131
X-APPLE-STRUCTURED-LOCATION;VALUE=URI;X-ADDRESS=Post 233 Main Hall 4635 U.S. 78 Loganville GA 30052 United States;X-APPLE-RADIUS=500;X-TITLE=4635 U.S. 78:geo:-83.8911131,33.8337745
END:VEVENT
BEGIN:VEVENT
DTSTART;TZID=America/New_York:20200917T193000
DTEND;TZID=America/New_York:20200917T213000
DTSTAMP:20260422T035533
CREATED:20200629T005839Z
LAST-MODIFIED:20220707T111956Z
UID:10000690-1600371000-1600378200@www.gapost233.com
SUMMARY:Weekday BINGO
DESCRIPTION:Doors Open at 5PM\, Raffle Games after 6:00PM\, BINGO at 7:30 PM \nMinimum $15 buy-in\, must be 8 years or older to attend.
URL:https://www.gapost233.com/event/weekday-bingo/2020-09-17/
LOCATION:Post 233 Main Hall\, 4635 U.S. 78\, Loganville\, GA\, 30052\, United States
GEO:33.8337745;-83.8911131
X-APPLE-STRUCTURED-LOCATION;VALUE=URI;X-ADDRESS=Post 233 Main Hall 4635 U.S. 78 Loganville GA 30052 United States;X-APPLE-RADIUS=500;X-TITLE=4635 U.S. 78:geo:-83.8911131,33.8337745
END:VEVENT
BEGIN:VEVENT
DTSTART;VALUE=DATE:20200918
DTEND;VALUE=DATE:20200919
DTSTAMP:20260422T035533
CREATED:20151110T105937Z
LAST-MODIFIED:20151110T105937Z
UID:10000431-1600387200-1600473599@www.gapost233.com
SUMMARY:Air Force Birthday
DESCRIPTION:1949 – Present: Air Force Historic Events\nThe official date of the founding of the US Air Force is 18 September 1947.  It was a momentous event that over six decades later has demonstrated the achievement of an Air Force second-to-none\, yet the Air Force’s history and heritage goes back a lot further.\nVisit the Air Force Page for latest news\, videos\, equipment & fitness just for Airmen & Veterans\nFrom the time that the US military purchased its first aircraft in 1909 up to 1947\, the US Air Force did not exist as a separate and independent military service organization. It went through a series of designations: Aeronautical Section\, Signal Corps (1909); Aviation Section\, Signal Corps (1914); United States Army Air Service (1918); United States Army Air Corps (1926)\, United States Army Air Forces (1941).\nJohnson Controls is hiring!\nWWII illustrated the value of airpower\, and the need to change the basic organization of the US Military Forces.  The result was the creation of a single Department of Defense with a strong Joint Chiefs of Staff with Army\, Navy\, and Air Force chiefs.  In 1947 President Truman signed the National Security Act which established this new defense organization\, and along with it the creation of the US Air Force as an independent service\, equal to the US Army and US Navy.  The official birthday of the US Air Force is 18 September 1947.\nThrough the years history has shown the wisdom and foresight of the creation of a separate Air Force.  The US Air Force emerged quickly from its cradle and began to create its own history and heritage.\n1949:  The flight of the “Lucky Lady II” demonstrated  the Air Force’s capability to fly\, non-stop round the world\, showing it could take off from the U.S. and drop bombs anywhere in the world.\n1950-1953:  USAF engaged in the first completely jet aerial combat During the Korean War.  The F-86 Saberjet scored impressive aerial victories against the enemy MiG-15.\n1954:  The first B-52 Stratofortress came into the USAF Inventory and has served in every conflict since its appearance.\n1960s: The development and deployment of Intercontinental Ballistic Missiles (ICBMs) as a major component of the aerial defense capability of the United States.\n1964-1973:  War in Vietnam\n1970s:  The development of laser-guided bombs and TV-guided air to ground missiles. Air mobility took a major step forward with the introduction of the C-5 Galaxy in the Air Force Inventory.  Other aircraft systems  introduced in this decade were the F-15\, A-10\, AWACS\, and F-16.\n1980s:  Stealth Technology was revealed advent of the F-117; strategic bomber capability was increased with the deployment of the B-1.\n1990s:  USAF played a major role in the swift defeat of the Iraqi military forces in the first Persian Gulf War:  The Air Force underwent a major reorganization with the formation of Air Combat Command\, Air Mobility Command\, and Air Force Materiel Command.  The USAF supported the war in the Balkans\, and the US intervention  Operation Uphold Democracy in Haiti.\n2000 — Present: The Expeditionary Air Force concept was a major transition in how the Air Force employed forces.   The Global War on Terrorism brought the USAF into Operation ENDURING FREEDOM and Operation IRAQI FREEDOM.
URL:https://www.gapost233.com/event/air-force-birthday/2020-09-18/
LOCATION:GA
END:VEVENT
BEGIN:VEVENT
DTSTART;TZID=America/New_York:20200920T140000
DTEND;TZID=America/New_York:20200920T163000
DTSTAMP:20260422T035533
CREATED:20200629T010314Z
LAST-MODIFIED:20231221T194817Z
UID:10001433-1600610400-1600619400@www.gapost233.com
SUMMARY:Sunday BINGO
DESCRIPTION:Doors Open at  Noon\, Raffle Games after 1:00PM\, BINGO at 2:00 PM \nMinimum $15 buy-in\, must be 8 years or older to attend.
URL:https://www.gapost233.com/event/sunday-bingo/2020-09-20/
LOCATION:GA
END:VEVENT
BEGIN:VEVENT
DTSTART;TZID=America/New_York:20200921T193000
DTEND;TZID=America/New_York:20200921T213000
DTSTAMP:20260422T035533
CREATED:20200629T005839Z
LAST-MODIFIED:20220707T111956Z
UID:10000691-1600716600-1600723800@www.gapost233.com
SUMMARY:Weekday BINGO
DESCRIPTION:Doors Open at 5PM\, Raffle Games after 6:00PM\, BINGO at 7:30 PM \nMinimum $15 buy-in\, must be 8 years or older to attend.
URL:https://www.gapost233.com/event/weekday-bingo/2020-09-21/
LOCATION:Post 233 Main Hall\, 4635 U.S. 78\, Loganville\, GA\, 30052\, United States
GEO:33.8337745;-83.8911131
X-APPLE-STRUCTURED-LOCATION;VALUE=URI;X-ADDRESS=Post 233 Main Hall 4635 U.S. 78 Loganville GA 30052 United States;X-APPLE-RADIUS=500;X-TITLE=4635 U.S. 78:geo:-83.8911131,33.8337745
END:VEVENT
BEGIN:VEVENT
DTSTART;TZID=America/New_York:20200923T193000
DTEND;TZID=America/New_York:20200923T213000
DTSTAMP:20260422T035533
CREATED:20200629T005839Z
LAST-MODIFIED:20200922T145840Z
UID:10000363-1600889400-1600896600@www.gapost233.com
SUMMARY:Cancelled!!! Weekday BINGO Cancelled!!!
DESCRIPTION:Closed for cleaning/Sanitization
URL:https://www.gapost233.com/event/weekday-bingo-2020-09-23/
LOCATION:Post 233 Main Hall\, 4635 U.S. 78\, Loganville\, GA\, 30052\, United States
GEO:33.8337745;-83.8911131
X-APPLE-STRUCTURED-LOCATION;VALUE=URI;X-ADDRESS=Post 233 Main Hall 4635 U.S. 78 Loganville GA 30052 United States;X-APPLE-RADIUS=500;X-TITLE=4635 U.S. 78:geo:-83.8911131,33.8337745
END:VEVENT
BEGIN:VEVENT
DTSTART;TZID=America/New_York:20200924T193000
DTEND;TZID=America/New_York:20200924T213000
DTSTAMP:20260422T035533
CREATED:20200629T005839Z
LAST-MODIFIED:20200922T150201Z
UID:10000364-1600975800-1600983000@www.gapost233.com
SUMMARY:Cancelled!!! Weekday BINGO Cancelled!!!
DESCRIPTION:Closed for cleaning/sanitization
URL:https://www.gapost233.com/event/weekday-bingo-2020-09-24/
LOCATION:Post 233 Main Hall\, 4635 U.S. 78\, Loganville\, GA\, 30052\, United States
GEO:33.8337745;-83.8911131
X-APPLE-STRUCTURED-LOCATION;VALUE=URI;X-ADDRESS=Post 233 Main Hall 4635 U.S. 78 Loganville GA 30052 United States;X-APPLE-RADIUS=500;X-TITLE=4635 U.S. 78:geo:-83.8911131,33.8337745
END:VEVENT
BEGIN:VEVENT
DTSTART;TZID=America/New_York:20200927T140000
DTEND;TZID=America/New_York:20200927T163000
DTSTAMP:20260422T035533
CREATED:20200629T010314Z
LAST-MODIFIED:20200926T195703Z
UID:10001421-1601215200-1601224200@www.gapost233.com
SUMMARY:CANCELLED!!! Sunday BINGO CANCELLED!!!
DESCRIPTION:NO BINGO TODAY
URL:https://www.gapost233.com/event/sunday-bingo-2020-09-27/
LOCATION:GA
END:VEVENT
BEGIN:VEVENT
DTSTART;TZID=America/New_York:20200927T140000
DTEND;TZID=America/New_York:20200927T163000
DTSTAMP:20260422T035533
CREATED:20200629T010314Z
LAST-MODIFIED:20231221T194817Z
UID:10004077-1601215200-1601224200@www.gapost233.com
SUMMARY:Sunday BINGO
DESCRIPTION:Doors Open at  Noon\, Raffle Games after 1:00PM\, BINGO at 2:00 PM \nMinimum $15 buy-in\, must be 8 years or older to attend.
URL:https://www.gapost233.com/event/sunday-bingo/2020-09-27/
LOCATION:GA
END:VEVENT
BEGIN:VEVENT
DTSTART;TZID=America/New_York:20200928T193000
DTEND;TZID=America/New_York:20200928T213000
DTSTAMP:20260422T035533
CREATED:20200629T005839Z
LAST-MODIFIED:20200926T195842Z
UID:10000366-1601321400-1601328600@www.gapost233.com
SUMMARY:CANCELLED!!! Weekday BINGO CANCELLED!!!
DESCRIPTION:NO BINGO TODAY
URL:https://www.gapost233.com/event/weekday-bingo-2020-09-28/
LOCATION:Post 233 Main Hall\, 4635 U.S. 78\, Loganville\, GA\, 30052\, United States
GEO:33.8337745;-83.8911131
X-APPLE-STRUCTURED-LOCATION;VALUE=URI;X-ADDRESS=Post 233 Main Hall 4635 U.S. 78 Loganville GA 30052 United States;X-APPLE-RADIUS=500;X-TITLE=4635 U.S. 78:geo:-83.8911131,33.8337745
END:VEVENT
BEGIN:VEVENT
DTSTART;TZID=America/New_York:20200930T193000
DTEND;TZID=America/New_York:20200930T213000
DTSTAMP:20260422T035533
CREATED:20200629T005839Z
LAST-MODIFIED:20200926T200017Z
UID:10000370-1601494200-1601501400@www.gapost233.com
SUMMARY:CANCELLED!!! Weekday BINGO CANCELLED!!!
DESCRIPTION:NO BINGO TODAY
URL:https://www.gapost233.com/event/weekday-bingo-2020-09-30/
LOCATION:Post 233 Main Hall\, 4635 U.S. 78\, Loganville\, GA\, 30052\, United States
GEO:33.8337745;-83.8911131
X-APPLE-STRUCTURED-LOCATION;VALUE=URI;X-ADDRESS=Post 233 Main Hall 4635 U.S. 78 Loganville GA 30052 United States;X-APPLE-RADIUS=500;X-TITLE=4635 U.S. 78:geo:-83.8911131,33.8337745
END:VEVENT
END:VCALENDAR