BEGIN:VCALENDAR
VERSION:2.0
PRODID:-//AMERICAN LEGION POST 233 - ECPv6.10.1.1//NONSGML v1.0//EN
CALSCALE:GREGORIAN
METHOD:PUBLISH
X-WR-CALNAME:AMERICAN LEGION POST 233
X-ORIGINAL-URL:https://www.gapost233.com
X-WR-CALDESC:Events for AMERICAN LEGION POST 233
REFRESH-INTERVAL;VALUE=DURATION:PT1H
X-Robots-Tag:noindex
X-PUBLISHED-TTL:PT1H
BEGIN:VTIMEZONE
TZID:America/New_York
BEGIN:DAYLIGHT
TZOFFSETFROM:-0500
TZOFFSETTO:-0400
TZNAME:EDT
DTSTART:20200308T070000
END:DAYLIGHT
BEGIN:STANDARD
TZOFFSETFROM:-0400
TZOFFSETTO:-0500
TZNAME:EST
DTSTART:20201101T060000
END:STANDARD
END:VTIMEZONE
BEGIN:VEVENT
DTSTART;TZID=America/New_York:20201001T193000
DTEND;TZID=America/New_York:20201001T213000
DTSTAMP:20260422T050427
CREATED:20200629T005839Z
LAST-MODIFIED:20200926T200151Z
UID:10000368-1601580600-1601587800@www.gapost233.com
SUMMARY:CANCELLED!!! Weekday BINGO CANCELLED!!!
DESCRIPTION:NO BINGO TODAY
URL:https://www.gapost233.com/event/weekday-bingo-2020-10-01/
LOCATION:Post 233 Main Hall\, 4635 U.S. 78\, Loganville\, GA\, 30052\, United States
GEO:33.8337745;-83.8911131
X-APPLE-STRUCTURED-LOCATION;VALUE=URI;X-ADDRESS=Post 233 Main Hall 4635 U.S. 78 Loganville GA 30052 United States;X-APPLE-RADIUS=500;X-TITLE=4635 U.S. 78:geo:-83.8911131,33.8337745
END:VEVENT
BEGIN:VEVENT
DTSTART;TZID=America/New_York:20201002T180000
DTEND;TZID=America/New_York:20201002T220000
DTSTAMP:20260422T050427
CREATED:20200920T190457Z
LAST-MODIFIED:20200920T190457Z
UID:10000383-1601661600-1601676000@www.gapost233.com
SUMMARY:Chicken Wing Fling!
DESCRIPTION:TO-GO or in the big hall with lots of room to keep your distance. Chicken wings will be sold in groups of 10 for $8. You can preorder using the form at the link or you can drop in (please wear a face mask when you are not at your table). Fries\, soft-drinks\, and cold beer available for those eating in. Eat good\, help a veteran\, how cool is that? \nClick here for the pre-order form
URL:https://www.gapost233.com/event/chicken-wing-fling/
LOCATION:Post 233 Main Hall\, 4635 U.S. 78\, Loganville\, GA\, 30052\, United States
GEO:33.8337745;-83.8911131
X-APPLE-STRUCTURED-LOCATION;VALUE=URI;X-ADDRESS=Post 233 Main Hall 4635 U.S. 78 Loganville GA 30052 United States;X-APPLE-RADIUS=500;X-TITLE=4635 U.S. 78:geo:-83.8911131,33.8337745
END:VEVENT
BEGIN:VEVENT
DTSTART;TZID=America/New_York:20201004T140000
DTEND;TZID=America/New_York:20201004T163000
DTSTAMP:20260422T050427
CREATED:20200629T010314Z
LAST-MODIFIED:20231221T194817Z
UID:10004078-1601820000-1601829000@www.gapost233.com
SUMMARY:Sunday BINGO
DESCRIPTION:Doors Open at  Noon\, Raffle Games after 1:00PM\, BINGO at 2:00 PM \nMinimum $15 buy-in\, must be 8 years or older to attend.
URL:https://www.gapost233.com/event/sunday-bingo/2020-10-04/
LOCATION:GA
END:VEVENT
BEGIN:VEVENT
DTSTART;TZID=America/New_York:20201004T140000
DTEND;TZID=America/New_York:20201004T163000
DTSTAMP:20260422T050427
CREATED:20200629T010314Z
LAST-MODIFIED:20200926T200314Z
UID:10001420-1601820000-1601829000@www.gapost233.com
SUMMARY:CANCELLED!!! Sunday BINGO CANCELLED!!!
DESCRIPTION:NO BINGO TODAY
URL:https://www.gapost233.com/event/sunday-bingo-2020-10-04/
LOCATION:GA
END:VEVENT
BEGIN:VEVENT
DTSTART;TZID=America/New_York:20201005T193000
DTEND;TZID=America/New_York:20201005T213000
DTSTAMP:20260422T050427
CREATED:20200629T005839Z
LAST-MODIFIED:20220707T111956Z
UID:10000692-1601926200-1601933400@www.gapost233.com
SUMMARY:Weekday BINGO
DESCRIPTION:Doors Open at 5PM\, Raffle Games after 6:00PM\, BINGO at 7:30 PM \nMinimum $15 buy-in\, must be 8 years or older to attend.
URL:https://www.gapost233.com/event/weekday-bingo/2020-10-05/
LOCATION:Post 233 Main Hall\, 4635 U.S. 78\, Loganville\, GA\, 30052\, United States
GEO:33.8337745;-83.8911131
X-APPLE-STRUCTURED-LOCATION;VALUE=URI;X-ADDRESS=Post 233 Main Hall 4635 U.S. 78 Loganville GA 30052 United States;X-APPLE-RADIUS=500;X-TITLE=4635 U.S. 78:geo:-83.8911131,33.8337745
END:VEVENT
BEGIN:VEVENT
DTSTART;TZID=America/New_York:20201006T200000
DTEND;TZID=America/New_York:20201006T210000
DTSTAMP:20260422T050427
CREATED:20181007T182103Z
LAST-MODIFIED:20200705T164755Z
UID:10000556-1602014400-1602018000@www.gapost233.com
SUMMARY:Sons of the American Legion Meeting
DESCRIPTION:The Sons of the Legion meet in conjunction with the American Legion on the First Tuesday of each Month.
URL:https://www.gapost233.com/event/sons-of-the-american-legion-meeting/2020-10-06/
LOCATION:GA
END:VEVENT
BEGIN:VEVENT
DTSTART;TZID=America/New_York:20201006T200000
DTEND;TZID=America/New_York:20201006T210000
DTSTAMP:20260422T050427
CREATED:20200810T223314Z
LAST-MODIFIED:20200810T223314Z
UID:10000132-1602014400-1602018000@www.gapost233.com
SUMMARY:Post 233 American Legion Meeting
DESCRIPTION:Our Monthly meeting!  A great time to find out what your local legion is up to!
URL:https://www.gapost233.com/event/post-233-american-legion-meeting/2020-10-06/
LOCATION:Post 233 Main Hall\, 4635 U.S. 78\, Loganville\, GA\, 30052\, United States
GEO:33.8337745;-83.8911131
X-APPLE-STRUCTURED-LOCATION;VALUE=URI;X-ADDRESS=Post 233 Main Hall 4635 U.S. 78 Loganville GA 30052 United States;X-APPLE-RADIUS=500;X-TITLE=4635 U.S. 78:geo:-83.8911131,33.8337745
END:VEVENT
BEGIN:VEVENT
DTSTART;TZID=America/New_York:20201007T193000
DTEND;TZID=America/New_York:20201007T213000
DTSTAMP:20260422T050427
CREATED:20200629T005839Z
LAST-MODIFIED:20220707T111956Z
UID:10000693-1602099000-1602106200@www.gapost233.com
SUMMARY:Weekday BINGO
DESCRIPTION:Doors Open at 5PM\, Raffle Games after 6:00PM\, BINGO at 7:30 PM \nMinimum $15 buy-in\, must be 8 years or older to attend.
URL:https://www.gapost233.com/event/weekday-bingo/2020-10-07/
LOCATION:Post 233 Main Hall\, 4635 U.S. 78\, Loganville\, GA\, 30052\, United States
GEO:33.8337745;-83.8911131
X-APPLE-STRUCTURED-LOCATION;VALUE=URI;X-ADDRESS=Post 233 Main Hall 4635 U.S. 78 Loganville GA 30052 United States;X-APPLE-RADIUS=500;X-TITLE=4635 U.S. 78:geo:-83.8911131,33.8337745
END:VEVENT
BEGIN:VEVENT
DTSTART;TZID=America/New_York:20201008T193000
DTEND;TZID=America/New_York:20201008T213000
DTSTAMP:20260422T050427
CREATED:20200629T005839Z
LAST-MODIFIED:20220707T111956Z
UID:10000694-1602185400-1602192600@www.gapost233.com
SUMMARY:Weekday BINGO
DESCRIPTION:Doors Open at 5PM\, Raffle Games after 6:00PM\, BINGO at 7:30 PM \nMinimum $15 buy-in\, must be 8 years or older to attend.
URL:https://www.gapost233.com/event/weekday-bingo/2020-10-08/
LOCATION:Post 233 Main Hall\, 4635 U.S. 78\, Loganville\, GA\, 30052\, United States
GEO:33.8337745;-83.8911131
X-APPLE-STRUCTURED-LOCATION;VALUE=URI;X-ADDRESS=Post 233 Main Hall 4635 U.S. 78 Loganville GA 30052 United States;X-APPLE-RADIUS=500;X-TITLE=4635 U.S. 78:geo:-83.8911131,33.8337745
END:VEVENT
BEGIN:VEVENT
DTSTART;TZID=America/New_York:20201011T140000
DTEND;TZID=America/New_York:20201011T163000
DTSTAMP:20260422T050427
CREATED:20200629T010314Z
LAST-MODIFIED:20231221T194817Z
UID:10001434-1602424800-1602433800@www.gapost233.com
SUMMARY:Sunday BINGO
DESCRIPTION:Doors Open at  Noon\, Raffle Games after 1:00PM\, BINGO at 2:00 PM \nMinimum $15 buy-in\, must be 8 years or older to attend.
URL:https://www.gapost233.com/event/sunday-bingo/2020-10-11/
LOCATION:GA
END:VEVENT
BEGIN:VEVENT
DTSTART;TZID=America/New_York:20201012T193000
DTEND;TZID=America/New_York:20201012T213000
DTSTAMP:20260422T050427
CREATED:20200629T005839Z
LAST-MODIFIED:20220707T111956Z
UID:10000695-1602531000-1602538200@www.gapost233.com
SUMMARY:Weekday BINGO
DESCRIPTION:Doors Open at 5PM\, Raffle Games after 6:00PM\, BINGO at 7:30 PM \nMinimum $15 buy-in\, must be 8 years or older to attend.
URL:https://www.gapost233.com/event/weekday-bingo/2020-10-12/
LOCATION:Post 233 Main Hall\, 4635 U.S. 78\, Loganville\, GA\, 30052\, United States
GEO:33.8337745;-83.8911131
X-APPLE-STRUCTURED-LOCATION;VALUE=URI;X-ADDRESS=Post 233 Main Hall 4635 U.S. 78 Loganville GA 30052 United States;X-APPLE-RADIUS=500;X-TITLE=4635 U.S. 78:geo:-83.8911131,33.8337745
END:VEVENT
BEGIN:VEVENT
DTSTART;VALUE=DATE:20201013
DTEND;VALUE=DATE:20201014
DTSTAMP:20260422T050427
CREATED:20151110T110116Z
LAST-MODIFIED:20151110T110215Z
UID:10000443-1602547200-1602633599@www.gapost233.com
SUMMARY:Navy Birthday
DESCRIPTION:The U.S. Navy traces its roots back to the privateers that were employed to attack British commerce in the early days of the revolution. On October 13\, 1775\, the Continental Congress established a naval force\, hoping that a small fleet would be able to offset the uncontested exercise of British sea power.\nGet most recent Navy news\, videos\, equipment\, fitness & more on the Navy page.\nThe early Continental navy was not expected to take on the British navy for control of the seas. This small naval force was designed to work with privateers to wage tactical raids against the transports that supplied British forces in North America. To accomplish this mission the Continental Congress purchased\, converted\, and constructed a fleet of small ships–frigates\, brigs\, sloops\, and schooners. These navy ships sailed independently or in pairs hunting British commerce ships and transports like prey\, avoiding whenever possible fights with Royal Navy men-of-war.\nNavy Day	The Origins of Navy Day\nSailors and Marines at attention.	Who Has Precedence: Navy or Marines?\nThe Battle of Midway	Navy History Highlights\nUSS Carl Vinson	The Modern US Naval Arsenal\nThree tier Navy birthday cake.	The Two Navy Holidays: Navy Birthday and Navy Day\nAmphibious ssault ship USS Kearsarge	Birthplace of the U.S. Navy\nThe Continental navy faced several obstacles both during and after the revolution – mostly political and economic. Two years after the end of the war\, the money-poor Congress sold off the last ship of the Continental navy\, the frigate Alliance.\nIn the 1790’s Europe began to relax many mercantile commercial restrictions and the U.S. trade and the shipping industry expanded accordingly. However\, as the number of U.S. ships increased so did the possibility increased attacks by the European powers and pirates. In March 1794 Congress responded by calling for the construction of a half-dozen frigates. And\, once again\, the United States had a navy.\nAlthough the Continental navy was later dismantled\, October 13\, 1775 remains the U.S. Navy’s official birthday.\nFrom these humble beginnings\, the world’s most powerful naval force was born. With thousands of ships and aircraft serving worldwide\, the U.S. Navy is a force to be reckoned with. To learn more about the early years of the U.S. Navy\, visit the U.S. Naval Historical Center website.
URL:https://www.gapost233.com/event/navy-birthday/2020-10-13/
LOCATION:GA
END:VEVENT
BEGIN:VEVENT
DTSTART;TZID=America/New_York:20201014T193000
DTEND;TZID=America/New_York:20201014T213000
DTSTAMP:20260422T050427
CREATED:20200629T005839Z
LAST-MODIFIED:20220707T111956Z
UID:10000696-1602703800-1602711000@www.gapost233.com
SUMMARY:Weekday BINGO
DESCRIPTION:Doors Open at 5PM\, Raffle Games after 6:00PM\, BINGO at 7:30 PM \nMinimum $15 buy-in\, must be 8 years or older to attend.
URL:https://www.gapost233.com/event/weekday-bingo/2020-10-14/
LOCATION:Post 233 Main Hall\, 4635 U.S. 78\, Loganville\, GA\, 30052\, United States
GEO:33.8337745;-83.8911131
X-APPLE-STRUCTURED-LOCATION;VALUE=URI;X-ADDRESS=Post 233 Main Hall 4635 U.S. 78 Loganville GA 30052 United States;X-APPLE-RADIUS=500;X-TITLE=4635 U.S. 78:geo:-83.8911131,33.8337745
END:VEVENT
BEGIN:VEVENT
DTSTART;TZID=America/New_York:20201015T193000
DTEND;TZID=America/New_York:20201015T213000
DTSTAMP:20260422T050427
CREATED:20200629T005839Z
LAST-MODIFIED:20220707T111956Z
UID:10000697-1602790200-1602797400@www.gapost233.com
SUMMARY:Weekday BINGO
DESCRIPTION:Doors Open at 5PM\, Raffle Games after 6:00PM\, BINGO at 7:30 PM \nMinimum $15 buy-in\, must be 8 years or older to attend.
URL:https://www.gapost233.com/event/weekday-bingo/2020-10-15/
LOCATION:Post 233 Main Hall\, 4635 U.S. 78\, Loganville\, GA\, 30052\, United States
GEO:33.8337745;-83.8911131
X-APPLE-STRUCTURED-LOCATION;VALUE=URI;X-ADDRESS=Post 233 Main Hall 4635 U.S. 78 Loganville GA 30052 United States;X-APPLE-RADIUS=500;X-TITLE=4635 U.S. 78:geo:-83.8911131,33.8337745
END:VEVENT
BEGIN:VEVENT
DTSTART;TZID=America/New_York:20201016T190000
DTEND;TZID=America/New_York:20201016T210000
DTSTAMP:20260422T050427
CREATED:20150426T152120Z
LAST-MODIFIED:20171226T170140Z
UID:10000216-1602874800-1602882000@www.gapost233.com
SUMMARY:ALR Meeting
DESCRIPTION:The American Legion Riders will meet tonight at 7:00pm. Guests are welcome to attend the meeting to learn more about this very active group.
URL:https://www.gapost233.com/event/alr-meeting/2020-10-16/
LOCATION:Robert Boss Pavilion\, 4635 U.S. 78\, Loganville\, GA\, 30052\, United States
END:VEVENT
BEGIN:VEVENT
DTSTART;TZID=America/New_York:20201018T140000
DTEND;TZID=America/New_York:20201018T163000
DTSTAMP:20260422T050427
CREATED:20200629T010314Z
LAST-MODIFIED:20231221T194817Z
UID:10001435-1603029600-1603038600@www.gapost233.com
SUMMARY:Sunday BINGO
DESCRIPTION:Doors Open at  Noon\, Raffle Games after 1:00PM\, BINGO at 2:00 PM \nMinimum $15 buy-in\, must be 8 years or older to attend.
URL:https://www.gapost233.com/event/sunday-bingo/2020-10-18/
LOCATION:GA
END:VEVENT
BEGIN:VEVENT
DTSTART;TZID=America/New_York:20201019T193000
DTEND;TZID=America/New_York:20201019T213000
DTSTAMP:20260422T050427
CREATED:20200629T005839Z
LAST-MODIFIED:20220707T111956Z
UID:10000698-1603135800-1603143000@www.gapost233.com
SUMMARY:Weekday BINGO
DESCRIPTION:Doors Open at 5PM\, Raffle Games after 6:00PM\, BINGO at 7:30 PM \nMinimum $15 buy-in\, must be 8 years or older to attend.
URL:https://www.gapost233.com/event/weekday-bingo/2020-10-19/
LOCATION:Post 233 Main Hall\, 4635 U.S. 78\, Loganville\, GA\, 30052\, United States
GEO:33.8337745;-83.8911131
X-APPLE-STRUCTURED-LOCATION;VALUE=URI;X-ADDRESS=Post 233 Main Hall 4635 U.S. 78 Loganville GA 30052 United States;X-APPLE-RADIUS=500;X-TITLE=4635 U.S. 78:geo:-83.8911131,33.8337745
END:VEVENT
BEGIN:VEVENT
DTSTART;TZID=America/New_York:20201021T193000
DTEND;TZID=America/New_York:20201021T213000
DTSTAMP:20260422T050427
CREATED:20200629T005839Z
LAST-MODIFIED:20220707T111956Z
UID:10000699-1603308600-1603315800@www.gapost233.com
SUMMARY:Weekday BINGO
DESCRIPTION:Doors Open at 5PM\, Raffle Games after 6:00PM\, BINGO at 7:30 PM \nMinimum $15 buy-in\, must be 8 years or older to attend.
URL:https://www.gapost233.com/event/weekday-bingo/2020-10-21/
LOCATION:Post 233 Main Hall\, 4635 U.S. 78\, Loganville\, GA\, 30052\, United States
GEO:33.8337745;-83.8911131
X-APPLE-STRUCTURED-LOCATION;VALUE=URI;X-ADDRESS=Post 233 Main Hall 4635 U.S. 78 Loganville GA 30052 United States;X-APPLE-RADIUS=500;X-TITLE=4635 U.S. 78:geo:-83.8911131,33.8337745
END:VEVENT
BEGIN:VEVENT
DTSTART;TZID=America/New_York:20201022T193000
DTEND;TZID=America/New_York:20201022T213000
DTSTAMP:20260422T050427
CREATED:20200629T005839Z
LAST-MODIFIED:20220707T111956Z
UID:10000700-1603395000-1603402200@www.gapost233.com
SUMMARY:Weekday BINGO
DESCRIPTION:Doors Open at 5PM\, Raffle Games after 6:00PM\, BINGO at 7:30 PM \nMinimum $15 buy-in\, must be 8 years or older to attend.
URL:https://www.gapost233.com/event/weekday-bingo/2020-10-22/
LOCATION:Post 233 Main Hall\, 4635 U.S. 78\, Loganville\, GA\, 30052\, United States
GEO:33.8337745;-83.8911131
X-APPLE-STRUCTURED-LOCATION;VALUE=URI;X-ADDRESS=Post 233 Main Hall 4635 U.S. 78 Loganville GA 30052 United States;X-APPLE-RADIUS=500;X-TITLE=4635 U.S. 78:geo:-83.8911131,33.8337745
END:VEVENT
BEGIN:VEVENT
DTSTART;TZID=America/New_York:20201025T140000
DTEND;TZID=America/New_York:20201025T163000
DTSTAMP:20260422T050427
CREATED:20200629T010314Z
LAST-MODIFIED:20231221T194817Z
UID:10001436-1603634400-1603643400@www.gapost233.com
SUMMARY:Sunday BINGO
DESCRIPTION:Doors Open at  Noon\, Raffle Games after 1:00PM\, BINGO at 2:00 PM \nMinimum $15 buy-in\, must be 8 years or older to attend.
URL:https://www.gapost233.com/event/sunday-bingo/2020-10-25/
LOCATION:GA
END:VEVENT
BEGIN:VEVENT
DTSTART;TZID=America/New_York:20201026T193000
DTEND;TZID=America/New_York:20201026T213000
DTSTAMP:20260422T050427
CREATED:20200629T005839Z
LAST-MODIFIED:20220707T111956Z
UID:10000701-1603740600-1603747800@www.gapost233.com
SUMMARY:Weekday BINGO
DESCRIPTION:Doors Open at 5PM\, Raffle Games after 6:00PM\, BINGO at 7:30 PM \nMinimum $15 buy-in\, must be 8 years or older to attend.
URL:https://www.gapost233.com/event/weekday-bingo/2020-10-26/
LOCATION:Post 233 Main Hall\, 4635 U.S. 78\, Loganville\, GA\, 30052\, United States
GEO:33.8337745;-83.8911131
X-APPLE-STRUCTURED-LOCATION;VALUE=URI;X-ADDRESS=Post 233 Main Hall 4635 U.S. 78 Loganville GA 30052 United States;X-APPLE-RADIUS=500;X-TITLE=4635 U.S. 78:geo:-83.8911131,33.8337745
END:VEVENT
BEGIN:VEVENT
DTSTART;TZID=America/New_York:20201028T193000
DTEND;TZID=America/New_York:20201028T213000
DTSTAMP:20260422T050427
CREATED:20200629T005839Z
LAST-MODIFIED:20220707T111956Z
UID:10000702-1603913400-1603920600@www.gapost233.com
SUMMARY:Weekday BINGO
DESCRIPTION:Doors Open at 5PM\, Raffle Games after 6:00PM\, BINGO at 7:30 PM \nMinimum $15 buy-in\, must be 8 years or older to attend.
URL:https://www.gapost233.com/event/weekday-bingo/2020-10-28/
LOCATION:Post 233 Main Hall\, 4635 U.S. 78\, Loganville\, GA\, 30052\, United States
GEO:33.8337745;-83.8911131
X-APPLE-STRUCTURED-LOCATION;VALUE=URI;X-ADDRESS=Post 233 Main Hall 4635 U.S. 78 Loganville GA 30052 United States;X-APPLE-RADIUS=500;X-TITLE=4635 U.S. 78:geo:-83.8911131,33.8337745
END:VEVENT
BEGIN:VEVENT
DTSTART;TZID=America/New_York:20201029T193000
DTEND;TZID=America/New_York:20201029T213000
DTSTAMP:20260422T050427
CREATED:20200629T005839Z
LAST-MODIFIED:20220707T111956Z
UID:10000703-1603999800-1604007000@www.gapost233.com
SUMMARY:Weekday BINGO
DESCRIPTION:Doors Open at 5PM\, Raffle Games after 6:00PM\, BINGO at 7:30 PM \nMinimum $15 buy-in\, must be 8 years or older to attend.
URL:https://www.gapost233.com/event/weekday-bingo/2020-10-29/
LOCATION:Post 233 Main Hall\, 4635 U.S. 78\, Loganville\, GA\, 30052\, United States
GEO:33.8337745;-83.8911131
X-APPLE-STRUCTURED-LOCATION;VALUE=URI;X-ADDRESS=Post 233 Main Hall 4635 U.S. 78 Loganville GA 30052 United States;X-APPLE-RADIUS=500;X-TITLE=4635 U.S. 78:geo:-83.8911131,33.8337745
END:VEVENT
BEGIN:VEVENT
DTSTART;TZID=America/New_York:20201031T080000
DTEND;TZID=America/New_York:20201031T140000
DTSTAMP:20260422T050427
CREATED:20201020T102922Z
LAST-MODIFIED:20201023T201809Z
UID:10000385-1604131200-1604152800@www.gapost233.com
SUMMARY:3rd Annual Car Show - Moved to Rain date 10/31!
DESCRIPTION:3rd ANNUAL AMERICAN LEGION CAR SHOW  \nShow your car at the American Legion and support our veterans \n4635 Atlanta Highway\, Loganville\, GA 30052 \nSaturday October 24th\, 2020  \n Registration Fee/Donation $20.00 *Registration Starts @ 8:00am until 10:00am    *Awards @ 1:00pm \n*All cars parked in lot “MUST” be registered* \nDoor Prizes every 30 minutes plus a 50/50 raffle! \nSpecial trophy awarded for: \n               Best in Show (Judges’ Pick)\, Commander’s Choice \n& Peoples’ Choice \nAwards to top 30 cars!  \nAll Makes and Models Welcome! \nAmerican Legion Post 233 (770)-466-4728 or Stan Mauldin (770) 978-1739
URL:https://www.gapost233.com/event/3rd-annual-car-show/
LOCATION:Post Parking Lot\, 4635 U.S. 78\, Loganville\, GA\, 30052\, United States
GEO:33.8337745;-83.8911131
X-APPLE-STRUCTURED-LOCATION;VALUE=URI;X-ADDRESS=Post Parking Lot 4635 U.S. 78 Loganville GA 30052 United States;X-APPLE-RADIUS=500;X-TITLE=4635 U.S. 78:geo:-83.8911131,33.8337745
END:VEVENT
END:VCALENDAR