BEGIN:VCALENDAR
VERSION:2.0
PRODID:-//AMERICAN LEGION POST 233 - ECPv6.10.1.1//NONSGML v1.0//EN
CALSCALE:GREGORIAN
METHOD:PUBLISH
X-ORIGINAL-URL:https://www.gapost233.com
X-WR-CALDESC:Events for AMERICAN LEGION POST 233
REFRESH-INTERVAL;VALUE=DURATION:PT1H
X-Robots-Tag:noindex
X-PUBLISHED-TTL:PT1H
BEGIN:VTIMEZONE
TZID:America/New_York
BEGIN:DAYLIGHT
TZOFFSETFROM:-0500
TZOFFSETTO:-0400
TZNAME:EDT
DTSTART:20200308T070000
END:DAYLIGHT
BEGIN:STANDARD
TZOFFSETFROM:-0400
TZOFFSETTO:-0500
TZNAME:EST
DTSTART:20201101T060000
END:STANDARD
END:VTIMEZONE
BEGIN:VEVENT
DTSTART;TZID=America/New_York:20201201T200000
DTEND;TZID=America/New_York:20201201T210000
DTSTAMP:20260421T211814
CREATED:20181007T182103Z
LAST-MODIFIED:20200705T164755Z
UID:10000557-1606852800-1606856400@www.gapost233.com
SUMMARY:Sons of the American Legion Meeting
DESCRIPTION:The Sons of the Legion meet in conjunction with the American Legion on the First Tuesday of each Month.
URL:https://www.gapost233.com/event/sons-of-the-american-legion-meeting/2020-12-01/
LOCATION:GA
END:VEVENT
BEGIN:VEVENT
DTSTART;TZID=America/New_York:20201201T200000
DTEND;TZID=America/New_York:20201201T210000
DTSTAMP:20260421T211814
CREATED:20200810T223314Z
LAST-MODIFIED:20200810T223314Z
UID:10000133-1606852800-1606856400@www.gapost233.com
SUMMARY:Post 233 American Legion Meeting
DESCRIPTION:Our Monthly meeting!  A great time to find out what your local legion is up to!
URL:https://www.gapost233.com/event/post-233-american-legion-meeting/2020-12-01/
LOCATION:Post 233 Main Hall\, 4635 U.S. 78\, Loganville\, GA\, 30052\, United States
GEO:33.8337745;-83.8911131
X-APPLE-STRUCTURED-LOCATION;VALUE=URI;X-ADDRESS=Post 233 Main Hall 4635 U.S. 78 Loganville GA 30052 United States;X-APPLE-RADIUS=500;X-TITLE=4635 U.S. 78:geo:-83.8911131,33.8337745
END:VEVENT
BEGIN:VEVENT
DTSTART;TZID=America/New_York:20201202T193000
DTEND;TZID=America/New_York:20201202T213000
DTSTAMP:20260421T211814
CREATED:20200629T005839Z
LAST-MODIFIED:20220707T111956Z
UID:10000715-1606937400-1606944600@www.gapost233.com
SUMMARY:Weekday BINGO
DESCRIPTION:Doors Open at 5PM\, Raffle Games after 6:00PM\, BINGO at 7:30 PM \nMinimum $15 buy-in\, must be 8 years or older to attend.
URL:https://www.gapost233.com/event/weekday-bingo/2020-12-02/
LOCATION:Post 233 Main Hall\, 4635 U.S. 78\, Loganville\, GA\, 30052\, United States
GEO:33.8337745;-83.8911131
X-APPLE-STRUCTURED-LOCATION;VALUE=URI;X-ADDRESS=Post 233 Main Hall 4635 U.S. 78 Loganville GA 30052 United States;X-APPLE-RADIUS=500;X-TITLE=4635 U.S. 78:geo:-83.8911131,33.8337745
END:VEVENT
BEGIN:VEVENT
DTSTART;TZID=America/New_York:20201203T193000
DTEND;TZID=America/New_York:20201203T213000
DTSTAMP:20260421T211814
CREATED:20200629T005839Z
LAST-MODIFIED:20220707T111956Z
UID:10000716-1607023800-1607031000@www.gapost233.com
SUMMARY:Weekday BINGO
DESCRIPTION:Doors Open at 5PM\, Raffle Games after 6:00PM\, BINGO at 7:30 PM \nMinimum $15 buy-in\, must be 8 years or older to attend.
URL:https://www.gapost233.com/event/weekday-bingo/2020-12-03/
LOCATION:Post 233 Main Hall\, 4635 U.S. 78\, Loganville\, GA\, 30052\, United States
GEO:33.8337745;-83.8911131
X-APPLE-STRUCTURED-LOCATION;VALUE=URI;X-ADDRESS=Post 233 Main Hall 4635 U.S. 78 Loganville GA 30052 United States;X-APPLE-RADIUS=500;X-TITLE=4635 U.S. 78:geo:-83.8911131,33.8337745
END:VEVENT
BEGIN:VEVENT
DTSTART;TZID=America/New_York:20201206T140000
DTEND;TZID=America/New_York:20201206T163000
DTSTAMP:20260421T211814
CREATED:20200629T010314Z
LAST-MODIFIED:20231221T194817Z
UID:10001442-1607263200-1607272200@www.gapost233.com
SUMMARY:Sunday BINGO
DESCRIPTION:Doors Open at  Noon\, Raffle Games after 1:00PM\, BINGO at 2:00 PM \nMinimum $15 buy-in\, must be 8 years or older to attend.
URL:https://www.gapost233.com/event/sunday-bingo/2020-12-06/
LOCATION:GA
END:VEVENT
BEGIN:VEVENT
DTSTART;TZID=America/New_York:20201207T193000
DTEND;TZID=America/New_York:20201207T213000
DTSTAMP:20260421T211814
CREATED:20200629T005839Z
LAST-MODIFIED:20220707T111956Z
UID:10000717-1607369400-1607376600@www.gapost233.com
SUMMARY:Weekday BINGO
DESCRIPTION:Doors Open at 5PM\, Raffle Games after 6:00PM\, BINGO at 7:30 PM \nMinimum $15 buy-in\, must be 8 years or older to attend.
URL:https://www.gapost233.com/event/weekday-bingo/2020-12-07/
LOCATION:Post 233 Main Hall\, 4635 U.S. 78\, Loganville\, GA\, 30052\, United States
GEO:33.8337745;-83.8911131
X-APPLE-STRUCTURED-LOCATION;VALUE=URI;X-ADDRESS=Post 233 Main Hall 4635 U.S. 78 Loganville GA 30052 United States;X-APPLE-RADIUS=500;X-TITLE=4635 U.S. 78:geo:-83.8911131,33.8337745
END:VEVENT
BEGIN:VEVENT
DTSTART;TZID=America/New_York:20201209T193000
DTEND;TZID=America/New_York:20201209T213000
DTSTAMP:20260421T211814
CREATED:20200629T005839Z
LAST-MODIFIED:20220707T111956Z
UID:10000718-1607542200-1607549400@www.gapost233.com
SUMMARY:Weekday BINGO
DESCRIPTION:Doors Open at 5PM\, Raffle Games after 6:00PM\, BINGO at 7:30 PM \nMinimum $15 buy-in\, must be 8 years or older to attend.
URL:https://www.gapost233.com/event/weekday-bingo/2020-12-09/
LOCATION:Post 233 Main Hall\, 4635 U.S. 78\, Loganville\, GA\, 30052\, United States
GEO:33.8337745;-83.8911131
X-APPLE-STRUCTURED-LOCATION;VALUE=URI;X-ADDRESS=Post 233 Main Hall 4635 U.S. 78 Loganville GA 30052 United States;X-APPLE-RADIUS=500;X-TITLE=4635 U.S. 78:geo:-83.8911131,33.8337745
END:VEVENT
BEGIN:VEVENT
DTSTART;TZID=America/New_York:20201210T193000
DTEND;TZID=America/New_York:20201210T213000
DTSTAMP:20260421T211814
CREATED:20200629T005839Z
LAST-MODIFIED:20220707T111956Z
UID:10000719-1607628600-1607635800@www.gapost233.com
SUMMARY:Weekday BINGO
DESCRIPTION:Doors Open at 5PM\, Raffle Games after 6:00PM\, BINGO at 7:30 PM \nMinimum $15 buy-in\, must be 8 years or older to attend.
URL:https://www.gapost233.com/event/weekday-bingo/2020-12-10/
LOCATION:Post 233 Main Hall\, 4635 U.S. 78\, Loganville\, GA\, 30052\, United States
GEO:33.8337745;-83.8911131
X-APPLE-STRUCTURED-LOCATION;VALUE=URI;X-ADDRESS=Post 233 Main Hall 4635 U.S. 78 Loganville GA 30052 United States;X-APPLE-RADIUS=500;X-TITLE=4635 U.S. 78:geo:-83.8911131,33.8337745
END:VEVENT
BEGIN:VEVENT
DTSTART;TZID=America/New_York:20201213T140000
DTEND;TZID=America/New_York:20201213T163000
DTSTAMP:20260421T211814
CREATED:20200629T010314Z
LAST-MODIFIED:20231221T194817Z
UID:10001443-1607868000-1607877000@www.gapost233.com
SUMMARY:Sunday BINGO
DESCRIPTION:Doors Open at  Noon\, Raffle Games after 1:00PM\, BINGO at 2:00 PM \nMinimum $15 buy-in\, must be 8 years or older to attend.
URL:https://www.gapost233.com/event/sunday-bingo/2020-12-13/
LOCATION:GA
END:VEVENT
BEGIN:VEVENT
DTSTART;TZID=America/New_York:20201214T193000
DTEND;TZID=America/New_York:20201214T213000
DTSTAMP:20260421T211814
CREATED:20200629T005839Z
LAST-MODIFIED:20220707T111956Z
UID:10000720-1607974200-1607981400@www.gapost233.com
SUMMARY:Weekday BINGO
DESCRIPTION:Doors Open at 5PM\, Raffle Games after 6:00PM\, BINGO at 7:30 PM \nMinimum $15 buy-in\, must be 8 years or older to attend.
URL:https://www.gapost233.com/event/weekday-bingo/2020-12-14/
LOCATION:Post 233 Main Hall\, 4635 U.S. 78\, Loganville\, GA\, 30052\, United States
GEO:33.8337745;-83.8911131
X-APPLE-STRUCTURED-LOCATION;VALUE=URI;X-ADDRESS=Post 233 Main Hall 4635 U.S. 78 Loganville GA 30052 United States;X-APPLE-RADIUS=500;X-TITLE=4635 U.S. 78:geo:-83.8911131,33.8337745
END:VEVENT
BEGIN:VEVENT
DTSTART;TZID=America/New_York:20201215T190000
DTEND;TZID=America/New_York:20201215T210000
DTSTAMP:20260421T211814
CREATED:20150426T152120Z
LAST-MODIFIED:20201213T192152Z
UID:10000536-1608058800-1608066000@www.gapost233.com
SUMMARY:Cancelled!!! ALR Meeting Cancelled!!!
DESCRIPTION:The American Legion Riders cancelled the December meeting and had their Christmas party in its place.
URL:https://www.gapost233.com/event/alr-meeting-2020-12-15/
LOCATION:Robert Boss Pavilion\, 4635 U.S. 78\, Loganville\, GA\, 30052\, United States
END:VEVENT
BEGIN:VEVENT
DTSTART;TZID=America/New_York:20201216T190000
DTEND;TZID=America/New_York:20201216T210000
DTSTAMP:20260421T211814
CREATED:20150426T152120Z
LAST-MODIFIED:20171226T170140Z
UID:10000218-1608145200-1608152400@www.gapost233.com
SUMMARY:ALR Meeting
DESCRIPTION:The American Legion Riders will meet tonight at 7:00pm. Guests are welcome to attend the meeting to learn more about this very active group.
URL:https://www.gapost233.com/event/alr-meeting/2020-12-16/
LOCATION:Robert Boss Pavilion\, 4635 U.S. 78\, Loganville\, GA\, 30052\, United States
END:VEVENT
BEGIN:VEVENT
DTSTART;TZID=America/New_York:20201216T193000
DTEND;TZID=America/New_York:20201216T213000
DTSTAMP:20260421T211814
CREATED:20200629T005839Z
LAST-MODIFIED:20220707T111956Z
UID:10000721-1608147000-1608154200@www.gapost233.com
SUMMARY:Weekday BINGO
DESCRIPTION:Doors Open at 5PM\, Raffle Games after 6:00PM\, BINGO at 7:30 PM \nMinimum $15 buy-in\, must be 8 years or older to attend.
URL:https://www.gapost233.com/event/weekday-bingo/2020-12-16/
LOCATION:Post 233 Main Hall\, 4635 U.S. 78\, Loganville\, GA\, 30052\, United States
GEO:33.8337745;-83.8911131
X-APPLE-STRUCTURED-LOCATION;VALUE=URI;X-ADDRESS=Post 233 Main Hall 4635 U.S. 78 Loganville GA 30052 United States;X-APPLE-RADIUS=500;X-TITLE=4635 U.S. 78:geo:-83.8911131,33.8337745
END:VEVENT
BEGIN:VEVENT
DTSTART;TZID=America/New_York:20201217T193000
DTEND;TZID=America/New_York:20201217T213000
DTSTAMP:20260421T211815
CREATED:20200629T005839Z
LAST-MODIFIED:20220707T111956Z
UID:10000722-1608233400-1608240600@www.gapost233.com
SUMMARY:Weekday BINGO
DESCRIPTION:Doors Open at 5PM\, Raffle Games after 6:00PM\, BINGO at 7:30 PM \nMinimum $15 buy-in\, must be 8 years or older to attend.
URL:https://www.gapost233.com/event/weekday-bingo/2020-12-17/
LOCATION:Post 233 Main Hall\, 4635 U.S. 78\, Loganville\, GA\, 30052\, United States
GEO:33.8337745;-83.8911131
X-APPLE-STRUCTURED-LOCATION;VALUE=URI;X-ADDRESS=Post 233 Main Hall 4635 U.S. 78 Loganville GA 30052 United States;X-APPLE-RADIUS=500;X-TITLE=4635 U.S. 78:geo:-83.8911131,33.8337745
END:VEVENT
BEGIN:VEVENT
DTSTART;TZID=America/New_York:20201220T140000
DTEND;TZID=America/New_York:20201220T163000
DTSTAMP:20260421T211815
CREATED:20200629T010314Z
LAST-MODIFIED:20231221T194817Z
UID:10001444-1608472800-1608481800@www.gapost233.com
SUMMARY:Sunday BINGO
DESCRIPTION:Doors Open at  Noon\, Raffle Games after 1:00PM\, BINGO at 2:00 PM \nMinimum $15 buy-in\, must be 8 years or older to attend.
URL:https://www.gapost233.com/event/sunday-bingo/2020-12-20/
LOCATION:GA
END:VEVENT
BEGIN:VEVENT
DTSTART;TZID=America/New_York:20201221T193000
DTEND;TZID=America/New_York:20201221T213000
DTSTAMP:20260421T211815
CREATED:20200629T005839Z
LAST-MODIFIED:20220707T111956Z
UID:10000723-1608579000-1608586200@www.gapost233.com
SUMMARY:Weekday BINGO
DESCRIPTION:Doors Open at 5PM\, Raffle Games after 6:00PM\, BINGO at 7:30 PM \nMinimum $15 buy-in\, must be 8 years or older to attend.
URL:https://www.gapost233.com/event/weekday-bingo/2020-12-21/
LOCATION:Post 233 Main Hall\, 4635 U.S. 78\, Loganville\, GA\, 30052\, United States
GEO:33.8337745;-83.8911131
X-APPLE-STRUCTURED-LOCATION;VALUE=URI;X-ADDRESS=Post 233 Main Hall 4635 U.S. 78 Loganville GA 30052 United States;X-APPLE-RADIUS=500;X-TITLE=4635 U.S. 78:geo:-83.8911131,33.8337745
END:VEVENT
BEGIN:VEVENT
DTSTART;TZID=America/New_York:20201223T193000
DTEND;TZID=America/New_York:20201223T213000
DTSTAMP:20260421T211815
CREATED:20200629T005839Z
LAST-MODIFIED:20220707T111956Z
UID:10000724-1608751800-1608759000@www.gapost233.com
SUMMARY:Weekday BINGO
DESCRIPTION:Doors Open at 5PM\, Raffle Games after 6:00PM\, BINGO at 7:30 PM \nMinimum $15 buy-in\, must be 8 years or older to attend.
URL:https://www.gapost233.com/event/weekday-bingo/2020-12-23/
LOCATION:Post 233 Main Hall\, 4635 U.S. 78\, Loganville\, GA\, 30052\, United States
GEO:33.8337745;-83.8911131
X-APPLE-STRUCTURED-LOCATION;VALUE=URI;X-ADDRESS=Post 233 Main Hall 4635 U.S. 78 Loganville GA 30052 United States;X-APPLE-RADIUS=500;X-TITLE=4635 U.S. 78:geo:-83.8911131,33.8337745
END:VEVENT
BEGIN:VEVENT
DTSTART;TZID=America/New_York:20201224T193000
DTEND;TZID=America/New_York:20201224T213000
DTSTAMP:20260421T211815
CREATED:20200629T005839Z
LAST-MODIFIED:20220707T111956Z
UID:10000725-1608838200-1608845400@www.gapost233.com
SUMMARY:Weekday BINGO
DESCRIPTION:Doors Open at 5PM\, Raffle Games after 6:00PM\, BINGO at 7:30 PM \nMinimum $15 buy-in\, must be 8 years or older to attend.
URL:https://www.gapost233.com/event/weekday-bingo/2020-12-24/
LOCATION:Post 233 Main Hall\, 4635 U.S. 78\, Loganville\, GA\, 30052\, United States
GEO:33.8337745;-83.8911131
X-APPLE-STRUCTURED-LOCATION;VALUE=URI;X-ADDRESS=Post 233 Main Hall 4635 U.S. 78 Loganville GA 30052 United States;X-APPLE-RADIUS=500;X-TITLE=4635 U.S. 78:geo:-83.8911131,33.8337745
END:VEVENT
BEGIN:VEVENT
DTSTART;TZID=America/New_York:20201227T140000
DTEND;TZID=America/New_York:20201227T163000
DTSTAMP:20260421T211815
CREATED:20200629T010314Z
LAST-MODIFIED:20231221T194817Z
UID:10001445-1609077600-1609086600@www.gapost233.com
SUMMARY:Sunday BINGO
DESCRIPTION:Doors Open at  Noon\, Raffle Games after 1:00PM\, BINGO at 2:00 PM \nMinimum $15 buy-in\, must be 8 years or older to attend.
URL:https://www.gapost233.com/event/sunday-bingo/2020-12-27/
LOCATION:GA
END:VEVENT
BEGIN:VEVENT
DTSTART;TZID=America/New_York:20201228T193000
DTEND;TZID=America/New_York:20201228T213000
DTSTAMP:20260421T211815
CREATED:20200629T005839Z
LAST-MODIFIED:20220707T111956Z
UID:10000726-1609183800-1609191000@www.gapost233.com
SUMMARY:Weekday BINGO
DESCRIPTION:Doors Open at 5PM\, Raffle Games after 6:00PM\, BINGO at 7:30 PM \nMinimum $15 buy-in\, must be 8 years or older to attend.
URL:https://www.gapost233.com/event/weekday-bingo/2020-12-28/
LOCATION:Post 233 Main Hall\, 4635 U.S. 78\, Loganville\, GA\, 30052\, United States
GEO:33.8337745;-83.8911131
X-APPLE-STRUCTURED-LOCATION;VALUE=URI;X-ADDRESS=Post 233 Main Hall 4635 U.S. 78 Loganville GA 30052 United States;X-APPLE-RADIUS=500;X-TITLE=4635 U.S. 78:geo:-83.8911131,33.8337745
END:VEVENT
BEGIN:VEVENT
DTSTART;TZID=America/New_York:20201230T193000
DTEND;TZID=America/New_York:20201230T213000
DTSTAMP:20260421T211815
CREATED:20200629T005839Z
LAST-MODIFIED:20220707T111956Z
UID:10000727-1609356600-1609363800@www.gapost233.com
SUMMARY:Weekday BINGO
DESCRIPTION:Doors Open at 5PM\, Raffle Games after 6:00PM\, BINGO at 7:30 PM \nMinimum $15 buy-in\, must be 8 years or older to attend.
URL:https://www.gapost233.com/event/weekday-bingo/2020-12-30/
LOCATION:Post 233 Main Hall\, 4635 U.S. 78\, Loganville\, GA\, 30052\, United States
GEO:33.8337745;-83.8911131
X-APPLE-STRUCTURED-LOCATION;VALUE=URI;X-ADDRESS=Post 233 Main Hall 4635 U.S. 78 Loganville GA 30052 United States;X-APPLE-RADIUS=500;X-TITLE=4635 U.S. 78:geo:-83.8911131,33.8337745
END:VEVENT
BEGIN:VEVENT
DTSTART;TZID=America/New_York:20201231T193000
DTEND;TZID=America/New_York:20201231T213000
DTSTAMP:20260421T211815
CREATED:20200629T005839Z
LAST-MODIFIED:20201213T193803Z
UID:10000354-1609443000-1609450200@www.gapost233.com
SUMMARY:Cancelled!!! Weekday BINGO Cancelled!!!
DESCRIPTION:Cancelled so our volunteers and workers can enjoy their New Year’s Eve!
URL:https://www.gapost233.com/event/weekday-bingo-2020-12-31/
LOCATION:Post 233 Main Hall\, 4635 U.S. 78\, Loganville\, GA\, 30052\, United States
GEO:33.8337745;-83.8911131
X-APPLE-STRUCTURED-LOCATION;VALUE=URI;X-ADDRESS=Post 233 Main Hall 4635 U.S. 78 Loganville GA 30052 United States;X-APPLE-RADIUS=500;X-TITLE=4635 U.S. 78:geo:-83.8911131,33.8337745
END:VEVENT
END:VCALENDAR