BEGIN:VCALENDAR
VERSION:2.0
PRODID:-//AMERICAN LEGION POST 233 - ECPv6.10.1.1//NONSGML v1.0//EN
CALSCALE:GREGORIAN
METHOD:PUBLISH
X-WR-CALNAME:AMERICAN LEGION POST 233
X-ORIGINAL-URL:https://www.gapost233.com
X-WR-CALDESC:Events for AMERICAN LEGION POST 233
REFRESH-INTERVAL;VALUE=DURATION:PT1H
X-Robots-Tag:noindex
X-PUBLISHED-TTL:PT1H
BEGIN:VTIMEZONE
TZID:America/New_York
BEGIN:DAYLIGHT
TZOFFSETFROM:-0500
TZOFFSETTO:-0400
TZNAME:EDT
DTSTART:20210314T070000
END:DAYLIGHT
BEGIN:STANDARD
TZOFFSETFROM:-0400
TZOFFSETTO:-0500
TZNAME:EST
DTSTART:20211107T060000
END:STANDARD
END:VTIMEZONE
BEGIN:VEVENT
DTSTART;TZID=America/New_York:20210201T193000
DTEND;TZID=America/New_York:20210201T213000
DTSTAMP:20260421T155153
CREATED:20200629T005839Z
LAST-MODIFIED:20220707T111956Z
UID:10000739-1612207800-1612215000@www.gapost233.com
SUMMARY:Weekday BINGO
DESCRIPTION:Doors Open at 5PM\, Raffle Games after 6:00PM\, BINGO at 7:30 PM \nMinimum $15 buy-in\, must be 8 years or older to attend.
URL:https://www.gapost233.com/event/weekday-bingo/2021-02-01/
LOCATION:Post 233 Main Hall\, 4635 U.S. 78\, Loganville\, GA\, 30052\, United States
GEO:33.8337745;-83.8911131
X-APPLE-STRUCTURED-LOCATION;VALUE=URI;X-ADDRESS=Post 233 Main Hall 4635 U.S. 78 Loganville GA 30052 United States;X-APPLE-RADIUS=500;X-TITLE=4635 U.S. 78:geo:-83.8911131,33.8337745
END:VEVENT
BEGIN:VEVENT
DTSTART;TZID=America/New_York:20210202T200000
DTEND;TZID=America/New_York:20210202T210000
DTSTAMP:20260421T155153
CREATED:20181007T182103Z
LAST-MODIFIED:20200705T164755Z
UID:10000558-1612296000-1612299600@www.gapost233.com
SUMMARY:Sons of the American Legion Meeting
DESCRIPTION:The Sons of the Legion meet in conjunction with the American Legion on the First Tuesday of each Month.
URL:https://www.gapost233.com/event/sons-of-the-american-legion-meeting/2021-02-02/
LOCATION:GA
END:VEVENT
BEGIN:VEVENT
DTSTART;TZID=America/New_York:20210202T200000
DTEND;TZID=America/New_York:20210202T210000
DTSTAMP:20260421T155153
CREATED:20200810T223314Z
LAST-MODIFIED:20200810T223314Z
UID:10000134-1612296000-1612299600@www.gapost233.com
SUMMARY:Post 233 American Legion Meeting
DESCRIPTION:Our Monthly meeting!  A great time to find out what your local legion is up to!
URL:https://www.gapost233.com/event/post-233-american-legion-meeting/2021-02-02/
LOCATION:Post 233 Main Hall\, 4635 U.S. 78\, Loganville\, GA\, 30052\, United States
GEO:33.8337745;-83.8911131
X-APPLE-STRUCTURED-LOCATION;VALUE=URI;X-ADDRESS=Post 233 Main Hall 4635 U.S. 78 Loganville GA 30052 United States;X-APPLE-RADIUS=500;X-TITLE=4635 U.S. 78:geo:-83.8911131,33.8337745
END:VEVENT
BEGIN:VEVENT
DTSTART;TZID=America/New_York:20210203T100000
DTEND;TZID=America/New_York:20210203T110000
DTSTAMP:20260421T155153
CREATED:20210203T233759Z
LAST-MODIFIED:20210203T233759Z
UID:10001793-1612346400-1612350000@www.gapost233.com
SUMMARY:Tai Chi for Veterans & others
DESCRIPTION:Veterans and their families as well as American Legion family members are invited to try out our free Tai Chi Class on Wednesday mornings.
URL:https://www.gapost233.com/event/tai-chi-for-veterans-others/2021-02-03/
LOCATION:Robert Boss Pavilion\, 4635 U.S. 78\, Loganville\, GA\, 30052\, United States
END:VEVENT
BEGIN:VEVENT
DTSTART;TZID=America/New_York:20210203T193000
DTEND;TZID=America/New_York:20210203T213000
DTSTAMP:20260421T155153
CREATED:20200629T005839Z
LAST-MODIFIED:20220707T111956Z
UID:10000740-1612380600-1612387800@www.gapost233.com
SUMMARY:Weekday BINGO
DESCRIPTION:Doors Open at 5PM\, Raffle Games after 6:00PM\, BINGO at 7:30 PM \nMinimum $15 buy-in\, must be 8 years or older to attend.
URL:https://www.gapost233.com/event/weekday-bingo/2021-02-03/
LOCATION:Post 233 Main Hall\, 4635 U.S. 78\, Loganville\, GA\, 30052\, United States
GEO:33.8337745;-83.8911131
X-APPLE-STRUCTURED-LOCATION;VALUE=URI;X-ADDRESS=Post 233 Main Hall 4635 U.S. 78 Loganville GA 30052 United States;X-APPLE-RADIUS=500;X-TITLE=4635 U.S. 78:geo:-83.8911131,33.8337745
END:VEVENT
BEGIN:VEVENT
DTSTART;TZID=America/New_York:20210204T193000
DTEND;TZID=America/New_York:20210204T213000
DTSTAMP:20260421T155153
CREATED:20200629T005839Z
LAST-MODIFIED:20220707T111956Z
UID:10000741-1612467000-1612474200@www.gapost233.com
SUMMARY:Weekday BINGO
DESCRIPTION:Doors Open at 5PM\, Raffle Games after 6:00PM\, BINGO at 7:30 PM \nMinimum $15 buy-in\, must be 8 years or older to attend.
URL:https://www.gapost233.com/event/weekday-bingo/2021-02-04/
LOCATION:Post 233 Main Hall\, 4635 U.S. 78\, Loganville\, GA\, 30052\, United States
GEO:33.8337745;-83.8911131
X-APPLE-STRUCTURED-LOCATION;VALUE=URI;X-ADDRESS=Post 233 Main Hall 4635 U.S. 78 Loganville GA 30052 United States;X-APPLE-RADIUS=500;X-TITLE=4635 U.S. 78:geo:-83.8911131,33.8337745
END:VEVENT
BEGIN:VEVENT
DTSTART;TZID=America/New_York:20210207T140000
DTEND;TZID=America/New_York:20210207T163000
DTSTAMP:20260421T155153
CREATED:20200629T010314Z
LAST-MODIFIED:20231221T194817Z
UID:10001451-1612706400-1612715400@www.gapost233.com
SUMMARY:Sunday BINGO
DESCRIPTION:Doors Open at  Noon\, Raffle Games after 1:00PM\, BINGO at 2:00 PM \nMinimum $15 buy-in\, must be 8 years or older to attend.
URL:https://www.gapost233.com/event/sunday-bingo/2021-02-07/
LOCATION:GA
END:VEVENT
BEGIN:VEVENT
DTSTART;TZID=America/New_York:20210208T193000
DTEND;TZID=America/New_York:20210208T213000
DTSTAMP:20260421T155153
CREATED:20200629T005839Z
LAST-MODIFIED:20220707T111956Z
UID:10000742-1612812600-1612819800@www.gapost233.com
SUMMARY:Weekday BINGO
DESCRIPTION:Doors Open at 5PM\, Raffle Games after 6:00PM\, BINGO at 7:30 PM \nMinimum $15 buy-in\, must be 8 years or older to attend.
URL:https://www.gapost233.com/event/weekday-bingo/2021-02-08/
LOCATION:Post 233 Main Hall\, 4635 U.S. 78\, Loganville\, GA\, 30052\, United States
GEO:33.8337745;-83.8911131
X-APPLE-STRUCTURED-LOCATION;VALUE=URI;X-ADDRESS=Post 233 Main Hall 4635 U.S. 78 Loganville GA 30052 United States;X-APPLE-RADIUS=500;X-TITLE=4635 U.S. 78:geo:-83.8911131,33.8337745
END:VEVENT
BEGIN:VEVENT
DTSTART;TZID=America/New_York:20210210T100000
DTEND;TZID=America/New_York:20210210T110000
DTSTAMP:20260421T155153
CREATED:20210203T233759Z
LAST-MODIFIED:20210203T233759Z
UID:10001794-1612951200-1612954800@www.gapost233.com
SUMMARY:Tai Chi for Veterans & others
DESCRIPTION:Veterans and their families as well as American Legion family members are invited to try out our free Tai Chi Class on Wednesday mornings.
URL:https://www.gapost233.com/event/tai-chi-for-veterans-others/2021-02-10/
LOCATION:Robert Boss Pavilion\, 4635 U.S. 78\, Loganville\, GA\, 30052\, United States
END:VEVENT
BEGIN:VEVENT
DTSTART;TZID=America/New_York:20210210T193000
DTEND;TZID=America/New_York:20210210T213000
DTSTAMP:20260421T155153
CREATED:20200629T005839Z
LAST-MODIFIED:20220707T111956Z
UID:10000743-1612985400-1612992600@www.gapost233.com
SUMMARY:Weekday BINGO
DESCRIPTION:Doors Open at 5PM\, Raffle Games after 6:00PM\, BINGO at 7:30 PM \nMinimum $15 buy-in\, must be 8 years or older to attend.
URL:https://www.gapost233.com/event/weekday-bingo/2021-02-10/
LOCATION:Post 233 Main Hall\, 4635 U.S. 78\, Loganville\, GA\, 30052\, United States
GEO:33.8337745;-83.8911131
X-APPLE-STRUCTURED-LOCATION;VALUE=URI;X-ADDRESS=Post 233 Main Hall 4635 U.S. 78 Loganville GA 30052 United States;X-APPLE-RADIUS=500;X-TITLE=4635 U.S. 78:geo:-83.8911131,33.8337745
END:VEVENT
BEGIN:VEVENT
DTSTART;TZID=America/New_York:20210211T193000
DTEND;TZID=America/New_York:20210211T213000
DTSTAMP:20260421T155153
CREATED:20200629T005839Z
LAST-MODIFIED:20220707T111956Z
UID:10000744-1613071800-1613079000@www.gapost233.com
SUMMARY:Weekday BINGO
DESCRIPTION:Doors Open at 5PM\, Raffle Games after 6:00PM\, BINGO at 7:30 PM \nMinimum $15 buy-in\, must be 8 years or older to attend.
URL:https://www.gapost233.com/event/weekday-bingo/2021-02-11/
LOCATION:Post 233 Main Hall\, 4635 U.S. 78\, Loganville\, GA\, 30052\, United States
GEO:33.8337745;-83.8911131
X-APPLE-STRUCTURED-LOCATION;VALUE=URI;X-ADDRESS=Post 233 Main Hall 4635 U.S. 78 Loganville GA 30052 United States;X-APPLE-RADIUS=500;X-TITLE=4635 U.S. 78:geo:-83.8911131,33.8337745
END:VEVENT
BEGIN:VEVENT
DTSTART;TZID=America/New_York:20210214T140000
DTEND;TZID=America/New_York:20210214T163000
DTSTAMP:20260421T155153
CREATED:20200629T010314Z
LAST-MODIFIED:20231221T194817Z
UID:10001452-1613311200-1613320200@www.gapost233.com
SUMMARY:Sunday BINGO
DESCRIPTION:Doors Open at  Noon\, Raffle Games after 1:00PM\, BINGO at 2:00 PM \nMinimum $15 buy-in\, must be 8 years or older to attend.
URL:https://www.gapost233.com/event/sunday-bingo/2021-02-14/
LOCATION:GA
END:VEVENT
BEGIN:VEVENT
DTSTART;TZID=America/New_York:20210215T193000
DTEND;TZID=America/New_York:20210215T213000
DTSTAMP:20260421T155153
CREATED:20200629T005839Z
LAST-MODIFIED:20220707T111956Z
UID:10000745-1613417400-1613424600@www.gapost233.com
SUMMARY:Weekday BINGO
DESCRIPTION:Doors Open at 5PM\, Raffle Games after 6:00PM\, BINGO at 7:30 PM \nMinimum $15 buy-in\, must be 8 years or older to attend.
URL:https://www.gapost233.com/event/weekday-bingo/2021-02-15/
LOCATION:Post 233 Main Hall\, 4635 U.S. 78\, Loganville\, GA\, 30052\, United States
GEO:33.8337745;-83.8911131
X-APPLE-STRUCTURED-LOCATION;VALUE=URI;X-ADDRESS=Post 233 Main Hall 4635 U.S. 78 Loganville GA 30052 United States;X-APPLE-RADIUS=500;X-TITLE=4635 U.S. 78:geo:-83.8911131,33.8337745
END:VEVENT
BEGIN:VEVENT
DTSTART;TZID=America/New_York:20210216T190000
DTEND;TZID=America/New_York:20210216T210000
DTSTAMP:20260421T155153
CREATED:20150426T152120Z
LAST-MODIFIED:20171226T170140Z
UID:10000220-1613502000-1613509200@www.gapost233.com
SUMMARY:ALR Meeting
DESCRIPTION:The American Legion Riders will meet tonight at 7:00pm. Guests are welcome to attend the meeting to learn more about this very active group.
URL:https://www.gapost233.com/event/alr-meeting/2021-02-16/
LOCATION:Robert Boss Pavilion\, 4635 U.S. 78\, Loganville\, GA\, 30052\, United States
END:VEVENT
BEGIN:VEVENT
DTSTART;TZID=America/New_York:20210217T100000
DTEND;TZID=America/New_York:20210217T110000
DTSTAMP:20260421T155153
CREATED:20210203T233759Z
LAST-MODIFIED:20210203T233759Z
UID:10001795-1613556000-1613559600@www.gapost233.com
SUMMARY:Tai Chi for Veterans & others
DESCRIPTION:Veterans and their families as well as American Legion family members are invited to try out our free Tai Chi Class on Wednesday mornings.
URL:https://www.gapost233.com/event/tai-chi-for-veterans-others/2021-02-17/
LOCATION:Robert Boss Pavilion\, 4635 U.S. 78\, Loganville\, GA\, 30052\, United States
END:VEVENT
BEGIN:VEVENT
DTSTART;TZID=America/New_York:20210217T193000
DTEND;TZID=America/New_York:20210217T213000
DTSTAMP:20260421T155153
CREATED:20200629T005839Z
LAST-MODIFIED:20220707T111956Z
UID:10000746-1613590200-1613597400@www.gapost233.com
SUMMARY:Weekday BINGO
DESCRIPTION:Doors Open at 5PM\, Raffle Games after 6:00PM\, BINGO at 7:30 PM \nMinimum $15 buy-in\, must be 8 years or older to attend.
URL:https://www.gapost233.com/event/weekday-bingo/2021-02-17/
LOCATION:Post 233 Main Hall\, 4635 U.S. 78\, Loganville\, GA\, 30052\, United States
GEO:33.8337745;-83.8911131
X-APPLE-STRUCTURED-LOCATION;VALUE=URI;X-ADDRESS=Post 233 Main Hall 4635 U.S. 78 Loganville GA 30052 United States;X-APPLE-RADIUS=500;X-TITLE=4635 U.S. 78:geo:-83.8911131,33.8337745
END:VEVENT
BEGIN:VEVENT
DTSTART;TZID=America/New_York:20210218T193000
DTEND;TZID=America/New_York:20210218T213000
DTSTAMP:20260421T155153
CREATED:20200629T005839Z
LAST-MODIFIED:20220707T111956Z
UID:10000747-1613676600-1613683800@www.gapost233.com
SUMMARY:Weekday BINGO
DESCRIPTION:Doors Open at 5PM\, Raffle Games after 6:00PM\, BINGO at 7:30 PM \nMinimum $15 buy-in\, must be 8 years or older to attend.
URL:https://www.gapost233.com/event/weekday-bingo/2021-02-18/
LOCATION:Post 233 Main Hall\, 4635 U.S. 78\, Loganville\, GA\, 30052\, United States
GEO:33.8337745;-83.8911131
X-APPLE-STRUCTURED-LOCATION;VALUE=URI;X-ADDRESS=Post 233 Main Hall 4635 U.S. 78 Loganville GA 30052 United States;X-APPLE-RADIUS=500;X-TITLE=4635 U.S. 78:geo:-83.8911131,33.8337745
END:VEVENT
BEGIN:VEVENT
DTSTART;TZID=America/New_York:20210221T140000
DTEND;TZID=America/New_York:20210221T163000
DTSTAMP:20260421T155153
CREATED:20200629T010314Z
LAST-MODIFIED:20231221T194817Z
UID:10001453-1613916000-1613925000@www.gapost233.com
SUMMARY:Sunday BINGO
DESCRIPTION:Doors Open at  Noon\, Raffle Games after 1:00PM\, BINGO at 2:00 PM \nMinimum $15 buy-in\, must be 8 years or older to attend.
URL:https://www.gapost233.com/event/sunday-bingo/2021-02-21/
LOCATION:GA
END:VEVENT
BEGIN:VEVENT
DTSTART;TZID=America/New_York:20210222T193000
DTEND;TZID=America/New_York:20210222T213000
DTSTAMP:20260421T155153
CREATED:20200629T005839Z
LAST-MODIFIED:20220707T111956Z
UID:10000748-1614022200-1614029400@www.gapost233.com
SUMMARY:Weekday BINGO
DESCRIPTION:Doors Open at 5PM\, Raffle Games after 6:00PM\, BINGO at 7:30 PM \nMinimum $15 buy-in\, must be 8 years or older to attend.
URL:https://www.gapost233.com/event/weekday-bingo/2021-02-22/
LOCATION:Post 233 Main Hall\, 4635 U.S. 78\, Loganville\, GA\, 30052\, United States
GEO:33.8337745;-83.8911131
X-APPLE-STRUCTURED-LOCATION;VALUE=URI;X-ADDRESS=Post 233 Main Hall 4635 U.S. 78 Loganville GA 30052 United States;X-APPLE-RADIUS=500;X-TITLE=4635 U.S. 78:geo:-83.8911131,33.8337745
END:VEVENT
BEGIN:VEVENT
DTSTART;TZID=America/New_York:20210224T100000
DTEND;TZID=America/New_York:20210224T110000
DTSTAMP:20260421T155153
CREATED:20210203T233759Z
LAST-MODIFIED:20210203T233759Z
UID:10001796-1614160800-1614164400@www.gapost233.com
SUMMARY:Tai Chi for Veterans & others
DESCRIPTION:Veterans and their families as well as American Legion family members are invited to try out our free Tai Chi Class on Wednesday mornings.
URL:https://www.gapost233.com/event/tai-chi-for-veterans-others/2021-02-24/
LOCATION:Robert Boss Pavilion\, 4635 U.S. 78\, Loganville\, GA\, 30052\, United States
END:VEVENT
BEGIN:VEVENT
DTSTART;TZID=America/New_York:20210224T193000
DTEND;TZID=America/New_York:20210224T213000
DTSTAMP:20260421T155153
CREATED:20200629T005839Z
LAST-MODIFIED:20220707T111956Z
UID:10000749-1614195000-1614202200@www.gapost233.com
SUMMARY:Weekday BINGO
DESCRIPTION:Doors Open at 5PM\, Raffle Games after 6:00PM\, BINGO at 7:30 PM \nMinimum $15 buy-in\, must be 8 years or older to attend.
URL:https://www.gapost233.com/event/weekday-bingo/2021-02-24/
LOCATION:Post 233 Main Hall\, 4635 U.S. 78\, Loganville\, GA\, 30052\, United States
GEO:33.8337745;-83.8911131
X-APPLE-STRUCTURED-LOCATION;VALUE=URI;X-ADDRESS=Post 233 Main Hall 4635 U.S. 78 Loganville GA 30052 United States;X-APPLE-RADIUS=500;X-TITLE=4635 U.S. 78:geo:-83.8911131,33.8337745
END:VEVENT
BEGIN:VEVENT
DTSTART;TZID=America/New_York:20210225T193000
DTEND;TZID=America/New_York:20210225T213000
DTSTAMP:20260421T155153
CREATED:20200629T005839Z
LAST-MODIFIED:20220707T111956Z
UID:10000750-1614281400-1614288600@www.gapost233.com
SUMMARY:Weekday BINGO
DESCRIPTION:Doors Open at 5PM\, Raffle Games after 6:00PM\, BINGO at 7:30 PM \nMinimum $15 buy-in\, must be 8 years or older to attend.
URL:https://www.gapost233.com/event/weekday-bingo/2021-02-25/
LOCATION:Post 233 Main Hall\, 4635 U.S. 78\, Loganville\, GA\, 30052\, United States
GEO:33.8337745;-83.8911131
X-APPLE-STRUCTURED-LOCATION;VALUE=URI;X-ADDRESS=Post 233 Main Hall 4635 U.S. 78 Loganville GA 30052 United States;X-APPLE-RADIUS=500;X-TITLE=4635 U.S. 78:geo:-83.8911131,33.8337745
END:VEVENT
BEGIN:VEVENT
DTSTART;TZID=America/New_York:20210228T140000
DTEND;TZID=America/New_York:20210228T163000
DTSTAMP:20260421T155153
CREATED:20200629T010314Z
LAST-MODIFIED:20231221T194817Z
UID:10001454-1614520800-1614529800@www.gapost233.com
SUMMARY:Sunday BINGO
DESCRIPTION:Doors Open at  Noon\, Raffle Games after 1:00PM\, BINGO at 2:00 PM \nMinimum $15 buy-in\, must be 8 years or older to attend.
URL:https://www.gapost233.com/event/sunday-bingo/2021-02-28/
LOCATION:GA
END:VEVENT
END:VCALENDAR