BEGIN:VCALENDAR
VERSION:2.0
PRODID:-//AMERICAN LEGION POST 233 - ECPv6.10.1.1//NONSGML v1.0//EN
CALSCALE:GREGORIAN
METHOD:PUBLISH
X-ORIGINAL-URL:https://www.gapost233.com
X-WR-CALDESC:Events for AMERICAN LEGION POST 233
REFRESH-INTERVAL;VALUE=DURATION:PT1H
X-Robots-Tag:noindex
X-PUBLISHED-TTL:PT1H
BEGIN:VTIMEZONE
TZID:America/New_York
BEGIN:DAYLIGHT
TZOFFSETFROM:-0500
TZOFFSETTO:-0400
TZNAME:EDT
DTSTART:20210314T070000
END:DAYLIGHT
BEGIN:STANDARD
TZOFFSETFROM:-0400
TZOFFSETTO:-0500
TZNAME:EST
DTSTART:20211107T060000
END:STANDARD
END:VTIMEZONE
BEGIN:VEVENT
DTSTART;TZID=America/New_York:20210401T193000
DTEND;TZID=America/New_York:20210401T213000
DTSTAMP:20260421T081510
CREATED:20200629T005839Z
LAST-MODIFIED:20220707T111956Z
UID:10000765-1617305400-1617312600@www.gapost233.com
SUMMARY:Weekday BINGO
DESCRIPTION:Doors Open at 5PM\, Raffle Games after 6:00PM\, BINGO at 7:30 PM \nMinimum $15 buy-in\, must be 8 years or older to attend.
URL:https://www.gapost233.com/event/weekday-bingo/2021-04-01/
LOCATION:Post 233 Main Hall\, 4635 U.S. 78\, Loganville\, GA\, 30052\, United States
GEO:33.8337745;-83.8911131
X-APPLE-STRUCTURED-LOCATION;VALUE=URI;X-ADDRESS=Post 233 Main Hall 4635 U.S. 78 Loganville GA 30052 United States;X-APPLE-RADIUS=500;X-TITLE=4635 U.S. 78:geo:-83.8911131,33.8337745
END:VEVENT
BEGIN:VEVENT
DTSTART;TZID=America/New_York:20210404T140000
DTEND;TZID=America/New_York:20210404T163000
DTSTAMP:20260421T081510
CREATED:20200629T010314Z
LAST-MODIFIED:20231221T194817Z
UID:10001459-1617544800-1617553800@www.gapost233.com
SUMMARY:Sunday BINGO
DESCRIPTION:Doors Open at  Noon\, Raffle Games after 1:00PM\, BINGO at 2:00 PM \nMinimum $15 buy-in\, must be 8 years or older to attend.
URL:https://www.gapost233.com/event/sunday-bingo/2021-04-04/
LOCATION:GA
END:VEVENT
BEGIN:VEVENT
DTSTART;TZID=America/New_York:20210405T193000
DTEND;TZID=America/New_York:20210405T213000
DTSTAMP:20260421T081510
CREATED:20200629T005839Z
LAST-MODIFIED:20220707T111956Z
UID:10000766-1617651000-1617658200@www.gapost233.com
SUMMARY:Weekday BINGO
DESCRIPTION:Doors Open at 5PM\, Raffle Games after 6:00PM\, BINGO at 7:30 PM \nMinimum $15 buy-in\, must be 8 years or older to attend.
URL:https://www.gapost233.com/event/weekday-bingo/2021-04-05/
LOCATION:Post 233 Main Hall\, 4635 U.S. 78\, Loganville\, GA\, 30052\, United States
GEO:33.8337745;-83.8911131
X-APPLE-STRUCTURED-LOCATION;VALUE=URI;X-ADDRESS=Post 233 Main Hall 4635 U.S. 78 Loganville GA 30052 United States;X-APPLE-RADIUS=500;X-TITLE=4635 U.S. 78:geo:-83.8911131,33.8337745
END:VEVENT
BEGIN:VEVENT
DTSTART;TZID=America/New_York:20210406T200000
DTEND;TZID=America/New_York:20210406T210000
DTSTAMP:20260421T081510
CREATED:20181007T182103Z
LAST-MODIFIED:20200705T164755Z
UID:10000560-1617739200-1617742800@www.gapost233.com
SUMMARY:Sons of the American Legion Meeting
DESCRIPTION:The Sons of the Legion meet in conjunction with the American Legion on the First Tuesday of each Month.
URL:https://www.gapost233.com/event/sons-of-the-american-legion-meeting/2021-04-06/
LOCATION:GA
END:VEVENT
BEGIN:VEVENT
DTSTART;TZID=America/New_York:20210406T200000
DTEND;TZID=America/New_York:20210406T210000
DTSTAMP:20260421T081510
CREATED:20200810T223314Z
LAST-MODIFIED:20200810T223314Z
UID:10000136-1617739200-1617742800@www.gapost233.com
SUMMARY:Post 233 American Legion Meeting
DESCRIPTION:Our Monthly meeting!  A great time to find out what your local legion is up to!
URL:https://www.gapost233.com/event/post-233-american-legion-meeting/2021-04-06/
LOCATION:Post 233 Main Hall\, 4635 U.S. 78\, Loganville\, GA\, 30052\, United States
GEO:33.8337745;-83.8911131
X-APPLE-STRUCTURED-LOCATION;VALUE=URI;X-ADDRESS=Post 233 Main Hall 4635 U.S. 78 Loganville GA 30052 United States;X-APPLE-RADIUS=500;X-TITLE=4635 U.S. 78:geo:-83.8911131,33.8337745
END:VEVENT
BEGIN:VEVENT
DTSTART;TZID=America/New_York:20210407T100000
DTEND;TZID=America/New_York:20210407T110000
DTSTAMP:20260421T081510
CREATED:20210203T233759Z
LAST-MODIFIED:20210203T233759Z
UID:10001802-1617789600-1617793200@www.gapost233.com
SUMMARY:Tai Chi for Veterans & others
DESCRIPTION:Veterans and their families as well as American Legion family members are invited to try out our free Tai Chi Class on Wednesday mornings.
URL:https://www.gapost233.com/event/tai-chi-for-veterans-others/2021-04-07/
LOCATION:Robert Boss Pavilion\, 4635 U.S. 78\, Loganville\, GA\, 30052\, United States
END:VEVENT
BEGIN:VEVENT
DTSTART;TZID=America/New_York:20210407T193000
DTEND;TZID=America/New_York:20210407T213000
DTSTAMP:20260421T081510
CREATED:20200629T005839Z
LAST-MODIFIED:20220707T111956Z
UID:10000767-1617823800-1617831000@www.gapost233.com
SUMMARY:Weekday BINGO
DESCRIPTION:Doors Open at 5PM\, Raffle Games after 6:00PM\, BINGO at 7:30 PM \nMinimum $15 buy-in\, must be 8 years or older to attend.
URL:https://www.gapost233.com/event/weekday-bingo/2021-04-07/
LOCATION:Post 233 Main Hall\, 4635 U.S. 78\, Loganville\, GA\, 30052\, United States
GEO:33.8337745;-83.8911131
X-APPLE-STRUCTURED-LOCATION;VALUE=URI;X-ADDRESS=Post 233 Main Hall 4635 U.S. 78 Loganville GA 30052 United States;X-APPLE-RADIUS=500;X-TITLE=4635 U.S. 78:geo:-83.8911131,33.8337745
END:VEVENT
BEGIN:VEVENT
DTSTART;TZID=America/New_York:20210408T193000
DTEND;TZID=America/New_York:20210408T213000
DTSTAMP:20260421T081510
CREATED:20200629T005839Z
LAST-MODIFIED:20220707T111956Z
UID:10000768-1617910200-1617917400@www.gapost233.com
SUMMARY:Weekday BINGO
DESCRIPTION:Doors Open at 5PM\, Raffle Games after 6:00PM\, BINGO at 7:30 PM \nMinimum $15 buy-in\, must be 8 years or older to attend.
URL:https://www.gapost233.com/event/weekday-bingo/2021-04-08/
LOCATION:Post 233 Main Hall\, 4635 U.S. 78\, Loganville\, GA\, 30052\, United States
GEO:33.8337745;-83.8911131
X-APPLE-STRUCTURED-LOCATION;VALUE=URI;X-ADDRESS=Post 233 Main Hall 4635 U.S. 78 Loganville GA 30052 United States;X-APPLE-RADIUS=500;X-TITLE=4635 U.S. 78:geo:-83.8911131,33.8337745
END:VEVENT
BEGIN:VEVENT
DTSTART;TZID=America/New_York:20210411T140000
DTEND;TZID=America/New_York:20210411T163000
DTSTAMP:20260421T081510
CREATED:20200629T010314Z
LAST-MODIFIED:20231221T194817Z
UID:10001460-1618149600-1618158600@www.gapost233.com
SUMMARY:Sunday BINGO
DESCRIPTION:Doors Open at  Noon\, Raffle Games after 1:00PM\, BINGO at 2:00 PM \nMinimum $15 buy-in\, must be 8 years or older to attend.
URL:https://www.gapost233.com/event/sunday-bingo/2021-04-11/
LOCATION:GA
END:VEVENT
BEGIN:VEVENT
DTSTART;TZID=America/New_York:20210412T193000
DTEND;TZID=America/New_York:20210412T213000
DTSTAMP:20260421T081510
CREATED:20200629T005839Z
LAST-MODIFIED:20220707T111956Z
UID:10000769-1618255800-1618263000@www.gapost233.com
SUMMARY:Weekday BINGO
DESCRIPTION:Doors Open at 5PM\, Raffle Games after 6:00PM\, BINGO at 7:30 PM \nMinimum $15 buy-in\, must be 8 years or older to attend.
URL:https://www.gapost233.com/event/weekday-bingo/2021-04-12/
LOCATION:Post 233 Main Hall\, 4635 U.S. 78\, Loganville\, GA\, 30052\, United States
GEO:33.8337745;-83.8911131
X-APPLE-STRUCTURED-LOCATION;VALUE=URI;X-ADDRESS=Post 233 Main Hall 4635 U.S. 78 Loganville GA 30052 United States;X-APPLE-RADIUS=500;X-TITLE=4635 U.S. 78:geo:-83.8911131,33.8337745
END:VEVENT
BEGIN:VEVENT
DTSTART;TZID=America/New_York:20210414T100000
DTEND;TZID=America/New_York:20210414T110000
DTSTAMP:20260421T081510
CREATED:20210203T233759Z
LAST-MODIFIED:20210203T233759Z
UID:10001803-1618394400-1618398000@www.gapost233.com
SUMMARY:Tai Chi for Veterans & others
DESCRIPTION:Veterans and their families as well as American Legion family members are invited to try out our free Tai Chi Class on Wednesday mornings.
URL:https://www.gapost233.com/event/tai-chi-for-veterans-others/2021-04-14/
LOCATION:Robert Boss Pavilion\, 4635 U.S. 78\, Loganville\, GA\, 30052\, United States
END:VEVENT
BEGIN:VEVENT
DTSTART;TZID=America/New_York:20210414T193000
DTEND;TZID=America/New_York:20210414T213000
DTSTAMP:20260421T081510
CREATED:20200629T005839Z
LAST-MODIFIED:20220707T111956Z
UID:10000770-1618428600-1618435800@www.gapost233.com
SUMMARY:Weekday BINGO
DESCRIPTION:Doors Open at 5PM\, Raffle Games after 6:00PM\, BINGO at 7:30 PM \nMinimum $15 buy-in\, must be 8 years or older to attend.
URL:https://www.gapost233.com/event/weekday-bingo/2021-04-14/
LOCATION:Post 233 Main Hall\, 4635 U.S. 78\, Loganville\, GA\, 30052\, United States
GEO:33.8337745;-83.8911131
X-APPLE-STRUCTURED-LOCATION;VALUE=URI;X-ADDRESS=Post 233 Main Hall 4635 U.S. 78 Loganville GA 30052 United States;X-APPLE-RADIUS=500;X-TITLE=4635 U.S. 78:geo:-83.8911131,33.8337745
END:VEVENT
BEGIN:VEVENT
DTSTART;TZID=America/New_York:20210415T193000
DTEND;TZID=America/New_York:20210415T213000
DTSTAMP:20260421T081510
CREATED:20200629T005839Z
LAST-MODIFIED:20220707T111956Z
UID:10000771-1618515000-1618522200@www.gapost233.com
SUMMARY:Weekday BINGO
DESCRIPTION:Doors Open at 5PM\, Raffle Games after 6:00PM\, BINGO at 7:30 PM \nMinimum $15 buy-in\, must be 8 years or older to attend.
URL:https://www.gapost233.com/event/weekday-bingo/2021-04-15/
LOCATION:Post 233 Main Hall\, 4635 U.S. 78\, Loganville\, GA\, 30052\, United States
GEO:33.8337745;-83.8911131
X-APPLE-STRUCTURED-LOCATION;VALUE=URI;X-ADDRESS=Post 233 Main Hall 4635 U.S. 78 Loganville GA 30052 United States;X-APPLE-RADIUS=500;X-TITLE=4635 U.S. 78:geo:-83.8911131,33.8337745
END:VEVENT
BEGIN:VEVENT
DTSTART;TZID=America/New_York:20210416T190000
DTEND;TZID=America/New_York:20210416T210000
DTSTAMP:20260421T081510
CREATED:20150426T152120Z
LAST-MODIFIED:20171226T170140Z
UID:10000222-1618599600-1618606800@www.gapost233.com
SUMMARY:ALR Meeting
DESCRIPTION:The American Legion Riders will meet tonight at 7:00pm. Guests are welcome to attend the meeting to learn more about this very active group.
URL:https://www.gapost233.com/event/alr-meeting/2021-04-16/
LOCATION:Robert Boss Pavilion\, 4635 U.S. 78\, Loganville\, GA\, 30052\, United States
END:VEVENT
BEGIN:VEVENT
DTSTART;TZID=America/New_York:20210418T140000
DTEND;TZID=America/New_York:20210418T163000
DTSTAMP:20260421T081510
CREATED:20200629T010314Z
LAST-MODIFIED:20231221T194817Z
UID:10001461-1618754400-1618763400@www.gapost233.com
SUMMARY:Sunday BINGO
DESCRIPTION:Doors Open at  Noon\, Raffle Games after 1:00PM\, BINGO at 2:00 PM \nMinimum $15 buy-in\, must be 8 years or older to attend.
URL:https://www.gapost233.com/event/sunday-bingo/2021-04-18/
LOCATION:GA
END:VEVENT
BEGIN:VEVENT
DTSTART;TZID=America/New_York:20210419T193000
DTEND;TZID=America/New_York:20210419T213000
DTSTAMP:20260421T081510
CREATED:20200629T005839Z
LAST-MODIFIED:20220707T111956Z
UID:10000772-1618860600-1618867800@www.gapost233.com
SUMMARY:Weekday BINGO
DESCRIPTION:Doors Open at 5PM\, Raffle Games after 6:00PM\, BINGO at 7:30 PM \nMinimum $15 buy-in\, must be 8 years or older to attend.
URL:https://www.gapost233.com/event/weekday-bingo/2021-04-19/
LOCATION:Post 233 Main Hall\, 4635 U.S. 78\, Loganville\, GA\, 30052\, United States
GEO:33.8337745;-83.8911131
X-APPLE-STRUCTURED-LOCATION;VALUE=URI;X-ADDRESS=Post 233 Main Hall 4635 U.S. 78 Loganville GA 30052 United States;X-APPLE-RADIUS=500;X-TITLE=4635 U.S. 78:geo:-83.8911131,33.8337745
END:VEVENT
BEGIN:VEVENT
DTSTART;TZID=America/New_York:20210421T100000
DTEND;TZID=America/New_York:20210421T110000
DTSTAMP:20260421T081510
CREATED:20210203T233759Z
LAST-MODIFIED:20210203T233759Z
UID:10001804-1618999200-1619002800@www.gapost233.com
SUMMARY:Tai Chi for Veterans & others
DESCRIPTION:Veterans and their families as well as American Legion family members are invited to try out our free Tai Chi Class on Wednesday mornings.
URL:https://www.gapost233.com/event/tai-chi-for-veterans-others/2021-04-21/
LOCATION:Robert Boss Pavilion\, 4635 U.S. 78\, Loganville\, GA\, 30052\, United States
END:VEVENT
BEGIN:VEVENT
DTSTART;TZID=America/New_York:20210421T193000
DTEND;TZID=America/New_York:20210421T213000
DTSTAMP:20260421T081510
CREATED:20200629T005839Z
LAST-MODIFIED:20220707T111956Z
UID:10000773-1619033400-1619040600@www.gapost233.com
SUMMARY:Weekday BINGO
DESCRIPTION:Doors Open at 5PM\, Raffle Games after 6:00PM\, BINGO at 7:30 PM \nMinimum $15 buy-in\, must be 8 years or older to attend.
URL:https://www.gapost233.com/event/weekday-bingo/2021-04-21/
LOCATION:Post 233 Main Hall\, 4635 U.S. 78\, Loganville\, GA\, 30052\, United States
GEO:33.8337745;-83.8911131
X-APPLE-STRUCTURED-LOCATION;VALUE=URI;X-ADDRESS=Post 233 Main Hall 4635 U.S. 78 Loganville GA 30052 United States;X-APPLE-RADIUS=500;X-TITLE=4635 U.S. 78:geo:-83.8911131,33.8337745
END:VEVENT
BEGIN:VEVENT
DTSTART;TZID=America/New_York:20210422T193000
DTEND;TZID=America/New_York:20210422T213000
DTSTAMP:20260421T081510
CREATED:20200629T005839Z
LAST-MODIFIED:20220707T111956Z
UID:10000774-1619119800-1619127000@www.gapost233.com
SUMMARY:Weekday BINGO
DESCRIPTION:Doors Open at 5PM\, Raffle Games after 6:00PM\, BINGO at 7:30 PM \nMinimum $15 buy-in\, must be 8 years or older to attend.
URL:https://www.gapost233.com/event/weekday-bingo/2021-04-22/
LOCATION:Post 233 Main Hall\, 4635 U.S. 78\, Loganville\, GA\, 30052\, United States
GEO:33.8337745;-83.8911131
X-APPLE-STRUCTURED-LOCATION;VALUE=URI;X-ADDRESS=Post 233 Main Hall 4635 U.S. 78 Loganville GA 30052 United States;X-APPLE-RADIUS=500;X-TITLE=4635 U.S. 78:geo:-83.8911131,33.8337745
END:VEVENT
BEGIN:VEVENT
DTSTART;TZID=America/New_York:20210425T140000
DTEND;TZID=America/New_York:20210425T163000
DTSTAMP:20260421T081510
CREATED:20200629T010314Z
LAST-MODIFIED:20231221T194817Z
UID:10001462-1619359200-1619368200@www.gapost233.com
SUMMARY:Sunday BINGO
DESCRIPTION:Doors Open at  Noon\, Raffle Games after 1:00PM\, BINGO at 2:00 PM \nMinimum $15 buy-in\, must be 8 years or older to attend.
URL:https://www.gapost233.com/event/sunday-bingo/2021-04-25/
LOCATION:GA
END:VEVENT
BEGIN:VEVENT
DTSTART;TZID=America/New_York:20210426T193000
DTEND;TZID=America/New_York:20210426T213000
DTSTAMP:20260421T081510
CREATED:20200629T005839Z
LAST-MODIFIED:20220707T111956Z
UID:10000775-1619465400-1619472600@www.gapost233.com
SUMMARY:Weekday BINGO
DESCRIPTION:Doors Open at 5PM\, Raffle Games after 6:00PM\, BINGO at 7:30 PM \nMinimum $15 buy-in\, must be 8 years or older to attend.
URL:https://www.gapost233.com/event/weekday-bingo/2021-04-26/
LOCATION:Post 233 Main Hall\, 4635 U.S. 78\, Loganville\, GA\, 30052\, United States
GEO:33.8337745;-83.8911131
X-APPLE-STRUCTURED-LOCATION;VALUE=URI;X-ADDRESS=Post 233 Main Hall 4635 U.S. 78 Loganville GA 30052 United States;X-APPLE-RADIUS=500;X-TITLE=4635 U.S. 78:geo:-83.8911131,33.8337745
END:VEVENT
BEGIN:VEVENT
DTSTART;TZID=America/New_York:20210428T100000
DTEND;TZID=America/New_York:20210428T110000
DTSTAMP:20260421T081510
CREATED:20210203T233759Z
LAST-MODIFIED:20210203T233759Z
UID:10001805-1619604000-1619607600@www.gapost233.com
SUMMARY:Tai Chi for Veterans & others
DESCRIPTION:Veterans and their families as well as American Legion family members are invited to try out our free Tai Chi Class on Wednesday mornings.
URL:https://www.gapost233.com/event/tai-chi-for-veterans-others/2021-04-28/
LOCATION:Robert Boss Pavilion\, 4635 U.S. 78\, Loganville\, GA\, 30052\, United States
END:VEVENT
BEGIN:VEVENT
DTSTART;TZID=America/New_York:20210428T193000
DTEND;TZID=America/New_York:20210428T213000
DTSTAMP:20260421T081510
CREATED:20200629T005839Z
LAST-MODIFIED:20220707T111956Z
UID:10000776-1619638200-1619645400@www.gapost233.com
SUMMARY:Weekday BINGO
DESCRIPTION:Doors Open at 5PM\, Raffle Games after 6:00PM\, BINGO at 7:30 PM \nMinimum $15 buy-in\, must be 8 years or older to attend.
URL:https://www.gapost233.com/event/weekday-bingo/2021-04-28/
LOCATION:Post 233 Main Hall\, 4635 U.S. 78\, Loganville\, GA\, 30052\, United States
GEO:33.8337745;-83.8911131
X-APPLE-STRUCTURED-LOCATION;VALUE=URI;X-ADDRESS=Post 233 Main Hall 4635 U.S. 78 Loganville GA 30052 United States;X-APPLE-RADIUS=500;X-TITLE=4635 U.S. 78:geo:-83.8911131,33.8337745
END:VEVENT
BEGIN:VEVENT
DTSTART;TZID=America/New_York:20210429T193000
DTEND;TZID=America/New_York:20210429T213000
DTSTAMP:20260421T081510
CREATED:20200629T005839Z
LAST-MODIFIED:20220707T111956Z
UID:10000777-1619724600-1619731800@www.gapost233.com
SUMMARY:Weekday BINGO
DESCRIPTION:Doors Open at 5PM\, Raffle Games after 6:00PM\, BINGO at 7:30 PM \nMinimum $15 buy-in\, must be 8 years or older to attend.
URL:https://www.gapost233.com/event/weekday-bingo/2021-04-29/
LOCATION:Post 233 Main Hall\, 4635 U.S. 78\, Loganville\, GA\, 30052\, United States
GEO:33.8337745;-83.8911131
X-APPLE-STRUCTURED-LOCATION;VALUE=URI;X-ADDRESS=Post 233 Main Hall 4635 U.S. 78 Loganville GA 30052 United States;X-APPLE-RADIUS=500;X-TITLE=4635 U.S. 78:geo:-83.8911131,33.8337745
END:VEVENT
END:VCALENDAR