BEGIN:VCALENDAR
VERSION:2.0
PRODID:-//AMERICAN LEGION POST 233 - ECPv6.10.1.1//NONSGML v1.0//EN
CALSCALE:GREGORIAN
METHOD:PUBLISH
X-WR-CALNAME:AMERICAN LEGION POST 233
X-ORIGINAL-URL:https://www.gapost233.com
X-WR-CALDESC:Events for AMERICAN LEGION POST 233
REFRESH-INTERVAL;VALUE=DURATION:PT1H
X-Robots-Tag:noindex
X-PUBLISHED-TTL:PT1H
BEGIN:VTIMEZONE
TZID:America/New_York
BEGIN:DAYLIGHT
TZOFFSETFROM:-0500
TZOFFSETTO:-0400
TZNAME:EDT
DTSTART:20210314T070000
END:DAYLIGHT
BEGIN:STANDARD
TZOFFSETFROM:-0400
TZOFFSETTO:-0500
TZNAME:EST
DTSTART:20211107T060000
END:STANDARD
END:VTIMEZONE
BEGIN:VEVENT
DTSTART;TZID=America/New_York:20211003T140000
DTEND;TZID=America/New_York:20211003T163000
DTSTAMP:20260421T155048
CREATED:20200629T010314Z
LAST-MODIFIED:20231221T194817Z
UID:10001485-1633269600-1633278600@www.gapost233.com
SUMMARY:Sunday BINGO
DESCRIPTION:Doors Open at  Noon\, Raffle Games after 1:00PM\, BINGO at 2:00 PM \nMinimum $15 buy-in\, must be 8 years or older to attend.
URL:https://www.gapost233.com/event/sunday-bingo/2021-10-03/
LOCATION:GA
END:VEVENT
BEGIN:VEVENT
DTSTART;TZID=America/New_York:20211004T193000
DTEND;TZID=America/New_York:20211004T213000
DTSTAMP:20260421T155048
CREATED:20200629T005839Z
LAST-MODIFIED:20220707T111956Z
UID:10000844-1633375800-1633383000@www.gapost233.com
SUMMARY:Weekday BINGO
DESCRIPTION:Doors Open at 5PM\, Raffle Games after 6:00PM\, BINGO at 7:30 PM \nMinimum $15 buy-in\, must be 8 years or older to attend.
URL:https://www.gapost233.com/event/weekday-bingo/2021-10-04/
LOCATION:Post 233 Main Hall\, 4635 U.S. 78\, Loganville\, GA\, 30052\, United States
GEO:33.8337745;-83.8911131
X-APPLE-STRUCTURED-LOCATION;VALUE=URI;X-ADDRESS=Post 233 Main Hall 4635 U.S. 78 Loganville GA 30052 United States;X-APPLE-RADIUS=500;X-TITLE=4635 U.S. 78:geo:-83.8911131,33.8337745
END:VEVENT
BEGIN:VEVENT
DTSTART;TZID=America/New_York:20211005T200000
DTEND;TZID=America/New_York:20211005T210000
DTSTAMP:20260421T155048
CREATED:20181007T182103Z
LAST-MODIFIED:20200705T164755Z
UID:10000566-1633464000-1633467600@www.gapost233.com
SUMMARY:Sons of the American Legion Meeting
DESCRIPTION:The Sons of the Legion meet in conjunction with the American Legion on the First Tuesday of each Month.
URL:https://www.gapost233.com/event/sons-of-the-american-legion-meeting/2021-10-05/
LOCATION:GA
END:VEVENT
BEGIN:VEVENT
DTSTART;TZID=America/New_York:20211005T200000
DTEND;TZID=America/New_York:20211005T210000
DTSTAMP:20260421T155048
CREATED:20200810T223314Z
LAST-MODIFIED:20200810T223314Z
UID:10000142-1633464000-1633467600@www.gapost233.com
SUMMARY:Post 233 American Legion Meeting
DESCRIPTION:Our Monthly meeting!  A great time to find out what your local legion is up to!
URL:https://www.gapost233.com/event/post-233-american-legion-meeting/2021-10-05/
LOCATION:Post 233 Main Hall\, 4635 U.S. 78\, Loganville\, GA\, 30052\, United States
GEO:33.8337745;-83.8911131
X-APPLE-STRUCTURED-LOCATION;VALUE=URI;X-ADDRESS=Post 233 Main Hall 4635 U.S. 78 Loganville GA 30052 United States;X-APPLE-RADIUS=500;X-TITLE=4635 U.S. 78:geo:-83.8911131,33.8337745
END:VEVENT
BEGIN:VEVENT
DTSTART;TZID=America/New_York:20211006T193000
DTEND;TZID=America/New_York:20211006T213000
DTSTAMP:20260421T155048
CREATED:20200629T005839Z
LAST-MODIFIED:20220707T111956Z
UID:10000845-1633548600-1633555800@www.gapost233.com
SUMMARY:Weekday BINGO
DESCRIPTION:Doors Open at 5PM\, Raffle Games after 6:00PM\, BINGO at 7:30 PM \nMinimum $15 buy-in\, must be 8 years or older to attend.
URL:https://www.gapost233.com/event/weekday-bingo/2021-10-06/
LOCATION:Post 233 Main Hall\, 4635 U.S. 78\, Loganville\, GA\, 30052\, United States
GEO:33.8337745;-83.8911131
X-APPLE-STRUCTURED-LOCATION;VALUE=URI;X-ADDRESS=Post 233 Main Hall 4635 U.S. 78 Loganville GA 30052 United States;X-APPLE-RADIUS=500;X-TITLE=4635 U.S. 78:geo:-83.8911131,33.8337745
END:VEVENT
BEGIN:VEVENT
DTSTART;TZID=America/New_York:20211007T193000
DTEND;TZID=America/New_York:20211007T213000
DTSTAMP:20260421T155048
CREATED:20200629T005839Z
LAST-MODIFIED:20220707T111956Z
UID:10000846-1633635000-1633642200@www.gapost233.com
SUMMARY:Weekday BINGO
DESCRIPTION:Doors Open at 5PM\, Raffle Games after 6:00PM\, BINGO at 7:30 PM \nMinimum $15 buy-in\, must be 8 years or older to attend.
URL:https://www.gapost233.com/event/weekday-bingo/2021-10-07/
LOCATION:Post 233 Main Hall\, 4635 U.S. 78\, Loganville\, GA\, 30052\, United States
GEO:33.8337745;-83.8911131
X-APPLE-STRUCTURED-LOCATION;VALUE=URI;X-ADDRESS=Post 233 Main Hall 4635 U.S. 78 Loganville GA 30052 United States;X-APPLE-RADIUS=500;X-TITLE=4635 U.S. 78:geo:-83.8911131,33.8337745
END:VEVENT
BEGIN:VEVENT
DTSTART;TZID=America/New_York:20211010T140000
DTEND;TZID=America/New_York:20211010T163000
DTSTAMP:20260421T155048
CREATED:20200629T010314Z
LAST-MODIFIED:20231221T194817Z
UID:10001486-1633874400-1633883400@www.gapost233.com
SUMMARY:Sunday BINGO
DESCRIPTION:Doors Open at  Noon\, Raffle Games after 1:00PM\, BINGO at 2:00 PM \nMinimum $15 buy-in\, must be 8 years or older to attend.
URL:https://www.gapost233.com/event/sunday-bingo/2021-10-10/
LOCATION:GA
END:VEVENT
BEGIN:VEVENT
DTSTART;TZID=America/New_York:20211011T193000
DTEND;TZID=America/New_York:20211011T213000
DTSTAMP:20260421T155048
CREATED:20200629T005839Z
LAST-MODIFIED:20220707T111956Z
UID:10000847-1633980600-1633987800@www.gapost233.com
SUMMARY:Weekday BINGO
DESCRIPTION:Doors Open at 5PM\, Raffle Games after 6:00PM\, BINGO at 7:30 PM \nMinimum $15 buy-in\, must be 8 years or older to attend.
URL:https://www.gapost233.com/event/weekday-bingo/2021-10-11/
LOCATION:Post 233 Main Hall\, 4635 U.S. 78\, Loganville\, GA\, 30052\, United States
GEO:33.8337745;-83.8911131
X-APPLE-STRUCTURED-LOCATION;VALUE=URI;X-ADDRESS=Post 233 Main Hall 4635 U.S. 78 Loganville GA 30052 United States;X-APPLE-RADIUS=500;X-TITLE=4635 U.S. 78:geo:-83.8911131,33.8337745
END:VEVENT
BEGIN:VEVENT
DTSTART;VALUE=DATE:20211013
DTEND;VALUE=DATE:20211014
DTSTAMP:20260421T155048
CREATED:20151110T110116Z
LAST-MODIFIED:20151110T110215Z
UID:10000444-1634083200-1634169599@www.gapost233.com
SUMMARY:Navy Birthday
DESCRIPTION:The U.S. Navy traces its roots back to the privateers that were employed to attack British commerce in the early days of the revolution. On October 13\, 1775\, the Continental Congress established a naval force\, hoping that a small fleet would be able to offset the uncontested exercise of British sea power.\nGet most recent Navy news\, videos\, equipment\, fitness & more on the Navy page.\nThe early Continental navy was not expected to take on the British navy for control of the seas. This small naval force was designed to work with privateers to wage tactical raids against the transports that supplied British forces in North America. To accomplish this mission the Continental Congress purchased\, converted\, and constructed a fleet of small ships–frigates\, brigs\, sloops\, and schooners. These navy ships sailed independently or in pairs hunting British commerce ships and transports like prey\, avoiding whenever possible fights with Royal Navy men-of-war.\nNavy Day	The Origins of Navy Day\nSailors and Marines at attention.	Who Has Precedence: Navy or Marines?\nThe Battle of Midway	Navy History Highlights\nUSS Carl Vinson	The Modern US Naval Arsenal\nThree tier Navy birthday cake.	The Two Navy Holidays: Navy Birthday and Navy Day\nAmphibious ssault ship USS Kearsarge	Birthplace of the U.S. Navy\nThe Continental navy faced several obstacles both during and after the revolution – mostly political and economic. Two years after the end of the war\, the money-poor Congress sold off the last ship of the Continental navy\, the frigate Alliance.\nIn the 1790’s Europe began to relax many mercantile commercial restrictions and the U.S. trade and the shipping industry expanded accordingly. However\, as the number of U.S. ships increased so did the possibility increased attacks by the European powers and pirates. In March 1794 Congress responded by calling for the construction of a half-dozen frigates. And\, once again\, the United States had a navy.\nAlthough the Continental navy was later dismantled\, October 13\, 1775 remains the U.S. Navy’s official birthday.\nFrom these humble beginnings\, the world’s most powerful naval force was born. With thousands of ships and aircraft serving worldwide\, the U.S. Navy is a force to be reckoned with. To learn more about the early years of the U.S. Navy\, visit the U.S. Naval Historical Center website.
URL:https://www.gapost233.com/event/navy-birthday/2021-10-13/
LOCATION:GA
END:VEVENT
BEGIN:VEVENT
DTSTART;TZID=America/New_York:20211013T193000
DTEND;TZID=America/New_York:20211013T213000
DTSTAMP:20260421T155048
CREATED:20200629T005839Z
LAST-MODIFIED:20220707T111956Z
UID:10000848-1634153400-1634160600@www.gapost233.com
SUMMARY:Weekday BINGO
DESCRIPTION:Doors Open at 5PM\, Raffle Games after 6:00PM\, BINGO at 7:30 PM \nMinimum $15 buy-in\, must be 8 years or older to attend.
URL:https://www.gapost233.com/event/weekday-bingo/2021-10-13/
LOCATION:Post 233 Main Hall\, 4635 U.S. 78\, Loganville\, GA\, 30052\, United States
GEO:33.8337745;-83.8911131
X-APPLE-STRUCTURED-LOCATION;VALUE=URI;X-ADDRESS=Post 233 Main Hall 4635 U.S. 78 Loganville GA 30052 United States;X-APPLE-RADIUS=500;X-TITLE=4635 U.S. 78:geo:-83.8911131,33.8337745
END:VEVENT
BEGIN:VEVENT
DTSTART;TZID=America/New_York:20211014T193000
DTEND;TZID=America/New_York:20211014T213000
DTSTAMP:20260421T155048
CREATED:20200629T005839Z
LAST-MODIFIED:20220707T111956Z
UID:10000849-1634239800-1634247000@www.gapost233.com
SUMMARY:Weekday BINGO
DESCRIPTION:Doors Open at 5PM\, Raffle Games after 6:00PM\, BINGO at 7:30 PM \nMinimum $15 buy-in\, must be 8 years or older to attend.
URL:https://www.gapost233.com/event/weekday-bingo/2021-10-14/
LOCATION:Post 233 Main Hall\, 4635 U.S. 78\, Loganville\, GA\, 30052\, United States
GEO:33.8337745;-83.8911131
X-APPLE-STRUCTURED-LOCATION;VALUE=URI;X-ADDRESS=Post 233 Main Hall 4635 U.S. 78 Loganville GA 30052 United States;X-APPLE-RADIUS=500;X-TITLE=4635 U.S. 78:geo:-83.8911131,33.8337745
END:VEVENT
BEGIN:VEVENT
DTSTART;TZID=America/New_York:20211016T190000
DTEND;TZID=America/New_York:20211016T210000
DTSTAMP:20260421T155048
CREATED:20150426T152120Z
LAST-MODIFIED:20171226T170140Z
UID:10000228-1634410800-1634418000@www.gapost233.com
SUMMARY:ALR Meeting
DESCRIPTION:The American Legion Riders will meet tonight at 7:00pm. Guests are welcome to attend the meeting to learn more about this very active group.
URL:https://www.gapost233.com/event/alr-meeting/2021-10-16/
LOCATION:Robert Boss Pavilion\, 4635 U.S. 78\, Loganville\, GA\, 30052\, United States
END:VEVENT
BEGIN:VEVENT
DTSTART;TZID=America/New_York:20211017T140000
DTEND;TZID=America/New_York:20211017T163000
DTSTAMP:20260421T155048
CREATED:20200629T010314Z
LAST-MODIFIED:20231221T194817Z
UID:10001487-1634479200-1634488200@www.gapost233.com
SUMMARY:Sunday BINGO
DESCRIPTION:Doors Open at  Noon\, Raffle Games after 1:00PM\, BINGO at 2:00 PM \nMinimum $15 buy-in\, must be 8 years or older to attend.
URL:https://www.gapost233.com/event/sunday-bingo/2021-10-17/
LOCATION:GA
END:VEVENT
BEGIN:VEVENT
DTSTART;TZID=America/New_York:20211018T193000
DTEND;TZID=America/New_York:20211018T213000
DTSTAMP:20260421T155048
CREATED:20200629T005839Z
LAST-MODIFIED:20220707T111956Z
UID:10000850-1634585400-1634592600@www.gapost233.com
SUMMARY:Weekday BINGO
DESCRIPTION:Doors Open at 5PM\, Raffle Games after 6:00PM\, BINGO at 7:30 PM \nMinimum $15 buy-in\, must be 8 years or older to attend.
URL:https://www.gapost233.com/event/weekday-bingo/2021-10-18/
LOCATION:Post 233 Main Hall\, 4635 U.S. 78\, Loganville\, GA\, 30052\, United States
GEO:33.8337745;-83.8911131
X-APPLE-STRUCTURED-LOCATION;VALUE=URI;X-ADDRESS=Post 233 Main Hall 4635 U.S. 78 Loganville GA 30052 United States;X-APPLE-RADIUS=500;X-TITLE=4635 U.S. 78:geo:-83.8911131,33.8337745
END:VEVENT
BEGIN:VEVENT
DTSTART;TZID=America/New_York:20211020T193000
DTEND;TZID=America/New_York:20211020T213000
DTSTAMP:20260421T155048
CREATED:20200629T005839Z
LAST-MODIFIED:20220707T111956Z
UID:10000851-1634758200-1634765400@www.gapost233.com
SUMMARY:Weekday BINGO
DESCRIPTION:Doors Open at 5PM\, Raffle Games after 6:00PM\, BINGO at 7:30 PM \nMinimum $15 buy-in\, must be 8 years or older to attend.
URL:https://www.gapost233.com/event/weekday-bingo/2021-10-20/
LOCATION:Post 233 Main Hall\, 4635 U.S. 78\, Loganville\, GA\, 30052\, United States
GEO:33.8337745;-83.8911131
X-APPLE-STRUCTURED-LOCATION;VALUE=URI;X-ADDRESS=Post 233 Main Hall 4635 U.S. 78 Loganville GA 30052 United States;X-APPLE-RADIUS=500;X-TITLE=4635 U.S. 78:geo:-83.8911131,33.8337745
END:VEVENT
BEGIN:VEVENT
DTSTART;TZID=America/New_York:20211021T193000
DTEND;TZID=America/New_York:20211021T213000
DTSTAMP:20260421T155048
CREATED:20200629T005839Z
LAST-MODIFIED:20220707T111956Z
UID:10000852-1634844600-1634851800@www.gapost233.com
SUMMARY:Weekday BINGO
DESCRIPTION:Doors Open at 5PM\, Raffle Games after 6:00PM\, BINGO at 7:30 PM \nMinimum $15 buy-in\, must be 8 years or older to attend.
URL:https://www.gapost233.com/event/weekday-bingo/2021-10-21/
LOCATION:Post 233 Main Hall\, 4635 U.S. 78\, Loganville\, GA\, 30052\, United States
GEO:33.8337745;-83.8911131
X-APPLE-STRUCTURED-LOCATION;VALUE=URI;X-ADDRESS=Post 233 Main Hall 4635 U.S. 78 Loganville GA 30052 United States;X-APPLE-RADIUS=500;X-TITLE=4635 U.S. 78:geo:-83.8911131,33.8337745
END:VEVENT
BEGIN:VEVENT
DTSTART;TZID=America/New_York:20211024T140000
DTEND;TZID=America/New_York:20211024T163000
DTSTAMP:20260421T155048
CREATED:20200629T010314Z
LAST-MODIFIED:20231221T194817Z
UID:10001488-1635084000-1635093000@www.gapost233.com
SUMMARY:Sunday BINGO
DESCRIPTION:Doors Open at  Noon\, Raffle Games after 1:00PM\, BINGO at 2:00 PM \nMinimum $15 buy-in\, must be 8 years or older to attend.
URL:https://www.gapost233.com/event/sunday-bingo/2021-10-24/
LOCATION:GA
END:VEVENT
BEGIN:VEVENT
DTSTART;TZID=America/New_York:20211025T193000
DTEND;TZID=America/New_York:20211025T213000
DTSTAMP:20260421T155048
CREATED:20200629T005839Z
LAST-MODIFIED:20220707T111956Z
UID:10000853-1635190200-1635197400@www.gapost233.com
SUMMARY:Weekday BINGO
DESCRIPTION:Doors Open at 5PM\, Raffle Games after 6:00PM\, BINGO at 7:30 PM \nMinimum $15 buy-in\, must be 8 years or older to attend.
URL:https://www.gapost233.com/event/weekday-bingo/2021-10-25/
LOCATION:Post 233 Main Hall\, 4635 U.S. 78\, Loganville\, GA\, 30052\, United States
GEO:33.8337745;-83.8911131
X-APPLE-STRUCTURED-LOCATION;VALUE=URI;X-ADDRESS=Post 233 Main Hall 4635 U.S. 78 Loganville GA 30052 United States;X-APPLE-RADIUS=500;X-TITLE=4635 U.S. 78:geo:-83.8911131,33.8337745
END:VEVENT
BEGIN:VEVENT
DTSTART;TZID=America/New_York:20211027T193000
DTEND;TZID=America/New_York:20211027T213000
DTSTAMP:20260421T155048
CREATED:20200629T005839Z
LAST-MODIFIED:20220707T111956Z
UID:10000854-1635363000-1635370200@www.gapost233.com
SUMMARY:Weekday BINGO
DESCRIPTION:Doors Open at 5PM\, Raffle Games after 6:00PM\, BINGO at 7:30 PM \nMinimum $15 buy-in\, must be 8 years or older to attend.
URL:https://www.gapost233.com/event/weekday-bingo/2021-10-27/
LOCATION:Post 233 Main Hall\, 4635 U.S. 78\, Loganville\, GA\, 30052\, United States
GEO:33.8337745;-83.8911131
X-APPLE-STRUCTURED-LOCATION;VALUE=URI;X-ADDRESS=Post 233 Main Hall 4635 U.S. 78 Loganville GA 30052 United States;X-APPLE-RADIUS=500;X-TITLE=4635 U.S. 78:geo:-83.8911131,33.8337745
END:VEVENT
BEGIN:VEVENT
DTSTART;TZID=America/New_York:20211028T193000
DTEND;TZID=America/New_York:20211028T213000
DTSTAMP:20260421T155048
CREATED:20200629T005839Z
LAST-MODIFIED:20220707T111956Z
UID:10000855-1635449400-1635456600@www.gapost233.com
SUMMARY:Weekday BINGO
DESCRIPTION:Doors Open at 5PM\, Raffle Games after 6:00PM\, BINGO at 7:30 PM \nMinimum $15 buy-in\, must be 8 years or older to attend.
URL:https://www.gapost233.com/event/weekday-bingo/2021-10-28/
LOCATION:Post 233 Main Hall\, 4635 U.S. 78\, Loganville\, GA\, 30052\, United States
GEO:33.8337745;-83.8911131
X-APPLE-STRUCTURED-LOCATION;VALUE=URI;X-ADDRESS=Post 233 Main Hall 4635 U.S. 78 Loganville GA 30052 United States;X-APPLE-RADIUS=500;X-TITLE=4635 U.S. 78:geo:-83.8911131,33.8337745
END:VEVENT
BEGIN:VEVENT
DTSTART;TZID=America/New_York:20211031T140000
DTEND;TZID=America/New_York:20211031T163000
DTSTAMP:20260421T155048
CREATED:20200629T010314Z
LAST-MODIFIED:20231221T194817Z
UID:10001489-1635688800-1635697800@www.gapost233.com
SUMMARY:Sunday BINGO
DESCRIPTION:Doors Open at  Noon\, Raffle Games after 1:00PM\, BINGO at 2:00 PM \nMinimum $15 buy-in\, must be 8 years or older to attend.
URL:https://www.gapost233.com/event/sunday-bingo/2021-10-31/
LOCATION:GA
END:VEVENT
END:VCALENDAR