BEGIN:VCALENDAR
VERSION:2.0
PRODID:-//AMERICAN LEGION POST 233 - ECPv6.10.1.1//NONSGML v1.0//EN
CALSCALE:GREGORIAN
METHOD:PUBLISH
X-ORIGINAL-URL:https://www.gapost233.com
X-WR-CALDESC:Events for AMERICAN LEGION POST 233
REFRESH-INTERVAL;VALUE=DURATION:PT1H
X-Robots-Tag:noindex
X-PUBLISHED-TTL:PT1H
BEGIN:VTIMEZONE
TZID:America/New_York
BEGIN:DAYLIGHT
TZOFFSETFROM:-0500
TZOFFSETTO:-0400
TZNAME:EDT
DTSTART:20220313T070000
END:DAYLIGHT
BEGIN:STANDARD
TZOFFSETFROM:-0400
TZOFFSETTO:-0500
TZNAME:EST
DTSTART:20221106T060000
END:STANDARD
BEGIN:DAYLIGHT
TZOFFSETFROM:-0500
TZOFFSETTO:-0400
TZNAME:EDT
DTSTART:20230312T070000
END:DAYLIGHT
BEGIN:STANDARD
TZOFFSETFROM:-0400
TZOFFSETTO:-0500
TZNAME:EST
DTSTART:20231105T060000
END:STANDARD
END:VTIMEZONE
BEGIN:VEVENT
DTSTART;TZID=America/New_York:20221201T193000
DTEND;TZID=America/New_York:20221201T213000
DTSTAMP:20260422T221952
CREATED:20200629T005839Z
LAST-MODIFIED:20220707T111956Z
UID:10001025-1669923000-1669930200@www.gapost233.com
SUMMARY:Weekday BINGO
DESCRIPTION:Doors Open at 5PM\, Raffle Games after 6:00PM\, BINGO at 7:30 PM \nMinimum $15 buy-in\, must be 8 years or older to attend.
URL:https://www.gapost233.com/event/weekday-bingo/2022-12-01/
LOCATION:Post 233 Main Hall\, 4635 U.S. 78\, Loganville\, GA\, 30052\, United States
GEO:33.8337745;-83.8911131
X-APPLE-STRUCTURED-LOCATION;VALUE=URI;X-ADDRESS=Post 233 Main Hall 4635 U.S. 78 Loganville GA 30052 United States;X-APPLE-RADIUS=500;X-TITLE=4635 U.S. 78:geo:-83.8911131,33.8337745
END:VEVENT
BEGIN:VEVENT
DTSTART;TZID=America/New_York:20221203T090000
DTEND;TZID=America/New_York:20221203T150000
DTSTAMP:20260422T221952
CREATED:20221202T123039Z
LAST-MODIFIED:20221202T123039Z
UID:10000355-1670058000-1670079600@www.gapost233.com
SUMMARY:Christmas Craft Fair
DESCRIPTION:Come out and shop in our spacious main hall. Over 60 local vendors will be selling hand-made crafts and goods!
URL:https://www.gapost233.com/event/christmas-craft-fair-3/
LOCATION:GA
END:VEVENT
BEGIN:VEVENT
DTSTART;TZID=America/New_York:20221204T140000
DTEND;TZID=America/New_York:20221204T163000
DTSTAMP:20260422T221952
CREATED:20200629T010314Z
LAST-MODIFIED:20231221T194817Z
UID:10001545-1670162400-1670171400@www.gapost233.com
SUMMARY:Sunday BINGO
DESCRIPTION:Doors Open at  Noon\, Raffle Games after 1:00PM\, BINGO at 2:00 PM \nMinimum $15 buy-in\, must be 8 years or older to attend.
URL:https://www.gapost233.com/event/sunday-bingo/2022-12-04/
LOCATION:GA
END:VEVENT
BEGIN:VEVENT
DTSTART;TZID=America/New_York:20221205T193000
DTEND;TZID=America/New_York:20221205T213000
DTSTAMP:20260422T221952
CREATED:20200629T005839Z
LAST-MODIFIED:20220707T111956Z
UID:10001026-1670268600-1670275800@www.gapost233.com
SUMMARY:Weekday BINGO
DESCRIPTION:Doors Open at 5PM\, Raffle Games after 6:00PM\, BINGO at 7:30 PM \nMinimum $15 buy-in\, must be 8 years or older to attend.
URL:https://www.gapost233.com/event/weekday-bingo/2022-12-05/
LOCATION:Post 233 Main Hall\, 4635 U.S. 78\, Loganville\, GA\, 30052\, United States
GEO:33.8337745;-83.8911131
X-APPLE-STRUCTURED-LOCATION;VALUE=URI;X-ADDRESS=Post 233 Main Hall 4635 U.S. 78 Loganville GA 30052 United States;X-APPLE-RADIUS=500;X-TITLE=4635 U.S. 78:geo:-83.8911131,33.8337745
END:VEVENT
BEGIN:VEVENT
DTSTART;TZID=America/New_York:20221207T193000
DTEND;TZID=America/New_York:20221207T213000
DTSTAMP:20260422T221952
CREATED:20200629T005839Z
LAST-MODIFIED:20220707T111956Z
UID:10001027-1670441400-1670448600@www.gapost233.com
SUMMARY:Weekday BINGO
DESCRIPTION:Doors Open at 5PM\, Raffle Games after 6:00PM\, BINGO at 7:30 PM \nMinimum $15 buy-in\, must be 8 years or older to attend.
URL:https://www.gapost233.com/event/weekday-bingo/2022-12-07/
LOCATION:Post 233 Main Hall\, 4635 U.S. 78\, Loganville\, GA\, 30052\, United States
GEO:33.8337745;-83.8911131
X-APPLE-STRUCTURED-LOCATION;VALUE=URI;X-ADDRESS=Post 233 Main Hall 4635 U.S. 78 Loganville GA 30052 United States;X-APPLE-RADIUS=500;X-TITLE=4635 U.S. 78:geo:-83.8911131,33.8337745
END:VEVENT
BEGIN:VEVENT
DTSTART;TZID=America/New_York:20221208T193000
DTEND;TZID=America/New_York:20221208T213000
DTSTAMP:20260422T221952
CREATED:20200629T005839Z
LAST-MODIFIED:20220707T111956Z
UID:10001028-1670527800-1670535000@www.gapost233.com
SUMMARY:Weekday BINGO
DESCRIPTION:Doors Open at 5PM\, Raffle Games after 6:00PM\, BINGO at 7:30 PM \nMinimum $15 buy-in\, must be 8 years or older to attend.
URL:https://www.gapost233.com/event/weekday-bingo/2022-12-08/
LOCATION:Post 233 Main Hall\, 4635 U.S. 78\, Loganville\, GA\, 30052\, United States
GEO:33.8337745;-83.8911131
X-APPLE-STRUCTURED-LOCATION;VALUE=URI;X-ADDRESS=Post 233 Main Hall 4635 U.S. 78 Loganville GA 30052 United States;X-APPLE-RADIUS=500;X-TITLE=4635 U.S. 78:geo:-83.8911131,33.8337745
END:VEVENT
BEGIN:VEVENT
DTSTART;TZID=America/New_York:20221209T180000
DTEND;TZID=America/New_York:20221209T200000
DTSTAMP:20260422T221952
CREATED:20221202T123614Z
LAST-MODIFIED:20221202T123614Z
UID:10001419-1670608800-1670616000@www.gapost233.com
SUMMARY:Childrens' Christmas party
DESCRIPTION:An annual Loganville tradition… Santa will be there\, will you?
URL:https://www.gapost233.com/event/childrens-christmas-party-4/
LOCATION:GA
END:VEVENT
BEGIN:VEVENT
DTSTART;TZID=America/New_York:20221211T140000
DTEND;TZID=America/New_York:20221211T163000
DTSTAMP:20260422T221952
CREATED:20200629T010314Z
LAST-MODIFIED:20231221T194817Z
UID:10001546-1670767200-1670776200@www.gapost233.com
SUMMARY:Sunday BINGO
DESCRIPTION:Doors Open at  Noon\, Raffle Games after 1:00PM\, BINGO at 2:00 PM \nMinimum $15 buy-in\, must be 8 years or older to attend.
URL:https://www.gapost233.com/event/sunday-bingo/2022-12-11/
LOCATION:GA
END:VEVENT
BEGIN:VEVENT
DTSTART;TZID=America/New_York:20221212T193000
DTEND;TZID=America/New_York:20221212T213000
DTSTAMP:20260422T221952
CREATED:20200629T005839Z
LAST-MODIFIED:20220707T111956Z
UID:10001029-1670873400-1670880600@www.gapost233.com
SUMMARY:Weekday BINGO
DESCRIPTION:Doors Open at 5PM\, Raffle Games after 6:00PM\, BINGO at 7:30 PM \nMinimum $15 buy-in\, must be 8 years or older to attend.
URL:https://www.gapost233.com/event/weekday-bingo/2022-12-12/
LOCATION:Post 233 Main Hall\, 4635 U.S. 78\, Loganville\, GA\, 30052\, United States
GEO:33.8337745;-83.8911131
X-APPLE-STRUCTURED-LOCATION;VALUE=URI;X-ADDRESS=Post 233 Main Hall 4635 U.S. 78 Loganville GA 30052 United States;X-APPLE-RADIUS=500;X-TITLE=4635 U.S. 78:geo:-83.8911131,33.8337745
END:VEVENT
BEGIN:VEVENT
DTSTART;TZID=America/New_York:20221213T200000
DTEND;TZID=America/New_York:20221213T210000
DTSTAMP:20260422T221952
CREATED:20181007T182103Z
LAST-MODIFIED:20221202T123306Z
UID:10001792-1670961600-1670965200@www.gapost233.com
SUMMARY:Sons of the American Legion Meeting
DESCRIPTION:The Sons of the Legion meet in conjunction with the American Legion on the First Tuesday of each Month.
URL:https://www.gapost233.com/event/sons-of-the-american-legion-meeting-2022-12-06/
LOCATION:GA
END:VEVENT
BEGIN:VEVENT
DTSTART;TZID=America/New_York:20221213T200000
DTEND;TZID=America/New_York:20221213T210000
DTSTAMP:20260422T221952
CREATED:20200810T223314Z
LAST-MODIFIED:20221202T123234Z
UID:10001791-1670961600-1670965200@www.gapost233.com
SUMMARY:Post 233 American Legion Meeting
DESCRIPTION:Our Monthly meeting! A great time to find out what your local legion is up to!
URL:https://www.gapost233.com/event/post-233-american-legion-meeting-2022-12-06/
LOCATION:Post 233 Main Hall\, 4635 U.S. 78\, Loganville\, GA\, 30052\, United States
GEO:33.8337745;-83.8911131
X-APPLE-STRUCTURED-LOCATION;VALUE=URI;X-ADDRESS=Post 233 Main Hall 4635 U.S. 78 Loganville GA 30052 United States;X-APPLE-RADIUS=500;X-TITLE=4635 U.S. 78:geo:-83.8911131,33.8337745
END:VEVENT
BEGIN:VEVENT
DTSTART;TZID=America/New_York:20221214T193000
DTEND;TZID=America/New_York:20221214T213000
DTSTAMP:20260422T221952
CREATED:20200629T005839Z
LAST-MODIFIED:20220707T111956Z
UID:10001030-1671046200-1671053400@www.gapost233.com
SUMMARY:Weekday BINGO
DESCRIPTION:Doors Open at 5PM\, Raffle Games after 6:00PM\, BINGO at 7:30 PM \nMinimum $15 buy-in\, must be 8 years or older to attend.
URL:https://www.gapost233.com/event/weekday-bingo/2022-12-14/
LOCATION:Post 233 Main Hall\, 4635 U.S. 78\, Loganville\, GA\, 30052\, United States
GEO:33.8337745;-83.8911131
X-APPLE-STRUCTURED-LOCATION;VALUE=URI;X-ADDRESS=Post 233 Main Hall 4635 U.S. 78 Loganville GA 30052 United States;X-APPLE-RADIUS=500;X-TITLE=4635 U.S. 78:geo:-83.8911131,33.8337745
END:VEVENT
BEGIN:VEVENT
DTSTART;TZID=America/New_York:20221215T193000
DTEND;TZID=America/New_York:20221215T213000
DTSTAMP:20260422T221952
CREATED:20200629T005839Z
LAST-MODIFIED:20220707T111956Z
UID:10001031-1671132600-1671139800@www.gapost233.com
SUMMARY:Weekday BINGO
DESCRIPTION:Doors Open at 5PM\, Raffle Games after 6:00PM\, BINGO at 7:30 PM \nMinimum $15 buy-in\, must be 8 years or older to attend.
URL:https://www.gapost233.com/event/weekday-bingo/2022-12-15/
LOCATION:Post 233 Main Hall\, 4635 U.S. 78\, Loganville\, GA\, 30052\, United States
GEO:33.8337745;-83.8911131
X-APPLE-STRUCTURED-LOCATION;VALUE=URI;X-ADDRESS=Post 233 Main Hall 4635 U.S. 78 Loganville GA 30052 United States;X-APPLE-RADIUS=500;X-TITLE=4635 U.S. 78:geo:-83.8911131,33.8337745
END:VEVENT
BEGIN:VEVENT
DTSTART;TZID=America/New_York:20221216T190000
DTEND;TZID=America/New_York:20221216T210000
DTSTAMP:20260422T221952
CREATED:20150426T152120Z
LAST-MODIFIED:20171226T170140Z
UID:10000242-1671217200-1671224400@www.gapost233.com
SUMMARY:ALR Meeting
DESCRIPTION:The American Legion Riders will meet tonight at 7:00pm. Guests are welcome to attend the meeting to learn more about this very active group.
URL:https://www.gapost233.com/event/alr-meeting/2022-12-16/
LOCATION:Robert Boss Pavilion\, 4635 U.S. 78\, Loganville\, GA\, 30052\, United States
END:VEVENT
BEGIN:VEVENT
DTSTART;TZID=America/New_York:20221218T140000
DTEND;TZID=America/New_York:20221218T163000
DTSTAMP:20260422T221952
CREATED:20200629T010314Z
LAST-MODIFIED:20231221T194817Z
UID:10001547-1671372000-1671381000@www.gapost233.com
SUMMARY:Sunday BINGO
DESCRIPTION:Doors Open at  Noon\, Raffle Games after 1:00PM\, BINGO at 2:00 PM \nMinimum $15 buy-in\, must be 8 years or older to attend.
URL:https://www.gapost233.com/event/sunday-bingo/2022-12-18/
LOCATION:GA
END:VEVENT
BEGIN:VEVENT
DTSTART;TZID=America/New_York:20221219T193000
DTEND;TZID=America/New_York:20221219T213000
DTSTAMP:20260422T221952
CREATED:20200629T005839Z
LAST-MODIFIED:20220707T111956Z
UID:10001032-1671478200-1671485400@www.gapost233.com
SUMMARY:Weekday BINGO
DESCRIPTION:Doors Open at 5PM\, Raffle Games after 6:00PM\, BINGO at 7:30 PM \nMinimum $15 buy-in\, must be 8 years or older to attend.
URL:https://www.gapost233.com/event/weekday-bingo/2022-12-19/
LOCATION:Post 233 Main Hall\, 4635 U.S. 78\, Loganville\, GA\, 30052\, United States
GEO:33.8337745;-83.8911131
X-APPLE-STRUCTURED-LOCATION;VALUE=URI;X-ADDRESS=Post 233 Main Hall 4635 U.S. 78 Loganville GA 30052 United States;X-APPLE-RADIUS=500;X-TITLE=4635 U.S. 78:geo:-83.8911131,33.8337745
END:VEVENT
BEGIN:VEVENT
DTSTART;TZID=America/New_York:20221221T193000
DTEND;TZID=America/New_York:20221221T213000
DTSTAMP:20260422T221952
CREATED:20200629T005839Z
LAST-MODIFIED:20220707T111956Z
UID:10001033-1671651000-1671658200@www.gapost233.com
SUMMARY:Weekday BINGO
DESCRIPTION:Doors Open at 5PM\, Raffle Games after 6:00PM\, BINGO at 7:30 PM \nMinimum $15 buy-in\, must be 8 years or older to attend.
URL:https://www.gapost233.com/event/weekday-bingo/2022-12-21/
LOCATION:Post 233 Main Hall\, 4635 U.S. 78\, Loganville\, GA\, 30052\, United States
GEO:33.8337745;-83.8911131
X-APPLE-STRUCTURED-LOCATION;VALUE=URI;X-ADDRESS=Post 233 Main Hall 4635 U.S. 78 Loganville GA 30052 United States;X-APPLE-RADIUS=500;X-TITLE=4635 U.S. 78:geo:-83.8911131,33.8337745
END:VEVENT
BEGIN:VEVENT
DTSTART;TZID=America/New_York:20221222T193000
DTEND;TZID=America/New_York:20221222T213000
DTSTAMP:20260422T221952
CREATED:20200629T005839Z
LAST-MODIFIED:20220707T111956Z
UID:10001034-1671737400-1671744600@www.gapost233.com
SUMMARY:Weekday BINGO
DESCRIPTION:Doors Open at 5PM\, Raffle Games after 6:00PM\, BINGO at 7:30 PM \nMinimum $15 buy-in\, must be 8 years or older to attend.
URL:https://www.gapost233.com/event/weekday-bingo/2022-12-22/
LOCATION:Post 233 Main Hall\, 4635 U.S. 78\, Loganville\, GA\, 30052\, United States
GEO:33.8337745;-83.8911131
X-APPLE-STRUCTURED-LOCATION;VALUE=URI;X-ADDRESS=Post 233 Main Hall 4635 U.S. 78 Loganville GA 30052 United States;X-APPLE-RADIUS=500;X-TITLE=4635 U.S. 78:geo:-83.8911131,33.8337745
END:VEVENT
BEGIN:VEVENT
DTSTART;TZID=America/New_York:20221225T140000
DTEND;TZID=America/New_York:20221225T163000
DTSTAMP:20260422T221952
CREATED:20200629T010314Z
LAST-MODIFIED:20231221T194817Z
UID:10001548-1671976800-1671985800@www.gapost233.com
SUMMARY:Sunday BINGO
DESCRIPTION:Doors Open at  Noon\, Raffle Games after 1:00PM\, BINGO at 2:00 PM \nMinimum $15 buy-in\, must be 8 years or older to attend.
URL:https://www.gapost233.com/event/sunday-bingo/2022-12-25/
LOCATION:GA
END:VEVENT
BEGIN:VEVENT
DTSTART;TZID=America/New_York:20221226T193000
DTEND;TZID=America/New_York:20221226T213000
DTSTAMP:20260422T221952
CREATED:20200629T005839Z
LAST-MODIFIED:20220707T111956Z
UID:10001035-1672083000-1672090200@www.gapost233.com
SUMMARY:Weekday BINGO
DESCRIPTION:Doors Open at 5PM\, Raffle Games after 6:00PM\, BINGO at 7:30 PM \nMinimum $15 buy-in\, must be 8 years or older to attend.
URL:https://www.gapost233.com/event/weekday-bingo/2022-12-26/
LOCATION:Post 233 Main Hall\, 4635 U.S. 78\, Loganville\, GA\, 30052\, United States
GEO:33.8337745;-83.8911131
X-APPLE-STRUCTURED-LOCATION;VALUE=URI;X-ADDRESS=Post 233 Main Hall 4635 U.S. 78 Loganville GA 30052 United States;X-APPLE-RADIUS=500;X-TITLE=4635 U.S. 78:geo:-83.8911131,33.8337745
END:VEVENT
BEGIN:VEVENT
DTSTART;TZID=America/New_York:20221228T193000
DTEND;TZID=America/New_York:20221228T213000
DTSTAMP:20260422T221952
CREATED:20200629T005839Z
LAST-MODIFIED:20220707T111956Z
UID:10001036-1672255800-1672263000@www.gapost233.com
SUMMARY:Weekday BINGO
DESCRIPTION:Doors Open at 5PM\, Raffle Games after 6:00PM\, BINGO at 7:30 PM \nMinimum $15 buy-in\, must be 8 years or older to attend.
URL:https://www.gapost233.com/event/weekday-bingo/2022-12-28/
LOCATION:Post 233 Main Hall\, 4635 U.S. 78\, Loganville\, GA\, 30052\, United States
GEO:33.8337745;-83.8911131
X-APPLE-STRUCTURED-LOCATION;VALUE=URI;X-ADDRESS=Post 233 Main Hall 4635 U.S. 78 Loganville GA 30052 United States;X-APPLE-RADIUS=500;X-TITLE=4635 U.S. 78:geo:-83.8911131,33.8337745
END:VEVENT
BEGIN:VEVENT
DTSTART;TZID=America/New_York:20221229T193000
DTEND;TZID=America/New_York:20221229T213000
DTSTAMP:20260422T221953
CREATED:20200629T005839Z
LAST-MODIFIED:20220707T111956Z
UID:10001037-1672342200-1672349400@www.gapost233.com
SUMMARY:Weekday BINGO
DESCRIPTION:Doors Open at 5PM\, Raffle Games after 6:00PM\, BINGO at 7:30 PM \nMinimum $15 buy-in\, must be 8 years or older to attend.
URL:https://www.gapost233.com/event/weekday-bingo/2022-12-29/
LOCATION:Post 233 Main Hall\, 4635 U.S. 78\, Loganville\, GA\, 30052\, United States
GEO:33.8337745;-83.8911131
X-APPLE-STRUCTURED-LOCATION;VALUE=URI;X-ADDRESS=Post 233 Main Hall 4635 U.S. 78 Loganville GA 30052 United States;X-APPLE-RADIUS=500;X-TITLE=4635 U.S. 78:geo:-83.8911131,33.8337745
END:VEVENT
BEGIN:VEVENT
DTSTART;TZID=America/New_York:20221231T200000
DTEND;TZID=America/New_York:20230101T003000
DTSTAMP:20260422T221953
CREATED:20221202T123811Z
LAST-MODIFIED:20221202T123811Z
UID:10000359-1672516800-1672533000@www.gapost233.com
SUMMARY:NYE Dance with Chris Hampton Band
DESCRIPTION:Let’s send 2022 out the door and welcome 2023! Proceeds will help us help local vets!\nFlyer and reservation form here! http://www.gapost233.com/…/10/New-Years-Eve-2022-Flyer.pdf
URL:https://www.gapost233.com/event/nye-dance-with-chris-hampton-band/
LOCATION:GA
END:VEVENT
END:VCALENDAR