BEGIN:VCALENDAR
VERSION:2.0
PRODID:-//AMERICAN LEGION POST 233 - ECPv6.10.1.1//NONSGML v1.0//EN
CALSCALE:GREGORIAN
METHOD:PUBLISH
X-ORIGINAL-URL:https://www.gapost233.com
X-WR-CALDESC:Events for AMERICAN LEGION POST 233
REFRESH-INTERVAL;VALUE=DURATION:PT1H
X-Robots-Tag:noindex
X-PUBLISHED-TTL:PT1H
BEGIN:VTIMEZONE
TZID:America/New_York
BEGIN:DAYLIGHT
TZOFFSETFROM:-0500
TZOFFSETTO:-0400
TZNAME:EDT
DTSTART:20230312T070000
END:DAYLIGHT
BEGIN:STANDARD
TZOFFSETFROM:-0400
TZOFFSETTO:-0500
TZNAME:EST
DTSTART:20231105T060000
END:STANDARD
END:VTIMEZONE
BEGIN:VEVENT
DTSTART;TZID=America/New_York:20230801T200000
DTEND;TZID=America/New_York:20230801T210000
DTSTAMP:20260423T144322
CREATED:20181007T182103Z
LAST-MODIFIED:20200705T164755Z
UID:10000587-1690920000-1690923600@www.gapost233.com
SUMMARY:Sons of the American Legion Meeting
DESCRIPTION:The Sons of the Legion meet in conjunction with the American Legion on the First Tuesday of each Month.
URL:https://www.gapost233.com/event/sons-of-the-american-legion-meeting/2023-08-01/
LOCATION:GA
END:VEVENT
BEGIN:VEVENT
DTSTART;VALUE=DATE:20230804
DTEND;VALUE=DATE:20230805
DTSTAMP:20260423T144322
CREATED:20151110T110335Z
LAST-MODIFIED:20151110T110335Z
UID:10000458-1691107200-1691193599@www.gapost233.com
SUMMARY:Coast Guard Birthday
DESCRIPTION:The Coast Guard is one of America’s five armed forces and traces its founding to Aug. 4\, 1790\, when the first Congress authorized the construction of 10 vessels to enforce tariff and trade laws\, prevent smuggling\, and protect the collection of federal revenue. Responsibilities added over the years included humanitarian duties such as aiding mariners in distress.\nThe service received its present name in 1915 when the Revenue Cutter Service merged with the U.S. Life-Saving Service to form a single maritime service dedicated to the safety of life at sea and enforcing the nation’s maritime laws.\nThe Coast Guard is a multi-mission\, maritime\, military service and the smallest of the five Armed Services. Its mission is to protect the public\, the environment and U.S. economic interests in the nation’s waterways\, along the coast\, on international waters\, or in any maritime region as required to support national security.
URL:https://www.gapost233.com/event/coast-guard-birthday/2023-08-04/
LOCATION:GA
END:VEVENT
BEGIN:VEVENT
DTSTART;TZID=America/New_York:20230804T170000
DTEND;TZID=America/New_York:20230804T213000
DTSTAMP:20260423T144322
CREATED:20230618T185450Z
LAST-MODIFIED:20230619T173859Z
UID:10002281-1691168400-1691184600@www.gapost233.com
SUMMARY:Find Old Glory
DESCRIPTION:Buy Tickets! $2 each\, 3 for $5 or 6 for $10.  \nTickets on sale daily until 8 PM on Friday. \nDrawing at 8:30 PM on Friday
URL:https://www.gapost233.com/event/find-old-glory-2/2023-08-04/
LOCATION:GA Post233-Patriot’s Grill\, 4635 Highway 78\, Loganville\, GA\, 30052
END:VEVENT
BEGIN:VEVENT
DTSTART;TZID=America/New_York:20230806T140000
DTEND;TZID=America/New_York:20230806T163000
DTSTAMP:20260423T144322
CREATED:20200629T010314Z
LAST-MODIFIED:20231221T194817Z
UID:10001580-1691330400-1691339400@www.gapost233.com
SUMMARY:Sunday BINGO
DESCRIPTION:Doors Open at  Noon\, Raffle Games after 1:00PM\, BINGO at 2:00 PM \nMinimum $15 buy-in\, must be 8 years or older to attend.
URL:https://www.gapost233.com/event/sunday-bingo/2023-08-06/
LOCATION:GA
END:VEVENT
BEGIN:VEVENT
DTSTART;TZID=America/New_York:20230807T193000
DTEND;TZID=America/New_York:20230807T213000
DTSTAMP:20260423T144322
CREATED:20230807T143015Z
LAST-MODIFIED:20230807T143016Z
UID:10001131-1691436600-1691443800@www.gapost233.com
SUMMARY:CANCELLED!!! Weekday BINGO CANCELLED!!!
DESCRIPTION:NO BINGO 8/7/2023!!!\nThe National Weather Service is calling for heavy weather this afternoon into this evening with high winds. They are expecting tree damage and power outages. We will not have BINGO tonight so that our employees can avoid being on the road during dangerous conditions..
URL:https://www.gapost233.com/event/weekday-bingo-2-2/
LOCATION:Post 233 Main Hall\, 4635 U.S. 78\, Loganville\, GA\, 30052\, United States
GEO:33.8337745;-83.8911131
X-APPLE-STRUCTURED-LOCATION;VALUE=URI;X-ADDRESS=Post 233 Main Hall 4635 U.S. 78 Loganville GA 30052 United States;X-APPLE-RADIUS=500;X-TITLE=4635 U.S. 78:geo:-83.8911131,33.8337745
END:VEVENT
BEGIN:VEVENT
DTSTART;TZID=America/New_York:20230810T090000
DTEND;TZID=America/New_York:20230810T130000
DTSTAMP:20260423T144322
CREATED:20230715T144112Z
LAST-MODIFIED:20230715T144614Z
UID:10004065-1691658000-1691672400@www.gapost233.com
SUMMARY:AARP Smart Driver Course
DESCRIPTION:
URL:https://www.gapost233.com/event/13138/
LOCATION:Post 233 Main Hall\, 4635 U.S. 78\, Loganville\, GA\, 30052\, United States
GEO:33.8337745;-83.8911131
X-APPLE-STRUCTURED-LOCATION;VALUE=URI;X-ADDRESS=Post 233 Main Hall 4635 U.S. 78 Loganville GA 30052 United States;X-APPLE-RADIUS=500;X-TITLE=4635 U.S. 78:geo:-83.8911131,33.8337745
END:VEVENT
BEGIN:VEVENT
DTSTART;TZID=America/New_York:20230810T090000
DTEND;TZID=America/New_York:20230810T140000
DTSTAMP:20260423T144322
CREATED:20230721T222830Z
LAST-MODIFIED:20230721T222830Z
UID:10004067-1691658000-1691676000@www.gapost233.com
SUMMARY:AARP Smart Driver Classroom Class
DESCRIPTION:
URL:https://www.gapost233.com/event/aarp-smart-driver-classroom-class/
LOCATION:Post 233\, 4635 Hwy 78\, Loganville\, GA\, 30052\, United States
END:VEVENT
BEGIN:VEVENT
DTSTART;TZID=America/New_York:20230811T170000
DTEND;TZID=America/New_York:20230811T213000
DTSTAMP:20260423T144322
CREATED:20230618T185450Z
LAST-MODIFIED:20230619T173859Z
UID:10002288-1691773200-1691789400@www.gapost233.com
SUMMARY:Find Old Glory
DESCRIPTION:Buy Tickets! $2 each\, 3 for $5 or 6 for $10.  \nTickets on sale daily until 8 PM on Friday. \nDrawing at 8:30 PM on Friday
URL:https://www.gapost233.com/event/find-old-glory-2/2023-08-11/
LOCATION:GA Post233-Patriot’s Grill\, 4635 Highway 78\, Loganville\, GA\, 30052
END:VEVENT
BEGIN:VEVENT
DTSTART;TZID=America/New_York:20230813T140000
DTEND;TZID=America/New_York:20230813T163000
DTSTAMP:20260423T144322
CREATED:20200629T010314Z
LAST-MODIFIED:20231221T194817Z
UID:10001581-1691935200-1691944200@www.gapost233.com
SUMMARY:Sunday BINGO
DESCRIPTION:Doors Open at  Noon\, Raffle Games after 1:00PM\, BINGO at 2:00 PM \nMinimum $15 buy-in\, must be 8 years or older to attend.
URL:https://www.gapost233.com/event/sunday-bingo/2023-08-13/
LOCATION:GA
END:VEVENT
BEGIN:VEVENT
DTSTART;TZID=America/New_York:20230815T190000
DTEND;TZID=America/New_York:20230815T210000
DTSTAMP:20260423T144322
CREATED:20230607T213114Z
LAST-MODIFIED:20230620T132819Z
UID:10002183-1692126000-1692133200@www.gapost233.com
SUMMARY:ALR Meeting
DESCRIPTION:The American Legion Riders will meet tonight at 7:00pm. Guests are welcome to attend the meeting to learn more about this very active group.
URL:https://www.gapost233.com/event/alr-meeting-2/2023-08-15/
LOCATION:Robert Boss Pavilion\, 4635 U.S. 78\, Loganville\, GA\, 30052\, United States
END:VEVENT
BEGIN:VEVENT
DTSTART;TZID=America/New_York:20230818T170000
DTEND;TZID=America/New_York:20230818T213000
DTSTAMP:20260423T144322
CREATED:20230618T185450Z
LAST-MODIFIED:20230619T173859Z
UID:10002295-1692378000-1692394200@www.gapost233.com
SUMMARY:Find Old Glory
DESCRIPTION:Buy Tickets! $2 each\, 3 for $5 or 6 for $10.  \nTickets on sale daily until 8 PM on Friday. \nDrawing at 8:30 PM on Friday
URL:https://www.gapost233.com/event/find-old-glory-2/2023-08-18/
LOCATION:GA Post233-Patriot’s Grill\, 4635 Highway 78\, Loganville\, GA\, 30052
END:VEVENT
BEGIN:VEVENT
DTSTART;TZID=America/New_York:20230820T140000
DTEND;TZID=America/New_York:20230820T163000
DTSTAMP:20260423T144322
CREATED:20200629T010314Z
LAST-MODIFIED:20231221T194817Z
UID:10001582-1692540000-1692549000@www.gapost233.com
SUMMARY:Sunday BINGO
DESCRIPTION:Doors Open at  Noon\, Raffle Games after 1:00PM\, BINGO at 2:00 PM \nMinimum $15 buy-in\, must be 8 years or older to attend.
URL:https://www.gapost233.com/event/sunday-bingo/2023-08-20/
LOCATION:GA
END:VEVENT
BEGIN:VEVENT
DTSTART;TZID=America/New_York:20230825T170000
DTEND;TZID=America/New_York:20230825T213000
DTSTAMP:20260423T144322
CREATED:20230618T185450Z
LAST-MODIFIED:20230619T173859Z
UID:10002302-1692982800-1692999000@www.gapost233.com
SUMMARY:Find Old Glory
DESCRIPTION:Buy Tickets! $2 each\, 3 for $5 or 6 for $10.  \nTickets on sale daily until 8 PM on Friday. \nDrawing at 8:30 PM on Friday
URL:https://www.gapost233.com/event/find-old-glory-2/2023-08-25/
LOCATION:GA Post233-Patriot’s Grill\, 4635 Highway 78\, Loganville\, GA\, 30052
END:VEVENT
BEGIN:VEVENT
DTSTART;TZID=America/New_York:20230827T140000
DTEND;TZID=America/New_York:20230827T163000
DTSTAMP:20260423T144322
CREATED:20200629T010314Z
LAST-MODIFIED:20231221T194817Z
UID:10001583-1693144800-1693153800@www.gapost233.com
SUMMARY:Sunday BINGO
DESCRIPTION:Doors Open at  Noon\, Raffle Games after 1:00PM\, BINGO at 2:00 PM \nMinimum $15 buy-in\, must be 8 years or older to attend.
URL:https://www.gapost233.com/event/sunday-bingo/2023-08-27/
LOCATION:GA
END:VEVENT
END:VCALENDAR