BEGIN:VCALENDAR
VERSION:2.0
PRODID:-//AMERICAN LEGION POST 233 - ECPv6.10.1.1//NONSGML v1.0//EN
CALSCALE:GREGORIAN
METHOD:PUBLISH
X-ORIGINAL-URL:https://www.gapost233.com
X-WR-CALDESC:Events for AMERICAN LEGION POST 233
REFRESH-INTERVAL;VALUE=DURATION:PT1H
X-Robots-Tag:noindex
X-PUBLISHED-TTL:PT1H
BEGIN:VTIMEZONE
TZID:America/New_York
BEGIN:DAYLIGHT
TZOFFSETFROM:-0500
TZOFFSETTO:-0400
TZNAME:EDT
DTSTART:20230312T070000
END:DAYLIGHT
BEGIN:STANDARD
TZOFFSETFROM:-0400
TZOFFSETTO:-0500
TZNAME:EST
DTSTART:20231105T060000
END:STANDARD
END:VTIMEZONE
BEGIN:VEVENT
DTSTART;TZID=America/New_York:20231001T140000
DTEND;TZID=America/New_York:20231001T163000
DTSTAMP:20260423T173437
CREATED:20200629T010314Z
LAST-MODIFIED:20231221T194817Z
UID:10001588-1696168800-1696177800@www.gapost233.com
SUMMARY:Sunday BINGO
DESCRIPTION:Doors Open at  Noon\, Raffle Games after 1:00PM\, BINGO at 2:00 PM \nMinimum $15 buy-in\, must be 8 years or older to attend.
URL:https://www.gapost233.com/event/sunday-bingo/2023-10-01/
LOCATION:GA
END:VEVENT
BEGIN:VEVENT
DTSTART;TZID=America/New_York:20231003T200000
DTEND;TZID=America/New_York:20231003T210000
DTSTAMP:20260423T173437
CREATED:20181007T182103Z
LAST-MODIFIED:20200705T164755Z
UID:10000589-1696363200-1696366800@www.gapost233.com
SUMMARY:Sons of the American Legion Meeting
DESCRIPTION:The Sons of the Legion meet in conjunction with the American Legion on the First Tuesday of each Month.
URL:https://www.gapost233.com/event/sons-of-the-american-legion-meeting/2023-10-03/
LOCATION:GA
END:VEVENT
BEGIN:VEVENT
DTSTART;TZID=America/New_York:20231006T170000
DTEND;TZID=America/New_York:20231006T213000
DTSTAMP:20260423T173437
CREATED:20230618T185450Z
LAST-MODIFIED:20230619T173859Z
UID:10002344-1696611600-1696627800@www.gapost233.com
SUMMARY:Find Old Glory
DESCRIPTION:Buy Tickets! $2 each\, 3 for $5 or 6 for $10.  \nTickets on sale daily until 8 PM on Friday. \nDrawing at 8:30 PM on Friday
URL:https://www.gapost233.com/event/find-old-glory-2/2023-10-06/
LOCATION:GA Post233-Patriot’s Grill\, 4635 Highway 78\, Loganville\, GA\, 30052
END:VEVENT
BEGIN:VEVENT
DTSTART;TZID=America/New_York:20231008T140000
DTEND;TZID=America/New_York:20231008T163000
DTSTAMP:20260423T173437
CREATED:20200629T010314Z
LAST-MODIFIED:20231221T194817Z
UID:10001589-1696773600-1696782600@www.gapost233.com
SUMMARY:Sunday BINGO
DESCRIPTION:Doors Open at  Noon\, Raffle Games after 1:00PM\, BINGO at 2:00 PM \nMinimum $15 buy-in\, must be 8 years or older to attend.
URL:https://www.gapost233.com/event/sunday-bingo/2023-10-08/
LOCATION:GA
END:VEVENT
BEGIN:VEVENT
DTSTART;VALUE=DATE:20231013
DTEND;VALUE=DATE:20231014
DTSTAMP:20260423T173437
CREATED:20151110T110116Z
LAST-MODIFIED:20151110T110215Z
UID:10000446-1697155200-1697241599@www.gapost233.com
SUMMARY:Navy Birthday
DESCRIPTION:The U.S. Navy traces its roots back to the privateers that were employed to attack British commerce in the early days of the revolution. On October 13\, 1775\, the Continental Congress established a naval force\, hoping that a small fleet would be able to offset the uncontested exercise of British sea power.\nGet most recent Navy news\, videos\, equipment\, fitness & more on the Navy page.\nThe early Continental navy was not expected to take on the British navy for control of the seas. This small naval force was designed to work with privateers to wage tactical raids against the transports that supplied British forces in North America. To accomplish this mission the Continental Congress purchased\, converted\, and constructed a fleet of small ships–frigates\, brigs\, sloops\, and schooners. These navy ships sailed independently or in pairs hunting British commerce ships and transports like prey\, avoiding whenever possible fights with Royal Navy men-of-war.\nNavy Day	The Origins of Navy Day\nSailors and Marines at attention.	Who Has Precedence: Navy or Marines?\nThe Battle of Midway	Navy History Highlights\nUSS Carl Vinson	The Modern US Naval Arsenal\nThree tier Navy birthday cake.	The Two Navy Holidays: Navy Birthday and Navy Day\nAmphibious ssault ship USS Kearsarge	Birthplace of the U.S. Navy\nThe Continental navy faced several obstacles both during and after the revolution – mostly political and economic. Two years after the end of the war\, the money-poor Congress sold off the last ship of the Continental navy\, the frigate Alliance.\nIn the 1790’s Europe began to relax many mercantile commercial restrictions and the U.S. trade and the shipping industry expanded accordingly. However\, as the number of U.S. ships increased so did the possibility increased attacks by the European powers and pirates. In March 1794 Congress responded by calling for the construction of a half-dozen frigates. And\, once again\, the United States had a navy.\nAlthough the Continental navy was later dismantled\, October 13\, 1775 remains the U.S. Navy’s official birthday.\nFrom these humble beginnings\, the world’s most powerful naval force was born. With thousands of ships and aircraft serving worldwide\, the U.S. Navy is a force to be reckoned with. To learn more about the early years of the U.S. Navy\, visit the U.S. Naval Historical Center website.
URL:https://www.gapost233.com/event/navy-birthday/2023-10-13/
LOCATION:GA
END:VEVENT
BEGIN:VEVENT
DTSTART;TZID=America/New_York:20231013T170000
DTEND;TZID=America/New_York:20231013T213000
DTSTAMP:20260423T173437
CREATED:20230618T185450Z
LAST-MODIFIED:20230619T173859Z
UID:10002351-1697216400-1697232600@www.gapost233.com
SUMMARY:Find Old Glory
DESCRIPTION:Buy Tickets! $2 each\, 3 for $5 or 6 for $10.  \nTickets on sale daily until 8 PM on Friday. \nDrawing at 8:30 PM on Friday
URL:https://www.gapost233.com/event/find-old-glory-2/2023-10-13/
LOCATION:GA Post233-Patriot’s Grill\, 4635 Highway 78\, Loganville\, GA\, 30052
END:VEVENT
BEGIN:VEVENT
DTSTART;TZID=America/New_York:20231015T140000
DTEND;TZID=America/New_York:20231015T163000
DTSTAMP:20260423T173437
CREATED:20200629T010314Z
LAST-MODIFIED:20231221T194817Z
UID:10001590-1697378400-1697387400@www.gapost233.com
SUMMARY:Sunday BINGO
DESCRIPTION:Doors Open at  Noon\, Raffle Games after 1:00PM\, BINGO at 2:00 PM \nMinimum $15 buy-in\, must be 8 years or older to attend.
URL:https://www.gapost233.com/event/sunday-bingo/2023-10-15/
LOCATION:GA
END:VEVENT
BEGIN:VEVENT
DTSTART;TZID=America/New_York:20231017T190000
DTEND;TZID=America/New_York:20231017T210000
DTSTAMP:20260423T173437
CREATED:20230607T213114Z
LAST-MODIFIED:20230620T132819Z
UID:10002185-1697569200-1697576400@www.gapost233.com
SUMMARY:ALR Meeting
DESCRIPTION:The American Legion Riders will meet tonight at 7:00pm. Guests are welcome to attend the meeting to learn more about this very active group.
URL:https://www.gapost233.com/event/alr-meeting-2/2023-10-17/
LOCATION:Robert Boss Pavilion\, 4635 U.S. 78\, Loganville\, GA\, 30052\, United States
END:VEVENT
BEGIN:VEVENT
DTSTART;TZID=America/New_York:20231020T170000
DTEND;TZID=America/New_York:20231020T213000
DTSTAMP:20260423T173437
CREATED:20230618T185450Z
LAST-MODIFIED:20230619T173859Z
UID:10002358-1697821200-1697837400@www.gapost233.com
SUMMARY:Find Old Glory
DESCRIPTION:Buy Tickets! $2 each\, 3 for $5 or 6 for $10.  \nTickets on sale daily until 8 PM on Friday. \nDrawing at 8:30 PM on Friday
URL:https://www.gapost233.com/event/find-old-glory-2/2023-10-20/
LOCATION:GA Post233-Patriot’s Grill\, 4635 Highway 78\, Loganville\, GA\, 30052
END:VEVENT
BEGIN:VEVENT
DTSTART;TZID=America/New_York:20231022T140000
DTEND;TZID=America/New_York:20231022T163000
DTSTAMP:20260423T173437
CREATED:20200629T010314Z
LAST-MODIFIED:20231221T194817Z
UID:10001591-1697983200-1697992200@www.gapost233.com
SUMMARY:Sunday BINGO
DESCRIPTION:Doors Open at  Noon\, Raffle Games after 1:00PM\, BINGO at 2:00 PM \nMinimum $15 buy-in\, must be 8 years or older to attend.
URL:https://www.gapost233.com/event/sunday-bingo/2023-10-22/
LOCATION:GA
END:VEVENT
BEGIN:VEVENT
DTSTART;TZID=America/New_York:20231027T170000
DTEND;TZID=America/New_York:20231027T213000
DTSTAMP:20260423T173437
CREATED:20230618T185450Z
LAST-MODIFIED:20230619T173859Z
UID:10002365-1698426000-1698442200@www.gapost233.com
SUMMARY:Find Old Glory
DESCRIPTION:Buy Tickets! $2 each\, 3 for $5 or 6 for $10.  \nTickets on sale daily until 8 PM on Friday. \nDrawing at 8:30 PM on Friday
URL:https://www.gapost233.com/event/find-old-glory-2/2023-10-27/
LOCATION:GA Post233-Patriot’s Grill\, 4635 Highway 78\, Loganville\, GA\, 30052
END:VEVENT
BEGIN:VEVENT
DTSTART;TZID=America/New_York:20231027T190000
DTEND;TZID=America/New_York:20231027T220000
DTSTAMP:20260423T173437
CREATED:20231023T202407Z
LAST-MODIFIED:20231023T202612Z
UID:10004072-1698433200-1698444000@www.gapost233.com
SUMMARY:Fishy Friday and Music Bingo
DESCRIPTION:Join us for Fishy Friday and Music Bingo
URL:https://www.gapost233.com/event/fishy-friday-and-music-bingo/
LOCATION:Post 233 Main Hall\, 4635 U.S. 78\, Loganville\, GA\, 30052\, United States
GEO:33.8337745;-83.8911131
X-APPLE-STRUCTURED-LOCATION;VALUE=URI;X-ADDRESS=Post 233 Main Hall 4635 U.S. 78 Loganville GA 30052 United States;X-APPLE-RADIUS=500;X-TITLE=4635 U.S. 78:geo:-83.8911131,33.8337745
END:VEVENT
BEGIN:VEVENT
DTSTART;TZID=America/New_York:20231029T140000
DTEND;TZID=America/New_York:20231029T163000
DTSTAMP:20260423T173437
CREATED:20200629T010314Z
LAST-MODIFIED:20231221T194817Z
UID:10001592-1698588000-1698597000@www.gapost233.com
SUMMARY:Sunday BINGO
DESCRIPTION:Doors Open at  Noon\, Raffle Games after 1:00PM\, BINGO at 2:00 PM \nMinimum $15 buy-in\, must be 8 years or older to attend.
URL:https://www.gapost233.com/event/sunday-bingo/2023-10-29/
LOCATION:GA
END:VEVENT
BEGIN:VEVENT
DTSTART;TZID=America/New_York:20231031T170000
DTEND;TZID=America/New_York:20231031T210000
DTSTAMP:20260423T173437
CREATED:20231008T181959Z
LAST-MODIFIED:20231008T182650Z
UID:10004070-1698771600-1698786000@www.gapost233.com
SUMMARY:Trunk Or treat
DESCRIPTION:
URL:https://www.gapost233.com/event/trunk-or-treat/
LOCATION:Post Parking Lot\, 4635 U.S. 78\, Loganville\, GA\, 30052\, United States
GEO:33.8337745;-83.8911131
X-APPLE-STRUCTURED-LOCATION;VALUE=URI;X-ADDRESS=Post Parking Lot 4635 U.S. 78 Loganville GA 30052 United States;X-APPLE-RADIUS=500;X-TITLE=4635 U.S. 78:geo:-83.8911131,33.8337745
END:VEVENT
END:VCALENDAR