BEGIN:VCALENDAR
VERSION:2.0
PRODID:-//AMERICAN LEGION POST 233 - ECPv6.10.1.1//NONSGML v1.0//EN
CALSCALE:GREGORIAN
METHOD:PUBLISH
X-WR-CALNAME:AMERICAN LEGION POST 233
X-ORIGINAL-URL:https://www.gapost233.com
X-WR-CALDESC:Events for AMERICAN LEGION POST 233
REFRESH-INTERVAL;VALUE=DURATION:PT1H
X-Robots-Tag:noindex
X-PUBLISHED-TTL:PT1H
BEGIN:VTIMEZONE
TZID:America/New_York
BEGIN:DAYLIGHT
TZOFFSETFROM:-0500
TZOFFSETTO:-0400
TZNAME:EDT
DTSTART:20240310T070000
END:DAYLIGHT
BEGIN:STANDARD
TZOFFSETFROM:-0400
TZOFFSETTO:-0500
TZNAME:EST
DTSTART:20241103T060000
END:STANDARD
BEGIN:DAYLIGHT
TZOFFSETFROM:-0500
TZOFFSETTO:-0400
TZNAME:EDT
DTSTART:20250309T070000
END:DAYLIGHT
BEGIN:STANDARD
TZOFFSETFROM:-0400
TZOFFSETTO:-0500
TZNAME:EST
DTSTART:20251102T060000
END:STANDARD
END:VTIMEZONE
BEGIN:VEVENT
DTSTART;TZID=America/New_York:20241231T193000
DTEND;TZID=America/New_York:20250101T010000
DTSTAMP:20260423T064002
CREATED:20241225T155441Z
LAST-MODIFIED:20241225T155911Z
UID:10004792-1735673400-1735693200@www.gapost233.com
SUMMARY:New Year's Eve Party
DESCRIPTION:
URL:https://www.gapost233.com/event/new-years-eve-party/
LOCATION:Post 233 Main Hall\, 4635 U.S. 78\, Loganville\, GA\, 30052\, United States
GEO:33.8337745;-83.8911131
X-APPLE-STRUCTURED-LOCATION;VALUE=URI;X-ADDRESS=Post 233 Main Hall 4635 U.S. 78 Loganville GA 30052 United States;X-APPLE-RADIUS=500;X-TITLE=4635 U.S. 78:geo:-83.8911131,33.8337745
END:VEVENT
BEGIN:VEVENT
DTSTART;TZID=America/New_York:20250103T180000
DTEND;TZID=America/New_York:20250103T213000
DTSTAMP:20260423T064002
CREATED:20240521T183946Z
LAST-MODIFIED:20240521T183947Z
UID:10004481-1735927200-1735939800@www.gapost233.com
SUMMARY:Find Old Glory
DESCRIPTION:Buy Tickets! $2 each\, 3 for $5 or 6 for $10. \nTickets on sale daily until 8 PM on Friday. \nDrawing at 8:30 PM on Friday
URL:https://www.gapost233.com/event/find-old-glory-2-2/2025-01-03/
LOCATION:GA Post233-Patriot’s Grill\, 4635 Highway 78\, Loganville\, GA\, 30052
END:VEVENT
BEGIN:VEVENT
DTSTART;TZID=America/New_York:20250104T080000
DTEND;TZID=America/New_York:20250104T103000
DTSTAMP:20260423T064002
CREATED:20241225T155705Z
LAST-MODIFIED:20241225T155705Z
UID:10004793-1735977600-1735986600@www.gapost233.com
SUMMARY:Country Breakfast
DESCRIPTION:
URL:https://www.gapost233.com/event/country-breakfast/
LOCATION:GA
END:VEVENT
BEGIN:VEVENT
DTSTART;TZID=America/New_York:20250105T140000
DTEND;TZID=America/New_York:20250105T163000
DTSTAMP:20260423T064002
CREATED:20200629T010314Z
LAST-MODIFIED:20231221T194817Z
UID:10001654-1736085600-1736094600@www.gapost233.com
SUMMARY:Sunday BINGO
DESCRIPTION:Doors Open at  Noon\, Raffle Games after 1:00PM\, BINGO at 2:00 PM \nMinimum $15 buy-in\, must be 8 years or older to attend.
URL:https://www.gapost233.com/event/sunday-bingo/2025-01-05/
LOCATION:GA
END:VEVENT
BEGIN:VEVENT
DTSTART;TZID=America/New_York:20250107T183000
DTEND;TZID=America/New_York:20250107T213000
DTSTAMP:20260423T064002
CREATED:20241205T194043Z
LAST-MODIFIED:20241205T194043Z
UID:10004780-1736274600-1736285400@www.gapost233.com
SUMMARY:Post 233 Monthly Meeting
DESCRIPTION:Let’s Make Our Post Great! \nJoin us for our Monthly meeting and contribute your input.
URL:https://www.gapost233.com/event/post-233-monthly-meeting/2025-01-07/
LOCATION:Post 233 Main Hall\, 4635 U.S. 78\, Loganville\, GA\, 30052\, United States
GEO:33.8337745;-83.8911131
X-APPLE-STRUCTURED-LOCATION;VALUE=URI;X-ADDRESS=Post 233 Main Hall 4635 U.S. 78 Loganville GA 30052 United States;X-APPLE-RADIUS=500;X-TITLE=4635 U.S. 78:geo:-83.8911131,33.8337745
END:VEVENT
BEGIN:VEVENT
DTSTART;TZID=America/New_York:20250107T200000
DTEND;TZID=America/New_York:20250107T210000
DTSTAMP:20260423T064002
CREATED:20181007T182103Z
LAST-MODIFIED:20200705T164755Z
UID:10000604-1736280000-1736283600@www.gapost233.com
SUMMARY:Sons of the American Legion Meeting
DESCRIPTION:The Sons of the Legion meet in conjunction with the American Legion on the First Tuesday of each Month.
URL:https://www.gapost233.com/event/sons-of-the-american-legion-meeting/2025-01-07/
LOCATION:GA
END:VEVENT
BEGIN:VEVENT
DTSTART;TZID=America/New_York:20250110T180000
DTEND;TZID=America/New_York:20250110T213000
DTSTAMP:20260423T064002
CREATED:20240521T183946Z
LAST-MODIFIED:20240521T183947Z
UID:10004482-1736532000-1736544600@www.gapost233.com
SUMMARY:Find Old Glory
DESCRIPTION:Buy Tickets! $2 each\, 3 for $5 or 6 for $10. \nTickets on sale daily until 8 PM on Friday. \nDrawing at 8:30 PM on Friday
URL:https://www.gapost233.com/event/find-old-glory-2-2/2025-01-10/
LOCATION:GA Post233-Patriot’s Grill\, 4635 Highway 78\, Loganville\, GA\, 30052
END:VEVENT
BEGIN:VEVENT
DTSTART;TZID=America/New_York:20250110T180000
DTEND;TZID=America/New_York:20250110T220000
DTSTAMP:20260423T064002
CREATED:20250107T182730Z
LAST-MODIFIED:20250108T155129Z
UID:10004794-1736532000-1736546400@www.gapost233.com
SUMMARY:Cheese Steak Special
DESCRIPTION:Cheese Steak Special
URL:https://www.gapost233.com/event/13965/
LOCATION:GA Post233-Patriot’s Grill\, 4635 Highway 78\, Loganville\, GA\, 30052
END:VEVENT
BEGIN:VEVENT
DTSTART;TZID=America/New_York:20250112T140000
DTEND;TZID=America/New_York:20250112T163000
DTSTAMP:20260423T064002
CREATED:20200629T010314Z
LAST-MODIFIED:20231221T194817Z
UID:10001655-1736690400-1736699400@www.gapost233.com
SUMMARY:Sunday BINGO
DESCRIPTION:Doors Open at  Noon\, Raffle Games after 1:00PM\, BINGO at 2:00 PM \nMinimum $15 buy-in\, must be 8 years or older to attend.
URL:https://www.gapost233.com/event/sunday-bingo/2025-01-12/
LOCATION:GA
END:VEVENT
BEGIN:VEVENT
DTSTART;TZID=America/New_York:20250117T180000
DTEND;TZID=America/New_York:20250117T213000
DTSTAMP:20260423T064002
CREATED:20240521T183946Z
LAST-MODIFIED:20240521T183947Z
UID:10004483-1737136800-1737149400@www.gapost233.com
SUMMARY:Find Old Glory
DESCRIPTION:Buy Tickets! $2 each\, 3 for $5 or 6 for $10. \nTickets on sale daily until 8 PM on Friday. \nDrawing at 8:30 PM on Friday
URL:https://www.gapost233.com/event/find-old-glory-2-2/2025-01-17/
LOCATION:GA Post233-Patriot’s Grill\, 4635 Highway 78\, Loganville\, GA\, 30052
END:VEVENT
BEGIN:VEVENT
DTSTART;TZID=America/New_York:20250119T140000
DTEND;TZID=America/New_York:20250119T163000
DTSTAMP:20260423T064002
CREATED:20200629T010314Z
LAST-MODIFIED:20231221T194817Z
UID:10001656-1737295200-1737304200@www.gapost233.com
SUMMARY:Sunday BINGO
DESCRIPTION:Doors Open at  Noon\, Raffle Games after 1:00PM\, BINGO at 2:00 PM \nMinimum $15 buy-in\, must be 8 years or older to attend.
URL:https://www.gapost233.com/event/sunday-bingo/2025-01-19/
LOCATION:GA
END:VEVENT
BEGIN:VEVENT
DTSTART;TZID=America/New_York:20250121T190000
DTEND;TZID=America/New_York:20250121T210000
DTSTAMP:20260423T064002
CREATED:20230607T213114Z
LAST-MODIFIED:20230620T132819Z
UID:10002197-1737486000-1737493200@www.gapost233.com
SUMMARY:ALR Meeting
DESCRIPTION:The American Legion Riders will meet tonight at 7:00pm. Guests are welcome to attend the meeting to learn more about this very active group.
URL:https://www.gapost233.com/event/alr-meeting-2/2025-01-21/
LOCATION:Robert Boss Pavilion\, 4635 U.S. 78\, Loganville\, GA\, 30052\, United States
END:VEVENT
BEGIN:VEVENT
DTSTART;TZID=America/New_York:20250124T180000
DTEND;TZID=America/New_York:20250124T213000
DTSTAMP:20260423T064002
CREATED:20240521T183946Z
LAST-MODIFIED:20240521T183947Z
UID:10004484-1737741600-1737754200@www.gapost233.com
SUMMARY:Find Old Glory
DESCRIPTION:Buy Tickets! $2 each\, 3 for $5 or 6 for $10. \nTickets on sale daily until 8 PM on Friday. \nDrawing at 8:30 PM on Friday
URL:https://www.gapost233.com/event/find-old-glory-2-2/2025-01-24/
LOCATION:GA Post233-Patriot’s Grill\, 4635 Highway 78\, Loganville\, GA\, 30052
END:VEVENT
BEGIN:VEVENT
DTSTART;TZID=America/New_York:20250126T140000
DTEND;TZID=America/New_York:20250126T163000
DTSTAMP:20260423T064002
CREATED:20200629T010314Z
LAST-MODIFIED:20231221T194817Z
UID:10001657-1737900000-1737909000@www.gapost233.com
SUMMARY:Sunday BINGO
DESCRIPTION:Doors Open at  Noon\, Raffle Games after 1:00PM\, BINGO at 2:00 PM \nMinimum $15 buy-in\, must be 8 years or older to attend.
URL:https://www.gapost233.com/event/sunday-bingo/2025-01-26/
LOCATION:GA
END:VEVENT
BEGIN:VEVENT
DTSTART;TZID=America/New_York:20250131T180000
DTEND;TZID=America/New_York:20250131T213000
DTSTAMP:20260423T064002
CREATED:20240521T183946Z
LAST-MODIFIED:20240521T183947Z
UID:10004485-1738346400-1738359000@www.gapost233.com
SUMMARY:Find Old Glory
DESCRIPTION:Buy Tickets! $2 each\, 3 for $5 or 6 for $10. \nTickets on sale daily until 8 PM on Friday. \nDrawing at 8:30 PM on Friday
URL:https://www.gapost233.com/event/find-old-glory-2-2/2025-01-31/
LOCATION:GA Post233-Patriot’s Grill\, 4635 Highway 78\, Loganville\, GA\, 30052
END:VEVENT
BEGIN:VEVENT
DTSTART;TZID=America/New_York:20250131T180000
DTEND;TZID=America/New_York:20250131T220000
DTSTAMP:20260423T064002
CREATED:20250128T184930Z
LAST-MODIFIED:20250128T184930Z
UID:10004796-1738346400-1738360800@www.gapost233.com
SUMMARY:Duck It
DESCRIPTION:
URL:https://www.gapost233.com/event/duck-it/
LOCATION:GA Post233-Patriot’s Grill\, 4635 Highway 78\, Loganville\, GA\, 30052
END:VEVENT
END:VCALENDAR