BEGIN:VCALENDAR
VERSION:2.0
PRODID:-//AMERICAN LEGION POST 233 - ECPv6.10.1.1//NONSGML v1.0//EN
CALSCALE:GREGORIAN
METHOD:PUBLISH
X-WR-CALNAME:AMERICAN LEGION POST 233
X-ORIGINAL-URL:https://www.gapost233.com
X-WR-CALDESC:Events for AMERICAN LEGION POST 233
REFRESH-INTERVAL;VALUE=DURATION:PT1H
X-Robots-Tag:noindex
X-PUBLISHED-TTL:PT1H
BEGIN:VTIMEZONE
TZID:America/New_York
BEGIN:DAYLIGHT
TZOFFSETFROM:-0500
TZOFFSETTO:-0400
TZNAME:EDT
DTSTART:20250309T070000
END:DAYLIGHT
BEGIN:STANDARD
TZOFFSETFROM:-0400
TZOFFSETTO:-0500
TZNAME:EST
DTSTART:20251102T060000
END:STANDARD
END:VTIMEZONE
BEGIN:VEVENT
DTSTART;TZID=America/New_York:20250801T180000
DTEND;TZID=America/New_York:20250801T213000
DTSTAMP:20260422T164006
CREATED:20240521T183946Z
LAST-MODIFIED:20240521T183947Z
UID:10004511-1754071200-1754083800@www.gapost233.com
SUMMARY:Find Old Glory
DESCRIPTION:Buy Tickets! $2 each\, 3 for $5 or 6 for $10. \nTickets on sale daily until 8 PM on Friday. \nDrawing at 8:30 PM on Friday
URL:https://www.gapost233.com/event/find-old-glory-2-2/2025-08-01/
LOCATION:GA Post233-Patriot’s Grill\, 4635 Highway 78\, Loganville\, GA\, 30052
END:VEVENT
BEGIN:VEVENT
DTSTART;TZID=America/New_York:20250803T140000
DTEND;TZID=America/New_York:20250803T160000
DTSTAMP:20260422T164006
CREATED:20250512T151419Z
LAST-MODIFIED:20250512T152527Z
UID:10005746-1754229600-1754236800@www.gapost233.com
SUMMARY:Sunday BINGO
DESCRIPTION:Doors OPEN at Noon\, Raffle Games start at 1:00 pm\, BINGO starts at 2:00 pm \nWe reserve the Right to change Games & Prizes \n\n\nand Revoke Admission \n\n\nCredit Cards Accepted * Visa * Mastercard * Discover \n\n\n\n\nEVERY PLAYER MUST HAVE A RECEIPT – PLAYERS CANNOT SHARE CARDS \n\n\nHosted by the American Legion Auxiliary Unit #233 \n\n\n4635 Atlanta Hwy. Loganville\, Ga. 30052 \n\n\n770-466-4728 \n\n\nYOU MUST BINGO ON THE LAST NUMBER CALLED \n\n\n\n\nPrices \n\n\n4 Books $15.00 \n\n\n5 Books $17.50 \n\n\n6 Books $20.00 \n\n\n7 Books $22.50 \n\n\n8 Books $25.00 \n\n\nExtra Cards \n\n\n$50 & $100 -$0.50 ea \n\n\n \n 
URL:https://www.gapost233.com/event/sunday-bingo-7/2025-08-03/
LOCATION:GA
END:VEVENT
BEGIN:VEVENT
DTSTART;VALUE=DATE:20250804
DTEND;VALUE=DATE:20250805
DTSTAMP:20260422T164006
CREATED:20151110T110335Z
LAST-MODIFIED:20151110T110335Z
UID:10000460-1754265600-1754351999@www.gapost233.com
SUMMARY:Coast Guard Birthday
DESCRIPTION:The Coast Guard is one of America’s five armed forces and traces its founding to Aug. 4\, 1790\, when the first Congress authorized the construction of 10 vessels to enforce tariff and trade laws\, prevent smuggling\, and protect the collection of federal revenue. Responsibilities added over the years included humanitarian duties such as aiding mariners in distress.\nThe service received its present name in 1915 when the Revenue Cutter Service merged with the U.S. Life-Saving Service to form a single maritime service dedicated to the safety of life at sea and enforcing the nation’s maritime laws.\nThe Coast Guard is a multi-mission\, maritime\, military service and the smallest of the five Armed Services. Its mission is to protect the public\, the environment and U.S. economic interests in the nation’s waterways\, along the coast\, on international waters\, or in any maritime region as required to support national security.
URL:https://www.gapost233.com/event/coast-guard-birthday/2025-08-04/
LOCATION:GA
END:VEVENT
BEGIN:VEVENT
DTSTART;TZID=America/New_York:20250804T170000
DTEND;TZID=America/New_York:20250804T213000
DTSTAMP:20260422T164006
CREATED:20250405T161816Z
LAST-MODIFIED:20260310T151546Z
UID:10006332-1754326800-1754343000@www.gapost233.com
SUMMARY:BINGO Night
DESCRIPTION:Doors OPEN at  5 pm\, \nRaffle Games \nBINGO at 7:30 PM  FIRST BALL \nMinimum $15 buy-in\, must be 8 years or older to attend.
URL:https://www.gapost233.com/event/bingo-night/2025-08-04/
LOCATION:Post 233 Main Hall\, 4635 U.S. 78\, Loganville\, GA\, 30052\, United States
GEO:33.8337745;-83.8911131
X-APPLE-STRUCTURED-LOCATION;VALUE=URI;X-ADDRESS=Post 233 Main Hall 4635 U.S. 78 Loganville GA 30052 United States;X-APPLE-RADIUS=500;X-TITLE=4635 U.S. 78:geo:-83.8911131,33.8337745
END:VEVENT
BEGIN:VEVENT
DTSTART;TZID=America/New_York:20250805T183000
DTEND;TZID=America/New_York:20250805T213000
DTSTAMP:20260422T164006
CREATED:20241205T194043Z
LAST-MODIFIED:20241205T194043Z
UID:10004787-1754418600-1754429400@www.gapost233.com
SUMMARY:Post 233 Monthly Meeting
DESCRIPTION:Let’s Make Our Post Great! \nJoin us for our Monthly meeting and contribute your input.
URL:https://www.gapost233.com/event/post-233-monthly-meeting/2025-08-05/
LOCATION:Post 233 Main Hall\, 4635 U.S. 78\, Loganville\, GA\, 30052\, United States
GEO:33.8337745;-83.8911131
X-APPLE-STRUCTURED-LOCATION;VALUE=URI;X-ADDRESS=Post 233 Main Hall 4635 U.S. 78 Loganville GA 30052 United States;X-APPLE-RADIUS=500;X-TITLE=4635 U.S. 78:geo:-83.8911131,33.8337745
END:VEVENT
BEGIN:VEVENT
DTSTART;TZID=America/New_York:20250805T200000
DTEND;TZID=America/New_York:20250805T210000
DTSTAMP:20260422T164006
CREATED:20181007T182103Z
LAST-MODIFIED:20200705T164755Z
UID:10000611-1754424000-1754427600@www.gapost233.com
SUMMARY:Sons of the American Legion Meeting
DESCRIPTION:The Sons of the Legion meet in conjunction with the American Legion on the First Tuesday of each Month.
URL:https://www.gapost233.com/event/sons-of-the-american-legion-meeting/2025-08-05/
LOCATION:GA
END:VEVENT
BEGIN:VEVENT
DTSTART;TZID=America/New_York:20250806T170000
DTEND;TZID=America/New_York:20250806T213000
DTSTAMP:20260422T164006
CREATED:20250405T161816Z
LAST-MODIFIED:20260310T151546Z
UID:10006333-1754499600-1754515800@www.gapost233.com
SUMMARY:BINGO Night
DESCRIPTION:Doors OPEN at  5 pm\, \nRaffle Games \nBINGO at 7:30 PM  FIRST BALL \nMinimum $15 buy-in\, must be 8 years or older to attend.
URL:https://www.gapost233.com/event/bingo-night/2025-08-06/
LOCATION:Post 233 Main Hall\, 4635 U.S. 78\, Loganville\, GA\, 30052\, United States
GEO:33.8337745;-83.8911131
X-APPLE-STRUCTURED-LOCATION;VALUE=URI;X-ADDRESS=Post 233 Main Hall 4635 U.S. 78 Loganville GA 30052 United States;X-APPLE-RADIUS=500;X-TITLE=4635 U.S. 78:geo:-83.8911131,33.8337745
END:VEVENT
BEGIN:VEVENT
DTSTART;TZID=America/New_York:20250807T170000
DTEND;TZID=America/New_York:20250807T213000
DTSTAMP:20260422T164006
CREATED:20250405T161816Z
LAST-MODIFIED:20260310T151546Z
UID:10004970-1754586000-1754602200@www.gapost233.com
SUMMARY:BINGO Night
DESCRIPTION:Doors OPEN at  5 pm\, \nRaffle Games \nBINGO at 7:30 PM  FIRST BALL \nMinimum $15 buy-in\, must be 8 years or older to attend.
URL:https://www.gapost233.com/event/bingo-night/2025-08-07/
LOCATION:Post 233 Main Hall\, 4635 U.S. 78\, Loganville\, GA\, 30052\, United States
GEO:33.8337745;-83.8911131
X-APPLE-STRUCTURED-LOCATION;VALUE=URI;X-ADDRESS=Post 233 Main Hall 4635 U.S. 78 Loganville GA 30052 United States;X-APPLE-RADIUS=500;X-TITLE=4635 U.S. 78:geo:-83.8911131,33.8337745
END:VEVENT
BEGIN:VEVENT
DTSTART;TZID=America/New_York:20250808T180000
DTEND;TZID=America/New_York:20250808T213000
DTSTAMP:20260422T164006
CREATED:20240521T183946Z
LAST-MODIFIED:20240521T183947Z
UID:10004512-1754676000-1754688600@www.gapost233.com
SUMMARY:Find Old Glory
DESCRIPTION:Buy Tickets! $2 each\, 3 for $5 or 6 for $10. \nTickets on sale daily until 8 PM on Friday. \nDrawing at 8:30 PM on Friday
URL:https://www.gapost233.com/event/find-old-glory-2-2/2025-08-08/
LOCATION:GA Post233-Patriot’s Grill\, 4635 Highway 78\, Loganville\, GA\, 30052
END:VEVENT
BEGIN:VEVENT
DTSTART;TZID=America/New_York:20250810T140000
DTEND;TZID=America/New_York:20250810T160000
DTSTAMP:20260422T164006
CREATED:20250512T151419Z
LAST-MODIFIED:20250512T152527Z
UID:10005747-1754834400-1754841600@www.gapost233.com
SUMMARY:Sunday BINGO
DESCRIPTION:Doors OPEN at Noon\, Raffle Games start at 1:00 pm\, BINGO starts at 2:00 pm \nWe reserve the Right to change Games & Prizes \n\n\nand Revoke Admission \n\n\nCredit Cards Accepted * Visa * Mastercard * Discover \n\n\n\n\nEVERY PLAYER MUST HAVE A RECEIPT – PLAYERS CANNOT SHARE CARDS \n\n\nHosted by the American Legion Auxiliary Unit #233 \n\n\n4635 Atlanta Hwy. Loganville\, Ga. 30052 \n\n\n770-466-4728 \n\n\nYOU MUST BINGO ON THE LAST NUMBER CALLED \n\n\n\n\nPrices \n\n\n4 Books $15.00 \n\n\n5 Books $17.50 \n\n\n6 Books $20.00 \n\n\n7 Books $22.50 \n\n\n8 Books $25.00 \n\n\nExtra Cards \n\n\n$50 & $100 -$0.50 ea \n\n\n \n 
URL:https://www.gapost233.com/event/sunday-bingo-7/2025-08-10/
LOCATION:GA
END:VEVENT
BEGIN:VEVENT
DTSTART;TZID=America/New_York:20250811T170000
DTEND;TZID=America/New_York:20250811T213000
DTSTAMP:20260422T164006
CREATED:20250405T161816Z
LAST-MODIFIED:20260310T151546Z
UID:10006334-1754931600-1754947800@www.gapost233.com
SUMMARY:BINGO Night
DESCRIPTION:Doors OPEN at  5 pm\, \nRaffle Games \nBINGO at 7:30 PM  FIRST BALL \nMinimum $15 buy-in\, must be 8 years or older to attend.
URL:https://www.gapost233.com/event/bingo-night/2025-08-11/
LOCATION:Post 233 Main Hall\, 4635 U.S. 78\, Loganville\, GA\, 30052\, United States
GEO:33.8337745;-83.8911131
X-APPLE-STRUCTURED-LOCATION;VALUE=URI;X-ADDRESS=Post 233 Main Hall 4635 U.S. 78 Loganville GA 30052 United States;X-APPLE-RADIUS=500;X-TITLE=4635 U.S. 78:geo:-83.8911131,33.8337745
END:VEVENT
BEGIN:VEVENT
DTSTART;TZID=America/New_York:20250813T170000
DTEND;TZID=America/New_York:20250813T213000
DTSTAMP:20260422T164006
CREATED:20250405T161816Z
LAST-MODIFIED:20260310T151546Z
UID:10006335-1755104400-1755120600@www.gapost233.com
SUMMARY:BINGO Night
DESCRIPTION:Doors OPEN at  5 pm\, \nRaffle Games \nBINGO at 7:30 PM  FIRST BALL \nMinimum $15 buy-in\, must be 8 years or older to attend.
URL:https://www.gapost233.com/event/bingo-night/2025-08-13/
LOCATION:Post 233 Main Hall\, 4635 U.S. 78\, Loganville\, GA\, 30052\, United States
GEO:33.8337745;-83.8911131
X-APPLE-STRUCTURED-LOCATION;VALUE=URI;X-ADDRESS=Post 233 Main Hall 4635 U.S. 78 Loganville GA 30052 United States;X-APPLE-RADIUS=500;X-TITLE=4635 U.S. 78:geo:-83.8911131,33.8337745
END:VEVENT
BEGIN:VEVENT
DTSTART;TZID=America/New_York:20250814T170000
DTEND;TZID=America/New_York:20250814T213000
DTSTAMP:20260422T164006
CREATED:20250405T161816Z
LAST-MODIFIED:20260310T151546Z
UID:10004971-1755190800-1755207000@www.gapost233.com
SUMMARY:BINGO Night
DESCRIPTION:Doors OPEN at  5 pm\, \nRaffle Games \nBINGO at 7:30 PM  FIRST BALL \nMinimum $15 buy-in\, must be 8 years or older to attend.
URL:https://www.gapost233.com/event/bingo-night/2025-08-14/
LOCATION:Post 233 Main Hall\, 4635 U.S. 78\, Loganville\, GA\, 30052\, United States
GEO:33.8337745;-83.8911131
X-APPLE-STRUCTURED-LOCATION;VALUE=URI;X-ADDRESS=Post 233 Main Hall 4635 U.S. 78 Loganville GA 30052 United States;X-APPLE-RADIUS=500;X-TITLE=4635 U.S. 78:geo:-83.8911131,33.8337745
END:VEVENT
BEGIN:VEVENT
DTSTART;TZID=America/New_York:20250815T180000
DTEND;TZID=America/New_York:20250815T213000
DTSTAMP:20260422T164006
CREATED:20240521T183946Z
LAST-MODIFIED:20240521T183947Z
UID:10004513-1755280800-1755293400@www.gapost233.com
SUMMARY:Find Old Glory
DESCRIPTION:Buy Tickets! $2 each\, 3 for $5 or 6 for $10. \nTickets on sale daily until 8 PM on Friday. \nDrawing at 8:30 PM on Friday
URL:https://www.gapost233.com/event/find-old-glory-2-2/2025-08-15/
LOCATION:GA Post233-Patriot’s Grill\, 4635 Highway 78\, Loganville\, GA\, 30052
END:VEVENT
BEGIN:VEVENT
DTSTART;TZID=America/New_York:20250817T140000
DTEND;TZID=America/New_York:20250817T160000
DTSTAMP:20260422T164006
CREATED:20250512T151419Z
LAST-MODIFIED:20250512T152527Z
UID:10005748-1755439200-1755446400@www.gapost233.com
SUMMARY:Sunday BINGO
DESCRIPTION:Doors OPEN at Noon\, Raffle Games start at 1:00 pm\, BINGO starts at 2:00 pm \nWe reserve the Right to change Games & Prizes \n\n\nand Revoke Admission \n\n\nCredit Cards Accepted * Visa * Mastercard * Discover \n\n\n\n\nEVERY PLAYER MUST HAVE A RECEIPT – PLAYERS CANNOT SHARE CARDS \n\n\nHosted by the American Legion Auxiliary Unit #233 \n\n\n4635 Atlanta Hwy. Loganville\, Ga. 30052 \n\n\n770-466-4728 \n\n\nYOU MUST BINGO ON THE LAST NUMBER CALLED \n\n\n\n\nPrices \n\n\n4 Books $15.00 \n\n\n5 Books $17.50 \n\n\n6 Books $20.00 \n\n\n7 Books $22.50 \n\n\n8 Books $25.00 \n\n\nExtra Cards \n\n\n$50 & $100 -$0.50 ea \n\n\n \n 
URL:https://www.gapost233.com/event/sunday-bingo-7/2025-08-17/
LOCATION:GA
END:VEVENT
BEGIN:VEVENT
DTSTART;TZID=America/New_York:20250818T170000
DTEND;TZID=America/New_York:20250818T213000
DTSTAMP:20260422T164006
CREATED:20250405T161816Z
LAST-MODIFIED:20260310T151546Z
UID:10006336-1755536400-1755552600@www.gapost233.com
SUMMARY:BINGO Night
DESCRIPTION:Doors OPEN at  5 pm\, \nRaffle Games \nBINGO at 7:30 PM  FIRST BALL \nMinimum $15 buy-in\, must be 8 years or older to attend.
URL:https://www.gapost233.com/event/bingo-night/2025-08-18/
LOCATION:Post 233 Main Hall\, 4635 U.S. 78\, Loganville\, GA\, 30052\, United States
GEO:33.8337745;-83.8911131
X-APPLE-STRUCTURED-LOCATION;VALUE=URI;X-ADDRESS=Post 233 Main Hall 4635 U.S. 78 Loganville GA 30052 United States;X-APPLE-RADIUS=500;X-TITLE=4635 U.S. 78:geo:-83.8911131,33.8337745
END:VEVENT
BEGIN:VEVENT
DTSTART;TZID=America/New_York:20250819T190000
DTEND;TZID=America/New_York:20250819T210000
DTSTAMP:20260422T164006
CREATED:20230607T213114Z
LAST-MODIFIED:20230620T132819Z
UID:10002204-1755630000-1755637200@www.gapost233.com
SUMMARY:ALR Meeting
DESCRIPTION:The American Legion Riders will meet tonight at 7:00pm. Guests are welcome to attend the meeting to learn more about this very active group.
URL:https://www.gapost233.com/event/alr-meeting-2/2025-08-19/
LOCATION:Robert Boss Pavilion\, 4635 U.S. 78\, Loganville\, GA\, 30052\, United States
END:VEVENT
BEGIN:VEVENT
DTSTART;TZID=America/New_York:20250820T170000
DTEND;TZID=America/New_York:20250820T213000
DTSTAMP:20260422T164006
CREATED:20250405T161816Z
LAST-MODIFIED:20260310T151546Z
UID:10006337-1755709200-1755725400@www.gapost233.com
SUMMARY:BINGO Night
DESCRIPTION:Doors OPEN at  5 pm\, \nRaffle Games \nBINGO at 7:30 PM  FIRST BALL \nMinimum $15 buy-in\, must be 8 years or older to attend.
URL:https://www.gapost233.com/event/bingo-night/2025-08-20/
LOCATION:Post 233 Main Hall\, 4635 U.S. 78\, Loganville\, GA\, 30052\, United States
GEO:33.8337745;-83.8911131
X-APPLE-STRUCTURED-LOCATION;VALUE=URI;X-ADDRESS=Post 233 Main Hall 4635 U.S. 78 Loganville GA 30052 United States;X-APPLE-RADIUS=500;X-TITLE=4635 U.S. 78:geo:-83.8911131,33.8337745
END:VEVENT
BEGIN:VEVENT
DTSTART;TZID=America/New_York:20250821T170000
DTEND;TZID=America/New_York:20250821T213000
DTSTAMP:20260422T164006
CREATED:20250405T161816Z
LAST-MODIFIED:20260310T151546Z
UID:10004972-1755795600-1755811800@www.gapost233.com
SUMMARY:BINGO Night
DESCRIPTION:Doors OPEN at  5 pm\, \nRaffle Games \nBINGO at 7:30 PM  FIRST BALL \nMinimum $15 buy-in\, must be 8 years or older to attend.
URL:https://www.gapost233.com/event/bingo-night/2025-08-21/
LOCATION:Post 233 Main Hall\, 4635 U.S. 78\, Loganville\, GA\, 30052\, United States
GEO:33.8337745;-83.8911131
X-APPLE-STRUCTURED-LOCATION;VALUE=URI;X-ADDRESS=Post 233 Main Hall 4635 U.S. 78 Loganville GA 30052 United States;X-APPLE-RADIUS=500;X-TITLE=4635 U.S. 78:geo:-83.8911131,33.8337745
END:VEVENT
BEGIN:VEVENT
DTSTART;TZID=America/New_York:20250822T180000
DTEND;TZID=America/New_York:20250822T213000
DTSTAMP:20260422T164006
CREATED:20240521T183946Z
LAST-MODIFIED:20240521T183947Z
UID:10004514-1755885600-1755898200@www.gapost233.com
SUMMARY:Find Old Glory
DESCRIPTION:Buy Tickets! $2 each\, 3 for $5 or 6 for $10. \nTickets on sale daily until 8 PM on Friday. \nDrawing at 8:30 PM on Friday
URL:https://www.gapost233.com/event/find-old-glory-2-2/2025-08-22/
LOCATION:GA Post233-Patriot’s Grill\, 4635 Highway 78\, Loganville\, GA\, 30052
END:VEVENT
BEGIN:VEVENT
DTSTART;TZID=America/New_York:20250824T140000
DTEND;TZID=America/New_York:20250824T160000
DTSTAMP:20260422T164006
CREATED:20250512T151419Z
LAST-MODIFIED:20250512T152527Z
UID:10005749-1756044000-1756051200@www.gapost233.com
SUMMARY:Sunday BINGO
DESCRIPTION:Doors OPEN at Noon\, Raffle Games start at 1:00 pm\, BINGO starts at 2:00 pm \nWe reserve the Right to change Games & Prizes \n\n\nand Revoke Admission \n\n\nCredit Cards Accepted * Visa * Mastercard * Discover \n\n\n\n\nEVERY PLAYER MUST HAVE A RECEIPT – PLAYERS CANNOT SHARE CARDS \n\n\nHosted by the American Legion Auxiliary Unit #233 \n\n\n4635 Atlanta Hwy. Loganville\, Ga. 30052 \n\n\n770-466-4728 \n\n\nYOU MUST BINGO ON THE LAST NUMBER CALLED \n\n\n\n\nPrices \n\n\n4 Books $15.00 \n\n\n5 Books $17.50 \n\n\n6 Books $20.00 \n\n\n7 Books $22.50 \n\n\n8 Books $25.00 \n\n\nExtra Cards \n\n\n$50 & $100 -$0.50 ea \n\n\n \n 
URL:https://www.gapost233.com/event/sunday-bingo-7/2025-08-24/
LOCATION:GA
END:VEVENT
BEGIN:VEVENT
DTSTART;TZID=America/New_York:20250825T170000
DTEND;TZID=America/New_York:20250825T213000
DTSTAMP:20260422T164006
CREATED:20250405T161816Z
LAST-MODIFIED:20260310T151546Z
UID:10006338-1756141200-1756157400@www.gapost233.com
SUMMARY:BINGO Night
DESCRIPTION:Doors OPEN at  5 pm\, \nRaffle Games \nBINGO at 7:30 PM  FIRST BALL \nMinimum $15 buy-in\, must be 8 years or older to attend.
URL:https://www.gapost233.com/event/bingo-night/2025-08-25/
LOCATION:Post 233 Main Hall\, 4635 U.S. 78\, Loganville\, GA\, 30052\, United States
GEO:33.8337745;-83.8911131
X-APPLE-STRUCTURED-LOCATION;VALUE=URI;X-ADDRESS=Post 233 Main Hall 4635 U.S. 78 Loganville GA 30052 United States;X-APPLE-RADIUS=500;X-TITLE=4635 U.S. 78:geo:-83.8911131,33.8337745
END:VEVENT
BEGIN:VEVENT
DTSTART;TZID=America/New_York:20250827T170000
DTEND;TZID=America/New_York:20250827T213000
DTSTAMP:20260422T164006
CREATED:20250405T161816Z
LAST-MODIFIED:20260310T151546Z
UID:10006339-1756314000-1756330200@www.gapost233.com
SUMMARY:BINGO Night
DESCRIPTION:Doors OPEN at  5 pm\, \nRaffle Games \nBINGO at 7:30 PM  FIRST BALL \nMinimum $15 buy-in\, must be 8 years or older to attend.
URL:https://www.gapost233.com/event/bingo-night/2025-08-27/
LOCATION:Post 233 Main Hall\, 4635 U.S. 78\, Loganville\, GA\, 30052\, United States
GEO:33.8337745;-83.8911131
X-APPLE-STRUCTURED-LOCATION;VALUE=URI;X-ADDRESS=Post 233 Main Hall 4635 U.S. 78 Loganville GA 30052 United States;X-APPLE-RADIUS=500;X-TITLE=4635 U.S. 78:geo:-83.8911131,33.8337745
END:VEVENT
BEGIN:VEVENT
DTSTART;TZID=America/New_York:20250828T170000
DTEND;TZID=America/New_York:20250828T213000
DTSTAMP:20260422T164006
CREATED:20250405T161816Z
LAST-MODIFIED:20260310T151546Z
UID:10004973-1756400400-1756416600@www.gapost233.com
SUMMARY:BINGO Night
DESCRIPTION:Doors OPEN at  5 pm\, \nRaffle Games \nBINGO at 7:30 PM  FIRST BALL \nMinimum $15 buy-in\, must be 8 years or older to attend.
URL:https://www.gapost233.com/event/bingo-night/2025-08-28/
LOCATION:Post 233 Main Hall\, 4635 U.S. 78\, Loganville\, GA\, 30052\, United States
GEO:33.8337745;-83.8911131
X-APPLE-STRUCTURED-LOCATION;VALUE=URI;X-ADDRESS=Post 233 Main Hall 4635 U.S. 78 Loganville GA 30052 United States;X-APPLE-RADIUS=500;X-TITLE=4635 U.S. 78:geo:-83.8911131,33.8337745
END:VEVENT
BEGIN:VEVENT
DTSTART;TZID=America/New_York:20250829T180000
DTEND;TZID=America/New_York:20250829T213000
DTSTAMP:20260422T164006
CREATED:20240521T183946Z
LAST-MODIFIED:20240521T183947Z
UID:10004515-1756490400-1756503000@www.gapost233.com
SUMMARY:Find Old Glory
DESCRIPTION:Buy Tickets! $2 each\, 3 for $5 or 6 for $10. \nTickets on sale daily until 8 PM on Friday. \nDrawing at 8:30 PM on Friday
URL:https://www.gapost233.com/event/find-old-glory-2-2/2025-08-29/
LOCATION:GA Post233-Patriot’s Grill\, 4635 Highway 78\, Loganville\, GA\, 30052
END:VEVENT
BEGIN:VEVENT
DTSTART;TZID=America/New_York:20250831T140000
DTEND;TZID=America/New_York:20250831T160000
DTSTAMP:20260422T164006
CREATED:20250512T151419Z
LAST-MODIFIED:20250512T152527Z
UID:10005750-1756648800-1756656000@www.gapost233.com
SUMMARY:Sunday BINGO
DESCRIPTION:Doors OPEN at Noon\, Raffle Games start at 1:00 pm\, BINGO starts at 2:00 pm \nWe reserve the Right to change Games & Prizes \n\n\nand Revoke Admission \n\n\nCredit Cards Accepted * Visa * Mastercard * Discover \n\n\n\n\nEVERY PLAYER MUST HAVE A RECEIPT – PLAYERS CANNOT SHARE CARDS \n\n\nHosted by the American Legion Auxiliary Unit #233 \n\n\n4635 Atlanta Hwy. Loganville\, Ga. 30052 \n\n\n770-466-4728 \n\n\nYOU MUST BINGO ON THE LAST NUMBER CALLED \n\n\n\n\nPrices \n\n\n4 Books $15.00 \n\n\n5 Books $17.50 \n\n\n6 Books $20.00 \n\n\n7 Books $22.50 \n\n\n8 Books $25.00 \n\n\nExtra Cards \n\n\n$50 & $100 -$0.50 ea \n\n\n \n 
URL:https://www.gapost233.com/event/sunday-bingo-7/2025-08-31/
LOCATION:GA
END:VEVENT
END:VCALENDAR