BEGIN:VCALENDAR
VERSION:2.0
PRODID:-//AMERICAN LEGION POST 233 - ECPv6.10.1.1//NONSGML v1.0//EN
CALSCALE:GREGORIAN
METHOD:PUBLISH
X-WR-CALNAME:AMERICAN LEGION POST 233
X-ORIGINAL-URL:https://www.gapost233.com
X-WR-CALDESC:Events for AMERICAN LEGION POST 233
REFRESH-INTERVAL;VALUE=DURATION:PT1H
X-Robots-Tag:noindex
X-PUBLISHED-TTL:PT1H
BEGIN:VTIMEZONE
TZID:America/New_York
BEGIN:DAYLIGHT
TZOFFSETFROM:-0500
TZOFFSETTO:-0400
TZNAME:EDT
DTSTART:20260308T070000
END:DAYLIGHT
BEGIN:STANDARD
TZOFFSETFROM:-0400
TZOFFSETTO:-0500
TZNAME:EST
DTSTART:20261101T060000
END:STANDARD
END:VTIMEZONE
BEGIN:VEVENT
DTSTART;TZID=America/New_York:20261001T170000
DTEND;TZID=America/New_York:20261001T213000
DTSTAMP:20260422T124148
CREATED:20260310T151412Z
LAST-MODIFIED:20260310T151746Z
UID:10005030-1790874000-1790890200@www.gapost233.com
SUMMARY:BINGO Night
DESCRIPTION:Doors OPEN at  5 pm\, \nRaffle Games \nBINGO at 7:30 PM  FIRST BALL \nMinimum $15 buy-in\, must be 8 years or older to attend.
URL:https://www.gapost233.com/event/bingo-night-5/2026-10-01/
LOCATION:Post 233 Main Hall\, 4635 U.S. 78\, Loganville\, GA\, 30052\, United States
GEO:33.8337745;-83.8911131
X-APPLE-STRUCTURED-LOCATION;VALUE=URI;X-ADDRESS=Post 233 Main Hall 4635 U.S. 78 Loganville GA 30052 United States;X-APPLE-RADIUS=500;X-TITLE=4635 U.S. 78:geo:-83.8911131,33.8337745
END:VEVENT
BEGIN:VEVENT
DTSTART;TZID=America/New_York:20261002T180000
DTEND;TZID=America/New_York:20261002T213000
DTSTAMP:20260422T124148
CREATED:20240521T183946Z
LAST-MODIFIED:20240521T183947Z
UID:10004572-1790964000-1790976600@www.gapost233.com
SUMMARY:Find Old Glory
DESCRIPTION:Buy Tickets! $2 each\, 3 for $5 or 6 for $10. \nTickets on sale daily until 8 PM on Friday. \nDrawing at 8:30 PM on Friday
URL:https://www.gapost233.com/event/find-old-glory-2-2/2026-10-02/
LOCATION:GA Post233-Patriot’s Grill\, 4635 Highway 78\, Loganville\, GA\, 30052
END:VEVENT
BEGIN:VEVENT
DTSTART;TZID=America/New_York:20261004T140000
DTEND;TZID=America/New_York:20261004T160000
DTSTAMP:20260422T124148
CREATED:20250512T151419Z
LAST-MODIFIED:20250512T152527Z
UID:10005807-1791122400-1791129600@www.gapost233.com
SUMMARY:Sunday BINGO
DESCRIPTION:Doors OPEN at Noon\, Raffle Games start at 1:00 pm\, BINGO starts at 2:00 pm \nWe reserve the Right to change Games & Prizes \n\n\nand Revoke Admission \n\n\nCredit Cards Accepted * Visa * Mastercard * Discover \n\n\n\n\nEVERY PLAYER MUST HAVE A RECEIPT – PLAYERS CANNOT SHARE CARDS \n\n\nHosted by the American Legion Auxiliary Unit #233 \n\n\n4635 Atlanta Hwy. Loganville\, Ga. 30052 \n\n\n770-466-4728 \n\n\nYOU MUST BINGO ON THE LAST NUMBER CALLED \n\n\n\n\nPrices \n\n\n4 Books $15.00 \n\n\n5 Books $17.50 \n\n\n6 Books $20.00 \n\n\n7 Books $22.50 \n\n\n8 Books $25.00 \n\n\nExtra Cards \n\n\n$50 & $100 -$0.50 ea \n\n\n \n 
URL:https://www.gapost233.com/event/sunday-bingo-7/2026-10-04/
LOCATION:GA
END:VEVENT
BEGIN:VEVENT
DTSTART;TZID=America/New_York:20261005T170000
DTEND;TZID=America/New_York:20261005T213000
DTSTAMP:20260422T124148
CREATED:20260310T151412Z
LAST-MODIFIED:20260310T151746Z
UID:10006451-1791219600-1791235800@www.gapost233.com
SUMMARY:BINGO Night
DESCRIPTION:Doors OPEN at  5 pm\, \nRaffle Games \nBINGO at 7:30 PM  FIRST BALL \nMinimum $15 buy-in\, must be 8 years or older to attend.
URL:https://www.gapost233.com/event/bingo-night-5/2026-10-05/
LOCATION:Post 233 Main Hall\, 4635 U.S. 78\, Loganville\, GA\, 30052\, United States
GEO:33.8337745;-83.8911131
X-APPLE-STRUCTURED-LOCATION;VALUE=URI;X-ADDRESS=Post 233 Main Hall 4635 U.S. 78 Loganville GA 30052 United States;X-APPLE-RADIUS=500;X-TITLE=4635 U.S. 78:geo:-83.8911131,33.8337745
END:VEVENT
BEGIN:VEVENT
DTSTART;TZID=America/New_York:20261006T200000
DTEND;TZID=America/New_York:20261006T210000
DTSTAMP:20260422T124148
CREATED:20181007T182103Z
LAST-MODIFIED:20200705T164755Z
UID:10000625-1791316800-1791320400@www.gapost233.com
SUMMARY:Sons of the American Legion Meeting
DESCRIPTION:The Sons of the Legion meet in conjunction with the American Legion on the First Tuesday of each Month.
URL:https://www.gapost233.com/event/sons-of-the-american-legion-meeting/2026-10-06/
LOCATION:GA
END:VEVENT
BEGIN:VEVENT
DTSTART;TZID=America/New_York:20261007T170000
DTEND;TZID=America/New_York:20261007T213000
DTSTAMP:20260422T124148
CREATED:20260310T151412Z
LAST-MODIFIED:20260310T151746Z
UID:10006452-1791392400-1791408600@www.gapost233.com
SUMMARY:BINGO Night
DESCRIPTION:Doors OPEN at  5 pm\, \nRaffle Games \nBINGO at 7:30 PM  FIRST BALL \nMinimum $15 buy-in\, must be 8 years or older to attend.
URL:https://www.gapost233.com/event/bingo-night-5/2026-10-07/
LOCATION:Post 233 Main Hall\, 4635 U.S. 78\, Loganville\, GA\, 30052\, United States
GEO:33.8337745;-83.8911131
X-APPLE-STRUCTURED-LOCATION;VALUE=URI;X-ADDRESS=Post 233 Main Hall 4635 U.S. 78 Loganville GA 30052 United States;X-APPLE-RADIUS=500;X-TITLE=4635 U.S. 78:geo:-83.8911131,33.8337745
END:VEVENT
BEGIN:VEVENT
DTSTART;TZID=America/New_York:20261008T170000
DTEND;TZID=America/New_York:20261008T213000
DTSTAMP:20260422T124148
CREATED:20260310T151412Z
LAST-MODIFIED:20260310T151746Z
UID:10005031-1791478800-1791495000@www.gapost233.com
SUMMARY:BINGO Night
DESCRIPTION:Doors OPEN at  5 pm\, \nRaffle Games \nBINGO at 7:30 PM  FIRST BALL \nMinimum $15 buy-in\, must be 8 years or older to attend.
URL:https://www.gapost233.com/event/bingo-night-5/2026-10-08/
LOCATION:Post 233 Main Hall\, 4635 U.S. 78\, Loganville\, GA\, 30052\, United States
GEO:33.8337745;-83.8911131
X-APPLE-STRUCTURED-LOCATION;VALUE=URI;X-ADDRESS=Post 233 Main Hall 4635 U.S. 78 Loganville GA 30052 United States;X-APPLE-RADIUS=500;X-TITLE=4635 U.S. 78:geo:-83.8911131,33.8337745
END:VEVENT
BEGIN:VEVENT
DTSTART;TZID=America/New_York:20261009T180000
DTEND;TZID=America/New_York:20261009T213000
DTSTAMP:20260422T124148
CREATED:20240521T183946Z
LAST-MODIFIED:20240521T183947Z
UID:10004573-1791568800-1791581400@www.gapost233.com
SUMMARY:Find Old Glory
DESCRIPTION:Buy Tickets! $2 each\, 3 for $5 or 6 for $10. \nTickets on sale daily until 8 PM on Friday. \nDrawing at 8:30 PM on Friday
URL:https://www.gapost233.com/event/find-old-glory-2-2/2026-10-09/
LOCATION:GA Post233-Patriot’s Grill\, 4635 Highway 78\, Loganville\, GA\, 30052
END:VEVENT
BEGIN:VEVENT
DTSTART;TZID=America/New_York:20261009T190000
DTEND;TZID=America/New_York:20261009T220000
DTSTAMP:20260422T124148
CREATED:20260304T035218Z
LAST-MODIFIED:20260304T035714Z
UID:10006188-1791572400-1791583200@www.gapost233.com
SUMMARY:Trivia Night
DESCRIPTION:🧠✨ Think You’ve Got What It Takes to Win Trivia Night? ✨🧠 \nGet your team together and join us for an exciting Trivia Night with DJ Joey\, hosted by Outspoken Entertainment at Patriots’ Grill! Put your knowledge to the test with a fun mix of questions covering everything from pop culture and history to music\, movies\, sports\, and more. \nWhether you’re a trivia master or just looking for a great night out with friends\, this event promises plenty of laughs\, friendly competition\, and chances to win prizes. \n📅 Every 2nd Friday!📍 Patriots’ Grill🚪 Doors Open: 6:00 PM❓ Trivia Starts: 7:00 PM \nBring your smartest friends\, grab some food and drinks\, and get ready for a night of brain-teasing fun. Form your team\, show off your knowledge\, and see if you can claim the top spot! \n🎉 Why You Should Come:• Fun and engaging trivia rounds• Great food and drinks at Patriots’ Grill• Prizes and bragging rights for the winners• A perfect midweek night out \nSeats can fill up fast\, so arrive early\, get settled in\, and get ready to play.
URL:https://www.gapost233.com/event/trivia-night/2026-10-09/
LOCATION:GA
ATTACH;FMTTYPE=image/png:https://www.gapost233.com/wp-content/uploads/2026/03/177c5127-601d-422d-b090-f233685b0a61.png
END:VEVENT
BEGIN:VEVENT
DTSTART;TZID=America/New_York:20261011T140000
DTEND;TZID=America/New_York:20261011T160000
DTSTAMP:20260422T124148
CREATED:20250512T151419Z
LAST-MODIFIED:20250512T152527Z
UID:10005808-1791727200-1791734400@www.gapost233.com
SUMMARY:Sunday BINGO
DESCRIPTION:Doors OPEN at Noon\, Raffle Games start at 1:00 pm\, BINGO starts at 2:00 pm \nWe reserve the Right to change Games & Prizes \n\n\nand Revoke Admission \n\n\nCredit Cards Accepted * Visa * Mastercard * Discover \n\n\n\n\nEVERY PLAYER MUST HAVE A RECEIPT – PLAYERS CANNOT SHARE CARDS \n\n\nHosted by the American Legion Auxiliary Unit #233 \n\n\n4635 Atlanta Hwy. Loganville\, Ga. 30052 \n\n\n770-466-4728 \n\n\nYOU MUST BINGO ON THE LAST NUMBER CALLED \n\n\n\n\nPrices \n\n\n4 Books $15.00 \n\n\n5 Books $17.50 \n\n\n6 Books $20.00 \n\n\n7 Books $22.50 \n\n\n8 Books $25.00 \n\n\nExtra Cards \n\n\n$50 & $100 -$0.50 ea \n\n\n \n 
URL:https://www.gapost233.com/event/sunday-bingo-7/2026-10-11/
LOCATION:GA
END:VEVENT
BEGIN:VEVENT
DTSTART;TZID=America/New_York:20261012T170000
DTEND;TZID=America/New_York:20261012T213000
DTSTAMP:20260422T124148
CREATED:20260310T151412Z
LAST-MODIFIED:20260310T151746Z
UID:10006453-1791824400-1791840600@www.gapost233.com
SUMMARY:BINGO Night
DESCRIPTION:Doors OPEN at  5 pm\, \nRaffle Games \nBINGO at 7:30 PM  FIRST BALL \nMinimum $15 buy-in\, must be 8 years or older to attend.
URL:https://www.gapost233.com/event/bingo-night-5/2026-10-12/
LOCATION:Post 233 Main Hall\, 4635 U.S. 78\, Loganville\, GA\, 30052\, United States
GEO:33.8337745;-83.8911131
X-APPLE-STRUCTURED-LOCATION;VALUE=URI;X-ADDRESS=Post 233 Main Hall 4635 U.S. 78 Loganville GA 30052 United States;X-APPLE-RADIUS=500;X-TITLE=4635 U.S. 78:geo:-83.8911131,33.8337745
END:VEVENT
BEGIN:VEVENT
DTSTART;VALUE=DATE:20261013
DTEND;VALUE=DATE:20261014
DTSTAMP:20260422T124148
CREATED:20151110T110116Z
LAST-MODIFIED:20151110T110215Z
UID:10000449-1791849600-1791935999@www.gapost233.com
SUMMARY:Navy Birthday
DESCRIPTION:The U.S. Navy traces its roots back to the privateers that were employed to attack British commerce in the early days of the revolution. On October 13\, 1775\, the Continental Congress established a naval force\, hoping that a small fleet would be able to offset the uncontested exercise of British sea power.\nGet most recent Navy news\, videos\, equipment\, fitness & more on the Navy page.\nThe early Continental navy was not expected to take on the British navy for control of the seas. This small naval force was designed to work with privateers to wage tactical raids against the transports that supplied British forces in North America. To accomplish this mission the Continental Congress purchased\, converted\, and constructed a fleet of small ships–frigates\, brigs\, sloops\, and schooners. These navy ships sailed independently or in pairs hunting British commerce ships and transports like prey\, avoiding whenever possible fights with Royal Navy men-of-war.\nNavy Day	The Origins of Navy Day\nSailors and Marines at attention.	Who Has Precedence: Navy or Marines?\nThe Battle of Midway	Navy History Highlights\nUSS Carl Vinson	The Modern US Naval Arsenal\nThree tier Navy birthday cake.	The Two Navy Holidays: Navy Birthday and Navy Day\nAmphibious ssault ship USS Kearsarge	Birthplace of the U.S. Navy\nThe Continental navy faced several obstacles both during and after the revolution – mostly political and economic. Two years after the end of the war\, the money-poor Congress sold off the last ship of the Continental navy\, the frigate Alliance.\nIn the 1790’s Europe began to relax many mercantile commercial restrictions and the U.S. trade and the shipping industry expanded accordingly. However\, as the number of U.S. ships increased so did the possibility increased attacks by the European powers and pirates. In March 1794 Congress responded by calling for the construction of a half-dozen frigates. And\, once again\, the United States had a navy.\nAlthough the Continental navy was later dismantled\, October 13\, 1775 remains the U.S. Navy’s official birthday.\nFrom these humble beginnings\, the world’s most powerful naval force was born. With thousands of ships and aircraft serving worldwide\, the U.S. Navy is a force to be reckoned with. To learn more about the early years of the U.S. Navy\, visit the U.S. Naval Historical Center website.
URL:https://www.gapost233.com/event/navy-birthday/2026-10-13/
LOCATION:GA
END:VEVENT
BEGIN:VEVENT
DTSTART;TZID=America/New_York:20261014T170000
DTEND;TZID=America/New_York:20261014T213000
DTSTAMP:20260422T124148
CREATED:20260310T151412Z
LAST-MODIFIED:20260310T151746Z
UID:10006454-1791997200-1792013400@www.gapost233.com
SUMMARY:BINGO Night
DESCRIPTION:Doors OPEN at  5 pm\, \nRaffle Games \nBINGO at 7:30 PM  FIRST BALL \nMinimum $15 buy-in\, must be 8 years or older to attend.
URL:https://www.gapost233.com/event/bingo-night-5/2026-10-14/
LOCATION:Post 233 Main Hall\, 4635 U.S. 78\, Loganville\, GA\, 30052\, United States
GEO:33.8337745;-83.8911131
X-APPLE-STRUCTURED-LOCATION;VALUE=URI;X-ADDRESS=Post 233 Main Hall 4635 U.S. 78 Loganville GA 30052 United States;X-APPLE-RADIUS=500;X-TITLE=4635 U.S. 78:geo:-83.8911131,33.8337745
END:VEVENT
BEGIN:VEVENT
DTSTART;TZID=America/New_York:20261015T170000
DTEND;TZID=America/New_York:20261015T213000
DTSTAMP:20260422T124148
CREATED:20260310T151412Z
LAST-MODIFIED:20260310T151746Z
UID:10005032-1792083600-1792099800@www.gapost233.com
SUMMARY:BINGO Night
DESCRIPTION:Doors OPEN at  5 pm\, \nRaffle Games \nBINGO at 7:30 PM  FIRST BALL \nMinimum $15 buy-in\, must be 8 years or older to attend.
URL:https://www.gapost233.com/event/bingo-night-5/2026-10-15/
LOCATION:Post 233 Main Hall\, 4635 U.S. 78\, Loganville\, GA\, 30052\, United States
GEO:33.8337745;-83.8911131
X-APPLE-STRUCTURED-LOCATION;VALUE=URI;X-ADDRESS=Post 233 Main Hall 4635 U.S. 78 Loganville GA 30052 United States;X-APPLE-RADIUS=500;X-TITLE=4635 U.S. 78:geo:-83.8911131,33.8337745
END:VEVENT
BEGIN:VEVENT
DTSTART;TZID=America/New_York:20261016T180000
DTEND;TZID=America/New_York:20261016T213000
DTSTAMP:20260422T124148
CREATED:20240521T183946Z
LAST-MODIFIED:20240521T183947Z
UID:10004574-1792173600-1792186200@www.gapost233.com
SUMMARY:Find Old Glory
DESCRIPTION:Buy Tickets! $2 each\, 3 for $5 or 6 for $10. \nTickets on sale daily until 8 PM on Friday. \nDrawing at 8:30 PM on Friday
URL:https://www.gapost233.com/event/find-old-glory-2-2/2026-10-16/
LOCATION:GA Post233-Patriot’s Grill\, 4635 Highway 78\, Loganville\, GA\, 30052
END:VEVENT
BEGIN:VEVENT
DTSTART;TZID=America/New_York:20261018T140000
DTEND;TZID=America/New_York:20261018T160000
DTSTAMP:20260422T124148
CREATED:20250512T151419Z
LAST-MODIFIED:20250512T152527Z
UID:10005809-1792332000-1792339200@www.gapost233.com
SUMMARY:Sunday BINGO
DESCRIPTION:Doors OPEN at Noon\, Raffle Games start at 1:00 pm\, BINGO starts at 2:00 pm \nWe reserve the Right to change Games & Prizes \n\n\nand Revoke Admission \n\n\nCredit Cards Accepted * Visa * Mastercard * Discover \n\n\n\n\nEVERY PLAYER MUST HAVE A RECEIPT – PLAYERS CANNOT SHARE CARDS \n\n\nHosted by the American Legion Auxiliary Unit #233 \n\n\n4635 Atlanta Hwy. Loganville\, Ga. 30052 \n\n\n770-466-4728 \n\n\nYOU MUST BINGO ON THE LAST NUMBER CALLED \n\n\n\n\nPrices \n\n\n4 Books $15.00 \n\n\n5 Books $17.50 \n\n\n6 Books $20.00 \n\n\n7 Books $22.50 \n\n\n8 Books $25.00 \n\n\nExtra Cards \n\n\n$50 & $100 -$0.50 ea \n\n\n \n 
URL:https://www.gapost233.com/event/sunday-bingo-7/2026-10-18/
LOCATION:GA
END:VEVENT
BEGIN:VEVENT
DTSTART;TZID=America/New_York:20261019T170000
DTEND;TZID=America/New_York:20261019T213000
DTSTAMP:20260422T124148
CREATED:20260310T151412Z
LAST-MODIFIED:20260310T151746Z
UID:10006455-1792429200-1792445400@www.gapost233.com
SUMMARY:BINGO Night
DESCRIPTION:Doors OPEN at  5 pm\, \nRaffle Games \nBINGO at 7:30 PM  FIRST BALL \nMinimum $15 buy-in\, must be 8 years or older to attend.
URL:https://www.gapost233.com/event/bingo-night-5/2026-10-19/
LOCATION:Post 233 Main Hall\, 4635 U.S. 78\, Loganville\, GA\, 30052\, United States
GEO:33.8337745;-83.8911131
X-APPLE-STRUCTURED-LOCATION;VALUE=URI;X-ADDRESS=Post 233 Main Hall 4635 U.S. 78 Loganville GA 30052 United States;X-APPLE-RADIUS=500;X-TITLE=4635 U.S. 78:geo:-83.8911131,33.8337745
END:VEVENT
BEGIN:VEVENT
DTSTART;TZID=America/New_York:20261020T190000
DTEND;TZID=America/New_York:20261020T210000
DTSTAMP:20260422T124148
CREATED:20230607T213114Z
LAST-MODIFIED:20230620T132819Z
UID:10002215-1792522800-1792530000@www.gapost233.com
SUMMARY:ALR Meeting
DESCRIPTION:The American Legion Riders will meet tonight at 7:00pm. Guests are welcome to attend the meeting to learn more about this very active group.
URL:https://www.gapost233.com/event/alr-meeting-2/2026-10-20/
LOCATION:Robert Boss Pavilion\, 4635 U.S. 78\, Loganville\, GA\, 30052\, United States
END:VEVENT
BEGIN:VEVENT
DTSTART;TZID=America/New_York:20261021T170000
DTEND;TZID=America/New_York:20261021T213000
DTSTAMP:20260422T124148
CREATED:20260310T151412Z
LAST-MODIFIED:20260310T151746Z
UID:10006456-1792602000-1792618200@www.gapost233.com
SUMMARY:BINGO Night
DESCRIPTION:Doors OPEN at  5 pm\, \nRaffle Games \nBINGO at 7:30 PM  FIRST BALL \nMinimum $15 buy-in\, must be 8 years or older to attend.
URL:https://www.gapost233.com/event/bingo-night-5/2026-10-21/
LOCATION:Post 233 Main Hall\, 4635 U.S. 78\, Loganville\, GA\, 30052\, United States
GEO:33.8337745;-83.8911131
X-APPLE-STRUCTURED-LOCATION;VALUE=URI;X-ADDRESS=Post 233 Main Hall 4635 U.S. 78 Loganville GA 30052 United States;X-APPLE-RADIUS=500;X-TITLE=4635 U.S. 78:geo:-83.8911131,33.8337745
END:VEVENT
BEGIN:VEVENT
DTSTART;TZID=America/New_York:20261022T170000
DTEND;TZID=America/New_York:20261022T213000
DTSTAMP:20260422T124148
CREATED:20260310T151412Z
LAST-MODIFIED:20260310T151746Z
UID:10005033-1792688400-1792704600@www.gapost233.com
SUMMARY:BINGO Night
DESCRIPTION:Doors OPEN at  5 pm\, \nRaffle Games \nBINGO at 7:30 PM  FIRST BALL \nMinimum $15 buy-in\, must be 8 years or older to attend.
URL:https://www.gapost233.com/event/bingo-night-5/2026-10-22/
LOCATION:Post 233 Main Hall\, 4635 U.S. 78\, Loganville\, GA\, 30052\, United States
GEO:33.8337745;-83.8911131
X-APPLE-STRUCTURED-LOCATION;VALUE=URI;X-ADDRESS=Post 233 Main Hall 4635 U.S. 78 Loganville GA 30052 United States;X-APPLE-RADIUS=500;X-TITLE=4635 U.S. 78:geo:-83.8911131,33.8337745
END:VEVENT
BEGIN:VEVENT
DTSTART;TZID=America/New_York:20261023T180000
DTEND;TZID=America/New_York:20261023T213000
DTSTAMP:20260422T124148
CREATED:20240521T183946Z
LAST-MODIFIED:20240521T183947Z
UID:10004575-1792778400-1792791000@www.gapost233.com
SUMMARY:Find Old Glory
DESCRIPTION:Buy Tickets! $2 each\, 3 for $5 or 6 for $10. \nTickets on sale daily until 8 PM on Friday. \nDrawing at 8:30 PM on Friday
URL:https://www.gapost233.com/event/find-old-glory-2-2/2026-10-23/
LOCATION:GA Post233-Patriot’s Grill\, 4635 Highway 78\, Loganville\, GA\, 30052
END:VEVENT
BEGIN:VEVENT
DTSTART;TZID=America/New_York:20261025T140000
DTEND;TZID=America/New_York:20261025T160000
DTSTAMP:20260422T124148
CREATED:20250512T151419Z
LAST-MODIFIED:20250512T152527Z
UID:10005810-1792936800-1792944000@www.gapost233.com
SUMMARY:Sunday BINGO
DESCRIPTION:Doors OPEN at Noon\, Raffle Games start at 1:00 pm\, BINGO starts at 2:00 pm \nWe reserve the Right to change Games & Prizes \n\n\nand Revoke Admission \n\n\nCredit Cards Accepted * Visa * Mastercard * Discover \n\n\n\n\nEVERY PLAYER MUST HAVE A RECEIPT – PLAYERS CANNOT SHARE CARDS \n\n\nHosted by the American Legion Auxiliary Unit #233 \n\n\n4635 Atlanta Hwy. Loganville\, Ga. 30052 \n\n\n770-466-4728 \n\n\nYOU MUST BINGO ON THE LAST NUMBER CALLED \n\n\n\n\nPrices \n\n\n4 Books $15.00 \n\n\n5 Books $17.50 \n\n\n6 Books $20.00 \n\n\n7 Books $22.50 \n\n\n8 Books $25.00 \n\n\nExtra Cards \n\n\n$50 & $100 -$0.50 ea \n\n\n \n 
URL:https://www.gapost233.com/event/sunday-bingo-7/2026-10-25/
LOCATION:GA
END:VEVENT
BEGIN:VEVENT
DTSTART;TZID=America/New_York:20261026T170000
DTEND;TZID=America/New_York:20261026T213000
DTSTAMP:20260422T124148
CREATED:20260310T151412Z
LAST-MODIFIED:20260310T151746Z
UID:10006457-1793034000-1793050200@www.gapost233.com
SUMMARY:BINGO Night
DESCRIPTION:Doors OPEN at  5 pm\, \nRaffle Games \nBINGO at 7:30 PM  FIRST BALL \nMinimum $15 buy-in\, must be 8 years or older to attend.
URL:https://www.gapost233.com/event/bingo-night-5/2026-10-26/
LOCATION:Post 233 Main Hall\, 4635 U.S. 78\, Loganville\, GA\, 30052\, United States
GEO:33.8337745;-83.8911131
X-APPLE-STRUCTURED-LOCATION;VALUE=URI;X-ADDRESS=Post 233 Main Hall 4635 U.S. 78 Loganville GA 30052 United States;X-APPLE-RADIUS=500;X-TITLE=4635 U.S. 78:geo:-83.8911131,33.8337745
END:VEVENT
BEGIN:VEVENT
DTSTART;TZID=America/New_York:20261028T170000
DTEND;TZID=America/New_York:20261028T213000
DTSTAMP:20260422T124148
CREATED:20260310T151412Z
LAST-MODIFIED:20260310T151746Z
UID:10006458-1793206800-1793223000@www.gapost233.com
SUMMARY:BINGO Night
DESCRIPTION:Doors OPEN at  5 pm\, \nRaffle Games \nBINGO at 7:30 PM  FIRST BALL \nMinimum $15 buy-in\, must be 8 years or older to attend.
URL:https://www.gapost233.com/event/bingo-night-5/2026-10-28/
LOCATION:Post 233 Main Hall\, 4635 U.S. 78\, Loganville\, GA\, 30052\, United States
GEO:33.8337745;-83.8911131
X-APPLE-STRUCTURED-LOCATION;VALUE=URI;X-ADDRESS=Post 233 Main Hall 4635 U.S. 78 Loganville GA 30052 United States;X-APPLE-RADIUS=500;X-TITLE=4635 U.S. 78:geo:-83.8911131,33.8337745
END:VEVENT
BEGIN:VEVENT
DTSTART;TZID=America/New_York:20261029T170000
DTEND;TZID=America/New_York:20261029T213000
DTSTAMP:20260422T124148
CREATED:20260310T151412Z
LAST-MODIFIED:20260310T151746Z
UID:10005034-1793293200-1793309400@www.gapost233.com
SUMMARY:BINGO Night
DESCRIPTION:Doors OPEN at  5 pm\, \nRaffle Games \nBINGO at 7:30 PM  FIRST BALL \nMinimum $15 buy-in\, must be 8 years or older to attend.
URL:https://www.gapost233.com/event/bingo-night-5/2026-10-29/
LOCATION:Post 233 Main Hall\, 4635 U.S. 78\, Loganville\, GA\, 30052\, United States
GEO:33.8337745;-83.8911131
X-APPLE-STRUCTURED-LOCATION;VALUE=URI;X-ADDRESS=Post 233 Main Hall 4635 U.S. 78 Loganville GA 30052 United States;X-APPLE-RADIUS=500;X-TITLE=4635 U.S. 78:geo:-83.8911131,33.8337745
END:VEVENT
BEGIN:VEVENT
DTSTART;TZID=America/New_York:20261030T180000
DTEND;TZID=America/New_York:20261030T213000
DTSTAMP:20260422T124148
CREATED:20240521T183946Z
LAST-MODIFIED:20240521T183947Z
UID:10004576-1793383200-1793395800@www.gapost233.com
SUMMARY:Find Old Glory
DESCRIPTION:Buy Tickets! $2 each\, 3 for $5 or 6 for $10. \nTickets on sale daily until 8 PM on Friday. \nDrawing at 8:30 PM on Friday
URL:https://www.gapost233.com/event/find-old-glory-2-2/2026-10-30/
LOCATION:GA Post233-Patriot’s Grill\, 4635 Highway 78\, Loganville\, GA\, 30052
END:VEVENT
END:VCALENDAR