BEGIN:VCALENDAR
VERSION:2.0
PRODID:-//AMERICAN LEGION POST 233 - ECPv6.10.1.1//NONSGML v1.0//EN
CALSCALE:GREGORIAN
METHOD:PUBLISH
X-WR-CALNAME:AMERICAN LEGION POST 233
X-ORIGINAL-URL:https://www.gapost233.com
X-WR-CALDESC:Events for AMERICAN LEGION POST 233
REFRESH-INTERVAL;VALUE=DURATION:PT1H
X-Robots-Tag:noindex
X-PUBLISHED-TTL:PT1H
BEGIN:VTIMEZONE
TZID:America/New_York
BEGIN:DAYLIGHT
TZOFFSETFROM:-0500
TZOFFSETTO:-0400
TZNAME:EDT
DTSTART:20270314T070000
END:DAYLIGHT
BEGIN:STANDARD
TZOFFSETFROM:-0400
TZOFFSETTO:-0500
TZNAME:EST
DTSTART:20271107T060000
END:STANDARD
END:VTIMEZONE
BEGIN:VEVENT
DTSTART;TZID=America/New_York:20270301T170000
DTEND;TZID=America/New_York:20270301T213000
DTSTAMP:20260422T231550
CREATED:20260310T151412Z
LAST-MODIFIED:20260310T151746Z
UID:10006493-1803920400-1803936600@www.gapost233.com
SUMMARY:BINGO Night
DESCRIPTION:Doors OPEN at  5 pm\, \nRaffle Games \nBINGO at 7:30 PM  FIRST BALL \nMinimum $15 buy-in\, must be 8 years or older to attend.
URL:https://www.gapost233.com/event/bingo-night-5/2027-03-01/
LOCATION:Post 233 Main Hall\, 4635 U.S. 78\, Loganville\, GA\, 30052\, United States
GEO:33.8337745;-83.8911131
X-APPLE-STRUCTURED-LOCATION;VALUE=URI;X-ADDRESS=Post 233 Main Hall 4635 U.S. 78 Loganville GA 30052 United States;X-APPLE-RADIUS=500;X-TITLE=4635 U.S. 78:geo:-83.8911131,33.8337745
END:VEVENT
BEGIN:VEVENT
DTSTART;TZID=America/New_York:20270302T200000
DTEND;TZID=America/New_York:20270302T210000
DTSTAMP:20260422T231550
CREATED:20181007T182103Z
LAST-MODIFIED:20200705T164755Z
UID:10000630-1804017600-1804021200@www.gapost233.com
SUMMARY:Sons of the American Legion Meeting
DESCRIPTION:The Sons of the Legion meet in conjunction with the American Legion on the First Tuesday of each Month.
URL:https://www.gapost233.com/event/sons-of-the-american-legion-meeting/2027-03-02/
LOCATION:GA
END:VEVENT
BEGIN:VEVENT
DTSTART;TZID=America/New_York:20270303T170000
DTEND;TZID=America/New_York:20270303T213000
DTSTAMP:20260422T231550
CREATED:20260310T151412Z
LAST-MODIFIED:20260310T151746Z
UID:10006494-1804093200-1804109400@www.gapost233.com
SUMMARY:BINGO Night
DESCRIPTION:Doors OPEN at  5 pm\, \nRaffle Games \nBINGO at 7:30 PM  FIRST BALL \nMinimum $15 buy-in\, must be 8 years or older to attend.
URL:https://www.gapost233.com/event/bingo-night-5/2027-03-03/
LOCATION:Post 233 Main Hall\, 4635 U.S. 78\, Loganville\, GA\, 30052\, United States
GEO:33.8337745;-83.8911131
X-APPLE-STRUCTURED-LOCATION;VALUE=URI;X-ADDRESS=Post 233 Main Hall 4635 U.S. 78 Loganville GA 30052 United States;X-APPLE-RADIUS=500;X-TITLE=4635 U.S. 78:geo:-83.8911131,33.8337745
END:VEVENT
BEGIN:VEVENT
DTSTART;TZID=America/New_York:20270304T170000
DTEND;TZID=America/New_York:20270304T213000
DTSTAMP:20260422T231550
CREATED:20260310T151412Z
LAST-MODIFIED:20260310T151746Z
UID:10005052-1804179600-1804195800@www.gapost233.com
SUMMARY:BINGO Night
DESCRIPTION:Doors OPEN at  5 pm\, \nRaffle Games \nBINGO at 7:30 PM  FIRST BALL \nMinimum $15 buy-in\, must be 8 years or older to attend.
URL:https://www.gapost233.com/event/bingo-night-5/2027-03-04/
LOCATION:Post 233 Main Hall\, 4635 U.S. 78\, Loganville\, GA\, 30052\, United States
GEO:33.8337745;-83.8911131
X-APPLE-STRUCTURED-LOCATION;VALUE=URI;X-ADDRESS=Post 233 Main Hall 4635 U.S. 78 Loganville GA 30052 United States;X-APPLE-RADIUS=500;X-TITLE=4635 U.S. 78:geo:-83.8911131,33.8337745
END:VEVENT
BEGIN:VEVENT
DTSTART;TZID=America/New_York:20270305T180000
DTEND;TZID=America/New_York:20270305T213000
DTSTAMP:20260422T231550
CREATED:20240521T183946Z
LAST-MODIFIED:20240521T183947Z
UID:10004594-1804269600-1804282200@www.gapost233.com
SUMMARY:Find Old Glory
DESCRIPTION:Buy Tickets! $2 each\, 3 for $5 or 6 for $10. \nTickets on sale daily until 8 PM on Friday. \nDrawing at 8:30 PM on Friday
URL:https://www.gapost233.com/event/find-old-glory-2-2/2027-03-05/
LOCATION:GA Post233-Patriot’s Grill\, 4635 Highway 78\, Loganville\, GA\, 30052
END:VEVENT
BEGIN:VEVENT
DTSTART;TZID=America/New_York:20270307T140000
DTEND;TZID=America/New_York:20270307T160000
DTSTAMP:20260422T231550
CREATED:20250512T151419Z
LAST-MODIFIED:20250512T152527Z
UID:10005829-1804428000-1804435200@www.gapost233.com
SUMMARY:Sunday BINGO
DESCRIPTION:Doors OPEN at Noon\, Raffle Games start at 1:00 pm\, BINGO starts at 2:00 pm \nWe reserve the Right to change Games & Prizes \n\n\nand Revoke Admission \n\n\nCredit Cards Accepted * Visa * Mastercard * Discover \n\n\n\n\nEVERY PLAYER MUST HAVE A RECEIPT – PLAYERS CANNOT SHARE CARDS \n\n\nHosted by the American Legion Auxiliary Unit #233 \n\n\n4635 Atlanta Hwy. Loganville\, Ga. 30052 \n\n\n770-466-4728 \n\n\nYOU MUST BINGO ON THE LAST NUMBER CALLED \n\n\n\n\nPrices \n\n\n4 Books $15.00 \n\n\n5 Books $17.50 \n\n\n6 Books $20.00 \n\n\n7 Books $22.50 \n\n\n8 Books $25.00 \n\n\nExtra Cards \n\n\n$50 & $100 -$0.50 ea \n\n\n \n 
URL:https://www.gapost233.com/event/sunday-bingo-7/2027-03-07/
LOCATION:GA
END:VEVENT
BEGIN:VEVENT
DTSTART;TZID=America/New_York:20270308T170000
DTEND;TZID=America/New_York:20270308T213000
DTSTAMP:20260422T231550
CREATED:20260310T151412Z
LAST-MODIFIED:20260310T151746Z
UID:10006495-1804525200-1804541400@www.gapost233.com
SUMMARY:BINGO Night
DESCRIPTION:Doors OPEN at  5 pm\, \nRaffle Games \nBINGO at 7:30 PM  FIRST BALL \nMinimum $15 buy-in\, must be 8 years or older to attend.
URL:https://www.gapost233.com/event/bingo-night-5/2027-03-08/
LOCATION:Post 233 Main Hall\, 4635 U.S. 78\, Loganville\, GA\, 30052\, United States
GEO:33.8337745;-83.8911131
X-APPLE-STRUCTURED-LOCATION;VALUE=URI;X-ADDRESS=Post 233 Main Hall 4635 U.S. 78 Loganville GA 30052 United States;X-APPLE-RADIUS=500;X-TITLE=4635 U.S. 78:geo:-83.8911131,33.8337745
END:VEVENT
BEGIN:VEVENT
DTSTART;TZID=America/New_York:20270310T170000
DTEND;TZID=America/New_York:20270310T213000
DTSTAMP:20260422T231550
CREATED:20260310T151412Z
LAST-MODIFIED:20260310T151746Z
UID:10006496-1804698000-1804714200@www.gapost233.com
SUMMARY:BINGO Night
DESCRIPTION:Doors OPEN at  5 pm\, \nRaffle Games \nBINGO at 7:30 PM  FIRST BALL \nMinimum $15 buy-in\, must be 8 years or older to attend.
URL:https://www.gapost233.com/event/bingo-night-5/2027-03-10/
LOCATION:Post 233 Main Hall\, 4635 U.S. 78\, Loganville\, GA\, 30052\, United States
GEO:33.8337745;-83.8911131
X-APPLE-STRUCTURED-LOCATION;VALUE=URI;X-ADDRESS=Post 233 Main Hall 4635 U.S. 78 Loganville GA 30052 United States;X-APPLE-RADIUS=500;X-TITLE=4635 U.S. 78:geo:-83.8911131,33.8337745
END:VEVENT
BEGIN:VEVENT
DTSTART;TZID=America/New_York:20270311T170000
DTEND;TZID=America/New_York:20270311T213000
DTSTAMP:20260422T231550
CREATED:20260310T151412Z
LAST-MODIFIED:20260310T151746Z
UID:10005053-1804784400-1804800600@www.gapost233.com
SUMMARY:BINGO Night
DESCRIPTION:Doors OPEN at  5 pm\, \nRaffle Games \nBINGO at 7:30 PM  FIRST BALL \nMinimum $15 buy-in\, must be 8 years or older to attend.
URL:https://www.gapost233.com/event/bingo-night-5/2027-03-11/
LOCATION:Post 233 Main Hall\, 4635 U.S. 78\, Loganville\, GA\, 30052\, United States
GEO:33.8337745;-83.8911131
X-APPLE-STRUCTURED-LOCATION;VALUE=URI;X-ADDRESS=Post 233 Main Hall 4635 U.S. 78 Loganville GA 30052 United States;X-APPLE-RADIUS=500;X-TITLE=4635 U.S. 78:geo:-83.8911131,33.8337745
END:VEVENT
BEGIN:VEVENT
DTSTART;TZID=America/New_York:20270312T180000
DTEND;TZID=America/New_York:20270312T213000
DTSTAMP:20260422T231550
CREATED:20240521T183946Z
LAST-MODIFIED:20240521T183947Z
UID:10004595-1804874400-1804887000@www.gapost233.com
SUMMARY:Find Old Glory
DESCRIPTION:Buy Tickets! $2 each\, 3 for $5 or 6 for $10. \nTickets on sale daily until 8 PM on Friday. \nDrawing at 8:30 PM on Friday
URL:https://www.gapost233.com/event/find-old-glory-2-2/2027-03-12/
LOCATION:GA Post233-Patriot’s Grill\, 4635 Highway 78\, Loganville\, GA\, 30052
END:VEVENT
BEGIN:VEVENT
DTSTART;TZID=America/New_York:20270312T190000
DTEND;TZID=America/New_York:20270312T220000
DTSTAMP:20260422T231550
CREATED:20260304T035218Z
LAST-MODIFIED:20260304T035714Z
UID:10006193-1804878000-1804888800@www.gapost233.com
SUMMARY:Trivia Night
DESCRIPTION:🧠✨ Think You’ve Got What It Takes to Win Trivia Night? ✨🧠 \nGet your team together and join us for an exciting Trivia Night with DJ Joey\, hosted by Outspoken Entertainment at Patriots’ Grill! Put your knowledge to the test with a fun mix of questions covering everything from pop culture and history to music\, movies\, sports\, and more. \nWhether you’re a trivia master or just looking for a great night out with friends\, this event promises plenty of laughs\, friendly competition\, and chances to win prizes. \n📅 Every 2nd Friday!📍 Patriots’ Grill🚪 Doors Open: 6:00 PM❓ Trivia Starts: 7:00 PM \nBring your smartest friends\, grab some food and drinks\, and get ready for a night of brain-teasing fun. Form your team\, show off your knowledge\, and see if you can claim the top spot! \n🎉 Why You Should Come:• Fun and engaging trivia rounds• Great food and drinks at Patriots’ Grill• Prizes and bragging rights for the winners• A perfect midweek night out \nSeats can fill up fast\, so arrive early\, get settled in\, and get ready to play.
URL:https://www.gapost233.com/event/trivia-night/2027-03-12/
LOCATION:GA
ATTACH;FMTTYPE=image/png:https://www.gapost233.com/wp-content/uploads/2026/03/177c5127-601d-422d-b090-f233685b0a61.png
END:VEVENT
BEGIN:VEVENT
DTSTART;TZID=America/New_York:20270314T140000
DTEND;TZID=America/New_York:20270314T160000
DTSTAMP:20260422T231550
CREATED:20250512T151419Z
LAST-MODIFIED:20250512T152527Z
UID:10005830-1805032800-1805040000@www.gapost233.com
SUMMARY:Sunday BINGO
DESCRIPTION:Doors OPEN at Noon\, Raffle Games start at 1:00 pm\, BINGO starts at 2:00 pm \nWe reserve the Right to change Games & Prizes \n\n\nand Revoke Admission \n\n\nCredit Cards Accepted * Visa * Mastercard * Discover \n\n\n\n\nEVERY PLAYER MUST HAVE A RECEIPT – PLAYERS CANNOT SHARE CARDS \n\n\nHosted by the American Legion Auxiliary Unit #233 \n\n\n4635 Atlanta Hwy. Loganville\, Ga. 30052 \n\n\n770-466-4728 \n\n\nYOU MUST BINGO ON THE LAST NUMBER CALLED \n\n\n\n\nPrices \n\n\n4 Books $15.00 \n\n\n5 Books $17.50 \n\n\n6 Books $20.00 \n\n\n7 Books $22.50 \n\n\n8 Books $25.00 \n\n\nExtra Cards \n\n\n$50 & $100 -$0.50 ea \n\n\n \n 
URL:https://www.gapost233.com/event/sunday-bingo-7/2027-03-14/
LOCATION:GA
END:VEVENT
BEGIN:VEVENT
DTSTART;TZID=America/New_York:20270315T170000
DTEND;TZID=America/New_York:20270315T213000
DTSTAMP:20260422T231550
CREATED:20260310T151412Z
LAST-MODIFIED:20260310T151746Z
UID:10006497-1805130000-1805146200@www.gapost233.com
SUMMARY:BINGO Night
DESCRIPTION:Doors OPEN at  5 pm\, \nRaffle Games \nBINGO at 7:30 PM  FIRST BALL \nMinimum $15 buy-in\, must be 8 years or older to attend.
URL:https://www.gapost233.com/event/bingo-night-5/2027-03-15/
LOCATION:Post 233 Main Hall\, 4635 U.S. 78\, Loganville\, GA\, 30052\, United States
GEO:33.8337745;-83.8911131
X-APPLE-STRUCTURED-LOCATION;VALUE=URI;X-ADDRESS=Post 233 Main Hall 4635 U.S. 78 Loganville GA 30052 United States;X-APPLE-RADIUS=500;X-TITLE=4635 U.S. 78:geo:-83.8911131,33.8337745
END:VEVENT
BEGIN:VEVENT
DTSTART;TZID=America/New_York:20270316T190000
DTEND;TZID=America/New_York:20270316T210000
DTSTAMP:20260422T231550
CREATED:20230607T213114Z
LAST-MODIFIED:20230620T132819Z
UID:10000293-1805223600-1805230800@www.gapost233.com
SUMMARY:ALR Meeting
DESCRIPTION:The American Legion Riders will meet tonight at 7:00pm. Guests are welcome to attend the meeting to learn more about this very active group.
URL:https://www.gapost233.com/event/alr-meeting-2/2027-03-16/
LOCATION:Robert Boss Pavilion\, 4635 U.S. 78\, Loganville\, GA\, 30052\, United States
END:VEVENT
BEGIN:VEVENT
DTSTART;TZID=America/New_York:20270317T170000
DTEND;TZID=America/New_York:20270317T213000
DTSTAMP:20260422T231550
CREATED:20260310T151412Z
LAST-MODIFIED:20260310T151746Z
UID:10006498-1805302800-1805319000@www.gapost233.com
SUMMARY:BINGO Night
DESCRIPTION:Doors OPEN at  5 pm\, \nRaffle Games \nBINGO at 7:30 PM  FIRST BALL \nMinimum $15 buy-in\, must be 8 years or older to attend.
URL:https://www.gapost233.com/event/bingo-night-5/2027-03-17/
LOCATION:Post 233 Main Hall\, 4635 U.S. 78\, Loganville\, GA\, 30052\, United States
GEO:33.8337745;-83.8911131
X-APPLE-STRUCTURED-LOCATION;VALUE=URI;X-ADDRESS=Post 233 Main Hall 4635 U.S. 78 Loganville GA 30052 United States;X-APPLE-RADIUS=500;X-TITLE=4635 U.S. 78:geo:-83.8911131,33.8337745
END:VEVENT
BEGIN:VEVENT
DTSTART;TZID=America/New_York:20270318T170000
DTEND;TZID=America/New_York:20270318T213000
DTSTAMP:20260422T231550
CREATED:20260310T151412Z
LAST-MODIFIED:20260310T151746Z
UID:10005054-1805389200-1805405400@www.gapost233.com
SUMMARY:BINGO Night
DESCRIPTION:Doors OPEN at  5 pm\, \nRaffle Games \nBINGO at 7:30 PM  FIRST BALL \nMinimum $15 buy-in\, must be 8 years or older to attend.
URL:https://www.gapost233.com/event/bingo-night-5/2027-03-18/
LOCATION:Post 233 Main Hall\, 4635 U.S. 78\, Loganville\, GA\, 30052\, United States
GEO:33.8337745;-83.8911131
X-APPLE-STRUCTURED-LOCATION;VALUE=URI;X-ADDRESS=Post 233 Main Hall 4635 U.S. 78 Loganville GA 30052 United States;X-APPLE-RADIUS=500;X-TITLE=4635 U.S. 78:geo:-83.8911131,33.8337745
END:VEVENT
BEGIN:VEVENT
DTSTART;TZID=America/New_York:20270319T180000
DTEND;TZID=America/New_York:20270319T213000
DTSTAMP:20260422T231550
CREATED:20240521T183946Z
LAST-MODIFIED:20240521T183947Z
UID:10004596-1805479200-1805491800@www.gapost233.com
SUMMARY:Find Old Glory
DESCRIPTION:Buy Tickets! $2 each\, 3 for $5 or 6 for $10. \nTickets on sale daily until 8 PM on Friday. \nDrawing at 8:30 PM on Friday
URL:https://www.gapost233.com/event/find-old-glory-2-2/2027-03-19/
LOCATION:GA Post233-Patriot’s Grill\, 4635 Highway 78\, Loganville\, GA\, 30052
END:VEVENT
BEGIN:VEVENT
DTSTART;TZID=America/New_York:20270321T140000
DTEND;TZID=America/New_York:20270321T160000
DTSTAMP:20260422T231550
CREATED:20250512T151419Z
LAST-MODIFIED:20250512T152527Z
UID:10005831-1805637600-1805644800@www.gapost233.com
SUMMARY:Sunday BINGO
DESCRIPTION:Doors OPEN at Noon\, Raffle Games start at 1:00 pm\, BINGO starts at 2:00 pm \nWe reserve the Right to change Games & Prizes \n\n\nand Revoke Admission \n\n\nCredit Cards Accepted * Visa * Mastercard * Discover \n\n\n\n\nEVERY PLAYER MUST HAVE A RECEIPT – PLAYERS CANNOT SHARE CARDS \n\n\nHosted by the American Legion Auxiliary Unit #233 \n\n\n4635 Atlanta Hwy. Loganville\, Ga. 30052 \n\n\n770-466-4728 \n\n\nYOU MUST BINGO ON THE LAST NUMBER CALLED \n\n\n\n\nPrices \n\n\n4 Books $15.00 \n\n\n5 Books $17.50 \n\n\n6 Books $20.00 \n\n\n7 Books $22.50 \n\n\n8 Books $25.00 \n\n\nExtra Cards \n\n\n$50 & $100 -$0.50 ea \n\n\n \n 
URL:https://www.gapost233.com/event/sunday-bingo-7/2027-03-21/
LOCATION:GA
END:VEVENT
BEGIN:VEVENT
DTSTART;TZID=America/New_York:20270322T170000
DTEND;TZID=America/New_York:20270322T213000
DTSTAMP:20260422T231550
CREATED:20260310T151412Z
LAST-MODIFIED:20260310T151746Z
UID:10006499-1805734800-1805751000@www.gapost233.com
SUMMARY:BINGO Night
DESCRIPTION:Doors OPEN at  5 pm\, \nRaffle Games \nBINGO at 7:30 PM  FIRST BALL \nMinimum $15 buy-in\, must be 8 years or older to attend.
URL:https://www.gapost233.com/event/bingo-night-5/2027-03-22/
LOCATION:Post 233 Main Hall\, 4635 U.S. 78\, Loganville\, GA\, 30052\, United States
GEO:33.8337745;-83.8911131
X-APPLE-STRUCTURED-LOCATION;VALUE=URI;X-ADDRESS=Post 233 Main Hall 4635 U.S. 78 Loganville GA 30052 United States;X-APPLE-RADIUS=500;X-TITLE=4635 U.S. 78:geo:-83.8911131,33.8337745
END:VEVENT
BEGIN:VEVENT
DTSTART;TZID=America/New_York:20270324T170000
DTEND;TZID=America/New_York:20270324T213000
DTSTAMP:20260422T231550
CREATED:20260310T151412Z
LAST-MODIFIED:20260310T151746Z
UID:10006500-1805907600-1805923800@www.gapost233.com
SUMMARY:BINGO Night
DESCRIPTION:Doors OPEN at  5 pm\, \nRaffle Games \nBINGO at 7:30 PM  FIRST BALL \nMinimum $15 buy-in\, must be 8 years or older to attend.
URL:https://www.gapost233.com/event/bingo-night-5/2027-03-24/
LOCATION:Post 233 Main Hall\, 4635 U.S. 78\, Loganville\, GA\, 30052\, United States
GEO:33.8337745;-83.8911131
X-APPLE-STRUCTURED-LOCATION;VALUE=URI;X-ADDRESS=Post 233 Main Hall 4635 U.S. 78 Loganville GA 30052 United States;X-APPLE-RADIUS=500;X-TITLE=4635 U.S. 78:geo:-83.8911131,33.8337745
END:VEVENT
BEGIN:VEVENT
DTSTART;TZID=America/New_York:20270325T170000
DTEND;TZID=America/New_York:20270325T213000
DTSTAMP:20260422T231550
CREATED:20260310T151412Z
LAST-MODIFIED:20260310T151746Z
UID:10005055-1805994000-1806010200@www.gapost233.com
SUMMARY:BINGO Night
DESCRIPTION:Doors OPEN at  5 pm\, \nRaffle Games \nBINGO at 7:30 PM  FIRST BALL \nMinimum $15 buy-in\, must be 8 years or older to attend.
URL:https://www.gapost233.com/event/bingo-night-5/2027-03-25/
LOCATION:Post 233 Main Hall\, 4635 U.S. 78\, Loganville\, GA\, 30052\, United States
GEO:33.8337745;-83.8911131
X-APPLE-STRUCTURED-LOCATION;VALUE=URI;X-ADDRESS=Post 233 Main Hall 4635 U.S. 78 Loganville GA 30052 United States;X-APPLE-RADIUS=500;X-TITLE=4635 U.S. 78:geo:-83.8911131,33.8337745
END:VEVENT
BEGIN:VEVENT
DTSTART;TZID=America/New_York:20270326T180000
DTEND;TZID=America/New_York:20270326T213000
DTSTAMP:20260422T231550
CREATED:20240521T183946Z
LAST-MODIFIED:20240521T183947Z
UID:10004597-1806084000-1806096600@www.gapost233.com
SUMMARY:Find Old Glory
DESCRIPTION:Buy Tickets! $2 each\, 3 for $5 or 6 for $10. \nTickets on sale daily until 8 PM on Friday. \nDrawing at 8:30 PM on Friday
URL:https://www.gapost233.com/event/find-old-glory-2-2/2027-03-26/
LOCATION:GA Post233-Patriot’s Grill\, 4635 Highway 78\, Loganville\, GA\, 30052
END:VEVENT
BEGIN:VEVENT
DTSTART;TZID=America/New_York:20270328T140000
DTEND;TZID=America/New_York:20270328T160000
DTSTAMP:20260422T231550
CREATED:20250512T151419Z
LAST-MODIFIED:20250512T152527Z
UID:10005832-1806242400-1806249600@www.gapost233.com
SUMMARY:Sunday BINGO
DESCRIPTION:Doors OPEN at Noon\, Raffle Games start at 1:00 pm\, BINGO starts at 2:00 pm \nWe reserve the Right to change Games & Prizes \n\n\nand Revoke Admission \n\n\nCredit Cards Accepted * Visa * Mastercard * Discover \n\n\n\n\nEVERY PLAYER MUST HAVE A RECEIPT – PLAYERS CANNOT SHARE CARDS \n\n\nHosted by the American Legion Auxiliary Unit #233 \n\n\n4635 Atlanta Hwy. Loganville\, Ga. 30052 \n\n\n770-466-4728 \n\n\nYOU MUST BINGO ON THE LAST NUMBER CALLED \n\n\n\n\nPrices \n\n\n4 Books $15.00 \n\n\n5 Books $17.50 \n\n\n6 Books $20.00 \n\n\n7 Books $22.50 \n\n\n8 Books $25.00 \n\n\nExtra Cards \n\n\n$50 & $100 -$0.50 ea \n\n\n \n 
URL:https://www.gapost233.com/event/sunday-bingo-7/2027-03-28/
LOCATION:GA
END:VEVENT
BEGIN:VEVENT
DTSTART;TZID=America/New_York:20270329T170000
DTEND;TZID=America/New_York:20270329T213000
DTSTAMP:20260422T231550
CREATED:20260310T151412Z
LAST-MODIFIED:20260310T151746Z
UID:10006501-1806339600-1806355800@www.gapost233.com
SUMMARY:BINGO Night
DESCRIPTION:Doors OPEN at  5 pm\, \nRaffle Games \nBINGO at 7:30 PM  FIRST BALL \nMinimum $15 buy-in\, must be 8 years or older to attend.
URL:https://www.gapost233.com/event/bingo-night-5/2027-03-29/
LOCATION:Post 233 Main Hall\, 4635 U.S. 78\, Loganville\, GA\, 30052\, United States
GEO:33.8337745;-83.8911131
X-APPLE-STRUCTURED-LOCATION;VALUE=URI;X-ADDRESS=Post 233 Main Hall 4635 U.S. 78 Loganville GA 30052 United States;X-APPLE-RADIUS=500;X-TITLE=4635 U.S. 78:geo:-83.8911131,33.8337745
END:VEVENT
BEGIN:VEVENT
DTSTART;TZID=America/New_York:20270331T170000
DTEND;TZID=America/New_York:20270331T213000
DTSTAMP:20260422T231550
CREATED:20260310T151412Z
LAST-MODIFIED:20260310T151746Z
UID:10006502-1806512400-1806528600@www.gapost233.com
SUMMARY:BINGO Night
DESCRIPTION:Doors OPEN at  5 pm\, \nRaffle Games \nBINGO at 7:30 PM  FIRST BALL \nMinimum $15 buy-in\, must be 8 years or older to attend.
URL:https://www.gapost233.com/event/bingo-night-5/2027-03-31/
LOCATION:Post 233 Main Hall\, 4635 U.S. 78\, Loganville\, GA\, 30052\, United States
GEO:33.8337745;-83.8911131
X-APPLE-STRUCTURED-LOCATION;VALUE=URI;X-ADDRESS=Post 233 Main Hall 4635 U.S. 78 Loganville GA 30052 United States;X-APPLE-RADIUS=500;X-TITLE=4635 U.S. 78:geo:-83.8911131,33.8337745
END:VEVENT
END:VCALENDAR