BEGIN:VCALENDAR
VERSION:2.0
PRODID:-//AMERICAN LEGION POST 233 - ECPv6.10.1.1//NONSGML v1.0//EN
CALSCALE:GREGORIAN
METHOD:PUBLISH
X-ORIGINAL-URL:https://www.gapost233.com
X-WR-CALDESC:Events for AMERICAN LEGION POST 233
REFRESH-INTERVAL;VALUE=DURATION:PT1H
X-Robots-Tag:noindex
X-PUBLISHED-TTL:PT1H
BEGIN:VTIMEZONE
TZID:America/New_York
BEGIN:DAYLIGHT
TZOFFSETFROM:-0500
TZOFFSETTO:-0400
TZNAME:EDT
DTSTART:20270314T070000
END:DAYLIGHT
BEGIN:STANDARD
TZOFFSETFROM:-0400
TZOFFSETTO:-0500
TZNAME:EST
DTSTART:20271107T060000
END:STANDARD
END:VTIMEZONE
BEGIN:VEVENT
DTSTART;TZID=America/New_York:20271001T180000
DTEND;TZID=America/New_York:20271001T213000
DTSTAMP:20260423T115752
CREATED:20240521T183946Z
LAST-MODIFIED:20240521T183947Z
UID:10004624-1822413600-1822426200@www.gapost233.com
SUMMARY:Find Old Glory
DESCRIPTION:Buy Tickets! $2 each\, 3 for $5 or 6 for $10. \nTickets on sale daily until 8 PM on Friday. \nDrawing at 8:30 PM on Friday
URL:https://www.gapost233.com/event/find-old-glory-2-2/2027-10-01/
LOCATION:GA Post233-Patriot’s Grill\, 4635 Highway 78\, Loganville\, GA\, 30052
END:VEVENT
BEGIN:VEVENT
DTSTART;TZID=America/New_York:20271003T140000
DTEND;TZID=America/New_York:20271003T160000
DTSTAMP:20260423T115752
CREATED:20250512T151419Z
LAST-MODIFIED:20250512T152527Z
UID:10005859-1822572000-1822579200@www.gapost233.com
SUMMARY:Sunday BINGO
DESCRIPTION:Doors OPEN at Noon\, Raffle Games start at 1:00 pm\, BINGO starts at 2:00 pm \nWe reserve the Right to change Games & Prizes \n\n\nand Revoke Admission \n\n\nCredit Cards Accepted * Visa * Mastercard * Discover \n\n\n\n\nEVERY PLAYER MUST HAVE A RECEIPT – PLAYERS CANNOT SHARE CARDS \n\n\nHosted by the American Legion Auxiliary Unit #233 \n\n\n4635 Atlanta Hwy. Loganville\, Ga. 30052 \n\n\n770-466-4728 \n\n\nYOU MUST BINGO ON THE LAST NUMBER CALLED \n\n\n\n\nPrices \n\n\n4 Books $15.00 \n\n\n5 Books $17.50 \n\n\n6 Books $20.00 \n\n\n7 Books $22.50 \n\n\n8 Books $25.00 \n\n\nExtra Cards \n\n\n$50 & $100 -$0.50 ea \n\n\n \n 
URL:https://www.gapost233.com/event/sunday-bingo-7/2027-10-03/
LOCATION:GA
END:VEVENT
BEGIN:VEVENT
DTSTART;TZID=America/New_York:20271004T170000
DTEND;TZID=America/New_York:20271004T213000
DTSTAMP:20260423T115752
CREATED:20260310T151412Z
LAST-MODIFIED:20260310T151746Z
UID:10006555-1822669200-1822685400@www.gapost233.com
SUMMARY:BINGO Night
DESCRIPTION:Doors OPEN at  5 pm\, \nRaffle Games \nBINGO at 7:30 PM  FIRST BALL \nMinimum $15 buy-in\, must be 8 years or older to attend.
URL:https://www.gapost233.com/event/bingo-night-5/2027-10-04/
LOCATION:Post 233 Main Hall\, 4635 U.S. 78\, Loganville\, GA\, 30052\, United States
GEO:33.8337745;-83.8911131
X-APPLE-STRUCTURED-LOCATION;VALUE=URI;X-ADDRESS=Post 233 Main Hall 4635 U.S. 78 Loganville GA 30052 United States;X-APPLE-RADIUS=500;X-TITLE=4635 U.S. 78:geo:-83.8911131,33.8337745
END:VEVENT
BEGIN:VEVENT
DTSTART;TZID=America/New_York:20271005T200000
DTEND;TZID=America/New_York:20271005T210000
DTSTAMP:20260423T115752
CREATED:20181007T182103Z
LAST-MODIFIED:20200705T164755Z
UID:10000637-1822766400-1822770000@www.gapost233.com
SUMMARY:Sons of the American Legion Meeting
DESCRIPTION:The Sons of the Legion meet in conjunction with the American Legion on the First Tuesday of each Month.
URL:https://www.gapost233.com/event/sons-of-the-american-legion-meeting/2027-10-05/
LOCATION:GA
END:VEVENT
BEGIN:VEVENT
DTSTART;TZID=America/New_York:20271006T170000
DTEND;TZID=America/New_York:20271006T213000
DTSTAMP:20260423T115752
CREATED:20260310T151412Z
LAST-MODIFIED:20260310T151746Z
UID:10006556-1822842000-1822858200@www.gapost233.com
SUMMARY:BINGO Night
DESCRIPTION:Doors OPEN at  5 pm\, \nRaffle Games \nBINGO at 7:30 PM  FIRST BALL \nMinimum $15 buy-in\, must be 8 years or older to attend.
URL:https://www.gapost233.com/event/bingo-night-5/2027-10-06/
LOCATION:Post 233 Main Hall\, 4635 U.S. 78\, Loganville\, GA\, 30052\, United States
GEO:33.8337745;-83.8911131
X-APPLE-STRUCTURED-LOCATION;VALUE=URI;X-ADDRESS=Post 233 Main Hall 4635 U.S. 78 Loganville GA 30052 United States;X-APPLE-RADIUS=500;X-TITLE=4635 U.S. 78:geo:-83.8911131,33.8337745
END:VEVENT
BEGIN:VEVENT
DTSTART;TZID=America/New_York:20271007T170000
DTEND;TZID=America/New_York:20271007T213000
DTSTAMP:20260423T115752
CREATED:20260310T151412Z
LAST-MODIFIED:20260310T151746Z
UID:10005083-1822928400-1822944600@www.gapost233.com
SUMMARY:BINGO Night
DESCRIPTION:Doors OPEN at  5 pm\, \nRaffle Games \nBINGO at 7:30 PM  FIRST BALL \nMinimum $15 buy-in\, must be 8 years or older to attend.
URL:https://www.gapost233.com/event/bingo-night-5/2027-10-07/
LOCATION:Post 233 Main Hall\, 4635 U.S. 78\, Loganville\, GA\, 30052\, United States
GEO:33.8337745;-83.8911131
X-APPLE-STRUCTURED-LOCATION;VALUE=URI;X-ADDRESS=Post 233 Main Hall 4635 U.S. 78 Loganville GA 30052 United States;X-APPLE-RADIUS=500;X-TITLE=4635 U.S. 78:geo:-83.8911131,33.8337745
END:VEVENT
BEGIN:VEVENT
DTSTART;TZID=America/New_York:20271008T180000
DTEND;TZID=America/New_York:20271008T213000
DTSTAMP:20260423T115752
CREATED:20240521T183946Z
LAST-MODIFIED:20240521T183947Z
UID:10004625-1823018400-1823031000@www.gapost233.com
SUMMARY:Find Old Glory
DESCRIPTION:Buy Tickets! $2 each\, 3 for $5 or 6 for $10. \nTickets on sale daily until 8 PM on Friday. \nDrawing at 8:30 PM on Friday
URL:https://www.gapost233.com/event/find-old-glory-2-2/2027-10-08/
LOCATION:GA Post233-Patriot’s Grill\, 4635 Highway 78\, Loganville\, GA\, 30052
END:VEVENT
BEGIN:VEVENT
DTSTART;TZID=America/New_York:20271008T190000
DTEND;TZID=America/New_York:20271008T220000
DTSTAMP:20260423T115752
CREATED:20260304T035218Z
LAST-MODIFIED:20260304T035714Z
UID:10006200-1823022000-1823032800@www.gapost233.com
SUMMARY:Trivia Night
DESCRIPTION:🧠✨ Think You’ve Got What It Takes to Win Trivia Night? ✨🧠 \nGet your team together and join us for an exciting Trivia Night with DJ Joey\, hosted by Outspoken Entertainment at Patriots’ Grill! Put your knowledge to the test with a fun mix of questions covering everything from pop culture and history to music\, movies\, sports\, and more. \nWhether you’re a trivia master or just looking for a great night out with friends\, this event promises plenty of laughs\, friendly competition\, and chances to win prizes. \n📅 Every 2nd Friday!📍 Patriots’ Grill🚪 Doors Open: 6:00 PM❓ Trivia Starts: 7:00 PM \nBring your smartest friends\, grab some food and drinks\, and get ready for a night of brain-teasing fun. Form your team\, show off your knowledge\, and see if you can claim the top spot! \n🎉 Why You Should Come:• Fun and engaging trivia rounds• Great food and drinks at Patriots’ Grill• Prizes and bragging rights for the winners• A perfect midweek night out \nSeats can fill up fast\, so arrive early\, get settled in\, and get ready to play.
URL:https://www.gapost233.com/event/trivia-night/2027-10-08/
LOCATION:GA
ATTACH;FMTTYPE=image/png:https://www.gapost233.com/wp-content/uploads/2026/03/177c5127-601d-422d-b090-f233685b0a61.png
END:VEVENT
BEGIN:VEVENT
DTSTART;TZID=America/New_York:20271010T140000
DTEND;TZID=America/New_York:20271010T160000
DTSTAMP:20260423T115752
CREATED:20250512T151419Z
LAST-MODIFIED:20250512T152527Z
UID:10005860-1823176800-1823184000@www.gapost233.com
SUMMARY:Sunday BINGO
DESCRIPTION:Doors OPEN at Noon\, Raffle Games start at 1:00 pm\, BINGO starts at 2:00 pm \nWe reserve the Right to change Games & Prizes \n\n\nand Revoke Admission \n\n\nCredit Cards Accepted * Visa * Mastercard * Discover \n\n\n\n\nEVERY PLAYER MUST HAVE A RECEIPT – PLAYERS CANNOT SHARE CARDS \n\n\nHosted by the American Legion Auxiliary Unit #233 \n\n\n4635 Atlanta Hwy. Loganville\, Ga. 30052 \n\n\n770-466-4728 \n\n\nYOU MUST BINGO ON THE LAST NUMBER CALLED \n\n\n\n\nPrices \n\n\n4 Books $15.00 \n\n\n5 Books $17.50 \n\n\n6 Books $20.00 \n\n\n7 Books $22.50 \n\n\n8 Books $25.00 \n\n\nExtra Cards \n\n\n$50 & $100 -$0.50 ea \n\n\n \n 
URL:https://www.gapost233.com/event/sunday-bingo-7/2027-10-10/
LOCATION:GA
END:VEVENT
BEGIN:VEVENT
DTSTART;TZID=America/New_York:20271011T170000
DTEND;TZID=America/New_York:20271011T213000
DTSTAMP:20260423T115752
CREATED:20260310T151412Z
LAST-MODIFIED:20260310T151746Z
UID:10006557-1823274000-1823290200@www.gapost233.com
SUMMARY:BINGO Night
DESCRIPTION:Doors OPEN at  5 pm\, \nRaffle Games \nBINGO at 7:30 PM  FIRST BALL \nMinimum $15 buy-in\, must be 8 years or older to attend.
URL:https://www.gapost233.com/event/bingo-night-5/2027-10-11/
LOCATION:Post 233 Main Hall\, 4635 U.S. 78\, Loganville\, GA\, 30052\, United States
GEO:33.8337745;-83.8911131
X-APPLE-STRUCTURED-LOCATION;VALUE=URI;X-ADDRESS=Post 233 Main Hall 4635 U.S. 78 Loganville GA 30052 United States;X-APPLE-RADIUS=500;X-TITLE=4635 U.S. 78:geo:-83.8911131,33.8337745
END:VEVENT
BEGIN:VEVENT
DTSTART;VALUE=DATE:20271013
DTEND;VALUE=DATE:20271014
DTSTAMP:20260423T115752
CREATED:20151110T110116Z
LAST-MODIFIED:20151110T110215Z
UID:10000450-1823385600-1823471999@www.gapost233.com
SUMMARY:Navy Birthday
DESCRIPTION:The U.S. Navy traces its roots back to the privateers that were employed to attack British commerce in the early days of the revolution. On October 13\, 1775\, the Continental Congress established a naval force\, hoping that a small fleet would be able to offset the uncontested exercise of British sea power.\nGet most recent Navy news\, videos\, equipment\, fitness & more on the Navy page.\nThe early Continental navy was not expected to take on the British navy for control of the seas. This small naval force was designed to work with privateers to wage tactical raids against the transports that supplied British forces in North America. To accomplish this mission the Continental Congress purchased\, converted\, and constructed a fleet of small ships–frigates\, brigs\, sloops\, and schooners. These navy ships sailed independently or in pairs hunting British commerce ships and transports like prey\, avoiding whenever possible fights with Royal Navy men-of-war.\nNavy Day	The Origins of Navy Day\nSailors and Marines at attention.	Who Has Precedence: Navy or Marines?\nThe Battle of Midway	Navy History Highlights\nUSS Carl Vinson	The Modern US Naval Arsenal\nThree tier Navy birthday cake.	The Two Navy Holidays: Navy Birthday and Navy Day\nAmphibious ssault ship USS Kearsarge	Birthplace of the U.S. Navy\nThe Continental navy faced several obstacles both during and after the revolution – mostly political and economic. Two years after the end of the war\, the money-poor Congress sold off the last ship of the Continental navy\, the frigate Alliance.\nIn the 1790’s Europe began to relax many mercantile commercial restrictions and the U.S. trade and the shipping industry expanded accordingly. However\, as the number of U.S. ships increased so did the possibility increased attacks by the European powers and pirates. In March 1794 Congress responded by calling for the construction of a half-dozen frigates. And\, once again\, the United States had a navy.\nAlthough the Continental navy was later dismantled\, October 13\, 1775 remains the U.S. Navy’s official birthday.\nFrom these humble beginnings\, the world’s most powerful naval force was born. With thousands of ships and aircraft serving worldwide\, the U.S. Navy is a force to be reckoned with. To learn more about the early years of the U.S. Navy\, visit the U.S. Naval Historical Center website.
URL:https://www.gapost233.com/event/navy-birthday/2027-10-13/
LOCATION:GA
END:VEVENT
BEGIN:VEVENT
DTSTART;TZID=America/New_York:20271013T170000
DTEND;TZID=America/New_York:20271013T213000
DTSTAMP:20260423T115752
CREATED:20260310T151412Z
LAST-MODIFIED:20260310T151746Z
UID:10006558-1823446800-1823463000@www.gapost233.com
SUMMARY:BINGO Night
DESCRIPTION:Doors OPEN at  5 pm\, \nRaffle Games \nBINGO at 7:30 PM  FIRST BALL \nMinimum $15 buy-in\, must be 8 years or older to attend.
URL:https://www.gapost233.com/event/bingo-night-5/2027-10-13/
LOCATION:Post 233 Main Hall\, 4635 U.S. 78\, Loganville\, GA\, 30052\, United States
GEO:33.8337745;-83.8911131
X-APPLE-STRUCTURED-LOCATION;VALUE=URI;X-ADDRESS=Post 233 Main Hall 4635 U.S. 78 Loganville GA 30052 United States;X-APPLE-RADIUS=500;X-TITLE=4635 U.S. 78:geo:-83.8911131,33.8337745
END:VEVENT
BEGIN:VEVENT
DTSTART;TZID=America/New_York:20271014T170000
DTEND;TZID=America/New_York:20271014T213000
DTSTAMP:20260423T115752
CREATED:20260310T151412Z
LAST-MODIFIED:20260310T151746Z
UID:10005084-1823533200-1823549400@www.gapost233.com
SUMMARY:BINGO Night
DESCRIPTION:Doors OPEN at  5 pm\, \nRaffle Games \nBINGO at 7:30 PM  FIRST BALL \nMinimum $15 buy-in\, must be 8 years or older to attend.
URL:https://www.gapost233.com/event/bingo-night-5/2027-10-14/
LOCATION:Post 233 Main Hall\, 4635 U.S. 78\, Loganville\, GA\, 30052\, United States
GEO:33.8337745;-83.8911131
X-APPLE-STRUCTURED-LOCATION;VALUE=URI;X-ADDRESS=Post 233 Main Hall 4635 U.S. 78 Loganville GA 30052 United States;X-APPLE-RADIUS=500;X-TITLE=4635 U.S. 78:geo:-83.8911131,33.8337745
END:VEVENT
BEGIN:VEVENT
DTSTART;TZID=America/New_York:20271015T180000
DTEND;TZID=America/New_York:20271015T213000
DTSTAMP:20260423T115752
CREATED:20240521T183946Z
LAST-MODIFIED:20240521T183947Z
UID:10004626-1823623200-1823635800@www.gapost233.com
SUMMARY:Find Old Glory
DESCRIPTION:Buy Tickets! $2 each\, 3 for $5 or 6 for $10. \nTickets on sale daily until 8 PM on Friday. \nDrawing at 8:30 PM on Friday
URL:https://www.gapost233.com/event/find-old-glory-2-2/2027-10-15/
LOCATION:GA Post233-Patriot’s Grill\, 4635 Highway 78\, Loganville\, GA\, 30052
END:VEVENT
BEGIN:VEVENT
DTSTART;TZID=America/New_York:20271017T140000
DTEND;TZID=America/New_York:20271017T160000
DTSTAMP:20260423T115752
CREATED:20250512T151419Z
LAST-MODIFIED:20250512T152527Z
UID:10005861-1823781600-1823788800@www.gapost233.com
SUMMARY:Sunday BINGO
DESCRIPTION:Doors OPEN at Noon\, Raffle Games start at 1:00 pm\, BINGO starts at 2:00 pm \nWe reserve the Right to change Games & Prizes \n\n\nand Revoke Admission \n\n\nCredit Cards Accepted * Visa * Mastercard * Discover \n\n\n\n\nEVERY PLAYER MUST HAVE A RECEIPT – PLAYERS CANNOT SHARE CARDS \n\n\nHosted by the American Legion Auxiliary Unit #233 \n\n\n4635 Atlanta Hwy. Loganville\, Ga. 30052 \n\n\n770-466-4728 \n\n\nYOU MUST BINGO ON THE LAST NUMBER CALLED \n\n\n\n\nPrices \n\n\n4 Books $15.00 \n\n\n5 Books $17.50 \n\n\n6 Books $20.00 \n\n\n7 Books $22.50 \n\n\n8 Books $25.00 \n\n\nExtra Cards \n\n\n$50 & $100 -$0.50 ea \n\n\n \n 
URL:https://www.gapost233.com/event/sunday-bingo-7/2027-10-17/
LOCATION:GA
END:VEVENT
BEGIN:VEVENT
DTSTART;TZID=America/New_York:20271018T170000
DTEND;TZID=America/New_York:20271018T213000
DTSTAMP:20260423T115752
CREATED:20260310T151412Z
LAST-MODIFIED:20260310T151746Z
UID:10006559-1823878800-1823895000@www.gapost233.com
SUMMARY:BINGO Night
DESCRIPTION:Doors OPEN at  5 pm\, \nRaffle Games \nBINGO at 7:30 PM  FIRST BALL \nMinimum $15 buy-in\, must be 8 years or older to attend.
URL:https://www.gapost233.com/event/bingo-night-5/2027-10-18/
LOCATION:Post 233 Main Hall\, 4635 U.S. 78\, Loganville\, GA\, 30052\, United States
GEO:33.8337745;-83.8911131
X-APPLE-STRUCTURED-LOCATION;VALUE=URI;X-ADDRESS=Post 233 Main Hall 4635 U.S. 78 Loganville GA 30052 United States;X-APPLE-RADIUS=500;X-TITLE=4635 U.S. 78:geo:-83.8911131,33.8337745
END:VEVENT
BEGIN:VEVENT
DTSTART;TZID=America/New_York:20271019T190000
DTEND;TZID=America/New_York:20271019T210000
DTSTAMP:20260423T115752
CREATED:20230607T213114Z
LAST-MODIFIED:20230620T132819Z
UID:10002225-1823972400-1823979600@www.gapost233.com
SUMMARY:ALR Meeting
DESCRIPTION:The American Legion Riders will meet tonight at 7:00pm. Guests are welcome to attend the meeting to learn more about this very active group.
URL:https://www.gapost233.com/event/alr-meeting-2/2027-10-19/
LOCATION:Robert Boss Pavilion\, 4635 U.S. 78\, Loganville\, GA\, 30052\, United States
END:VEVENT
BEGIN:VEVENT
DTSTART;TZID=America/New_York:20271020T170000
DTEND;TZID=America/New_York:20271020T213000
DTSTAMP:20260423T115752
CREATED:20260310T151412Z
LAST-MODIFIED:20260310T151746Z
UID:10006560-1824051600-1824067800@www.gapost233.com
SUMMARY:BINGO Night
DESCRIPTION:Doors OPEN at  5 pm\, \nRaffle Games \nBINGO at 7:30 PM  FIRST BALL \nMinimum $15 buy-in\, must be 8 years or older to attend.
URL:https://www.gapost233.com/event/bingo-night-5/2027-10-20/
LOCATION:Post 233 Main Hall\, 4635 U.S. 78\, Loganville\, GA\, 30052\, United States
GEO:33.8337745;-83.8911131
X-APPLE-STRUCTURED-LOCATION;VALUE=URI;X-ADDRESS=Post 233 Main Hall 4635 U.S. 78 Loganville GA 30052 United States;X-APPLE-RADIUS=500;X-TITLE=4635 U.S. 78:geo:-83.8911131,33.8337745
END:VEVENT
BEGIN:VEVENT
DTSTART;TZID=America/New_York:20271021T170000
DTEND;TZID=America/New_York:20271021T213000
DTSTAMP:20260423T115752
CREATED:20260310T151412Z
LAST-MODIFIED:20260310T151746Z
UID:10005085-1824138000-1824154200@www.gapost233.com
SUMMARY:BINGO Night
DESCRIPTION:Doors OPEN at  5 pm\, \nRaffle Games \nBINGO at 7:30 PM  FIRST BALL \nMinimum $15 buy-in\, must be 8 years or older to attend.
URL:https://www.gapost233.com/event/bingo-night-5/2027-10-21/
LOCATION:Post 233 Main Hall\, 4635 U.S. 78\, Loganville\, GA\, 30052\, United States
GEO:33.8337745;-83.8911131
X-APPLE-STRUCTURED-LOCATION;VALUE=URI;X-ADDRESS=Post 233 Main Hall 4635 U.S. 78 Loganville GA 30052 United States;X-APPLE-RADIUS=500;X-TITLE=4635 U.S. 78:geo:-83.8911131,33.8337745
END:VEVENT
BEGIN:VEVENT
DTSTART;TZID=America/New_York:20271022T180000
DTEND;TZID=America/New_York:20271022T213000
DTSTAMP:20260423T115752
CREATED:20240521T183946Z
LAST-MODIFIED:20240521T183947Z
UID:10004627-1824228000-1824240600@www.gapost233.com
SUMMARY:Find Old Glory
DESCRIPTION:Buy Tickets! $2 each\, 3 for $5 or 6 for $10. \nTickets on sale daily until 8 PM on Friday. \nDrawing at 8:30 PM on Friday
URL:https://www.gapost233.com/event/find-old-glory-2-2/2027-10-22/
LOCATION:GA Post233-Patriot’s Grill\, 4635 Highway 78\, Loganville\, GA\, 30052
END:VEVENT
BEGIN:VEVENT
DTSTART;TZID=America/New_York:20271024T140000
DTEND;TZID=America/New_York:20271024T160000
DTSTAMP:20260423T115752
CREATED:20250512T151419Z
LAST-MODIFIED:20250512T152527Z
UID:10005862-1824386400-1824393600@www.gapost233.com
SUMMARY:Sunday BINGO
DESCRIPTION:Doors OPEN at Noon\, Raffle Games start at 1:00 pm\, BINGO starts at 2:00 pm \nWe reserve the Right to change Games & Prizes \n\n\nand Revoke Admission \n\n\nCredit Cards Accepted * Visa * Mastercard * Discover \n\n\n\n\nEVERY PLAYER MUST HAVE A RECEIPT – PLAYERS CANNOT SHARE CARDS \n\n\nHosted by the American Legion Auxiliary Unit #233 \n\n\n4635 Atlanta Hwy. Loganville\, Ga. 30052 \n\n\n770-466-4728 \n\n\nYOU MUST BINGO ON THE LAST NUMBER CALLED \n\n\n\n\nPrices \n\n\n4 Books $15.00 \n\n\n5 Books $17.50 \n\n\n6 Books $20.00 \n\n\n7 Books $22.50 \n\n\n8 Books $25.00 \n\n\nExtra Cards \n\n\n$50 & $100 -$0.50 ea \n\n\n \n 
URL:https://www.gapost233.com/event/sunday-bingo-7/2027-10-24/
LOCATION:GA
END:VEVENT
BEGIN:VEVENT
DTSTART;TZID=America/New_York:20271025T170000
DTEND;TZID=America/New_York:20271025T213000
DTSTAMP:20260423T115752
CREATED:20260310T151412Z
LAST-MODIFIED:20260310T151746Z
UID:10006561-1824483600-1824499800@www.gapost233.com
SUMMARY:BINGO Night
DESCRIPTION:Doors OPEN at  5 pm\, \nRaffle Games \nBINGO at 7:30 PM  FIRST BALL \nMinimum $15 buy-in\, must be 8 years or older to attend.
URL:https://www.gapost233.com/event/bingo-night-5/2027-10-25/
LOCATION:Post 233 Main Hall\, 4635 U.S. 78\, Loganville\, GA\, 30052\, United States
GEO:33.8337745;-83.8911131
X-APPLE-STRUCTURED-LOCATION;VALUE=URI;X-ADDRESS=Post 233 Main Hall 4635 U.S. 78 Loganville GA 30052 United States;X-APPLE-RADIUS=500;X-TITLE=4635 U.S. 78:geo:-83.8911131,33.8337745
END:VEVENT
BEGIN:VEVENT
DTSTART;TZID=America/New_York:20271027T170000
DTEND;TZID=America/New_York:20271027T213000
DTSTAMP:20260423T115752
CREATED:20260310T151412Z
LAST-MODIFIED:20260310T151746Z
UID:10006562-1824656400-1824672600@www.gapost233.com
SUMMARY:BINGO Night
DESCRIPTION:Doors OPEN at  5 pm\, \nRaffle Games \nBINGO at 7:30 PM  FIRST BALL \nMinimum $15 buy-in\, must be 8 years or older to attend.
URL:https://www.gapost233.com/event/bingo-night-5/2027-10-27/
LOCATION:Post 233 Main Hall\, 4635 U.S. 78\, Loganville\, GA\, 30052\, United States
GEO:33.8337745;-83.8911131
X-APPLE-STRUCTURED-LOCATION;VALUE=URI;X-ADDRESS=Post 233 Main Hall 4635 U.S. 78 Loganville GA 30052 United States;X-APPLE-RADIUS=500;X-TITLE=4635 U.S. 78:geo:-83.8911131,33.8337745
END:VEVENT
BEGIN:VEVENT
DTSTART;TZID=America/New_York:20271028T170000
DTEND;TZID=America/New_York:20271028T213000
DTSTAMP:20260423T115752
CREATED:20260310T151412Z
LAST-MODIFIED:20260310T151746Z
UID:10005086-1824742800-1824759000@www.gapost233.com
SUMMARY:BINGO Night
DESCRIPTION:Doors OPEN at  5 pm\, \nRaffle Games \nBINGO at 7:30 PM  FIRST BALL \nMinimum $15 buy-in\, must be 8 years or older to attend.
URL:https://www.gapost233.com/event/bingo-night-5/2027-10-28/
LOCATION:Post 233 Main Hall\, 4635 U.S. 78\, Loganville\, GA\, 30052\, United States
GEO:33.8337745;-83.8911131
X-APPLE-STRUCTURED-LOCATION;VALUE=URI;X-ADDRESS=Post 233 Main Hall 4635 U.S. 78 Loganville GA 30052 United States;X-APPLE-RADIUS=500;X-TITLE=4635 U.S. 78:geo:-83.8911131,33.8337745
END:VEVENT
BEGIN:VEVENT
DTSTART;TZID=America/New_York:20271029T180000
DTEND;TZID=America/New_York:20271029T213000
DTSTAMP:20260423T115752
CREATED:20240521T183946Z
LAST-MODIFIED:20240521T183947Z
UID:10004628-1824832800-1824845400@www.gapost233.com
SUMMARY:Find Old Glory
DESCRIPTION:Buy Tickets! $2 each\, 3 for $5 or 6 for $10. \nTickets on sale daily until 8 PM on Friday. \nDrawing at 8:30 PM on Friday
URL:https://www.gapost233.com/event/find-old-glory-2-2/2027-10-29/
LOCATION:GA Post233-Patriot’s Grill\, 4635 Highway 78\, Loganville\, GA\, 30052
END:VEVENT
BEGIN:VEVENT
DTSTART;TZID=America/New_York:20271031T140000
DTEND;TZID=America/New_York:20271031T160000
DTSTAMP:20260423T115752
CREATED:20250512T151419Z
LAST-MODIFIED:20250512T152527Z
UID:10005863-1824991200-1824998400@www.gapost233.com
SUMMARY:Sunday BINGO
DESCRIPTION:Doors OPEN at Noon\, Raffle Games start at 1:00 pm\, BINGO starts at 2:00 pm \nWe reserve the Right to change Games & Prizes \n\n\nand Revoke Admission \n\n\nCredit Cards Accepted * Visa * Mastercard * Discover \n\n\n\n\nEVERY PLAYER MUST HAVE A RECEIPT – PLAYERS CANNOT SHARE CARDS \n\n\nHosted by the American Legion Auxiliary Unit #233 \n\n\n4635 Atlanta Hwy. Loganville\, Ga. 30052 \n\n\n770-466-4728 \n\n\nYOU MUST BINGO ON THE LAST NUMBER CALLED \n\n\n\n\nPrices \n\n\n4 Books $15.00 \n\n\n5 Books $17.50 \n\n\n6 Books $20.00 \n\n\n7 Books $22.50 \n\n\n8 Books $25.00 \n\n\nExtra Cards \n\n\n$50 & $100 -$0.50 ea \n\n\n \n 
URL:https://www.gapost233.com/event/sunday-bingo-7/2027-10-31/
LOCATION:GA
END:VEVENT
END:VCALENDAR