BEGIN:VCALENDAR
VERSION:2.0
PRODID:-//AMERICAN LEGION POST 233 - ECPv6.10.1.1//NONSGML v1.0//EN
CALSCALE:GREGORIAN
METHOD:PUBLISH
X-ORIGINAL-URL:https://www.gapost233.com
X-WR-CALDESC:Events for AMERICAN LEGION POST 233
REFRESH-INTERVAL;VALUE=DURATION:PT1H
X-Robots-Tag:noindex
X-PUBLISHED-TTL:PT1H
BEGIN:VTIMEZONE
TZID:America/New_York
BEGIN:DAYLIGHT
TZOFFSETFROM:-0500
TZOFFSETTO:-0400
TZNAME:EDT
DTSTART:20270314T070000
END:DAYLIGHT
BEGIN:STANDARD
TZOFFSETFROM:-0400
TZOFFSETTO:-0500
TZNAME:EST
DTSTART:20271107T060000
END:STANDARD
END:VTIMEZONE
BEGIN:VEVENT
DTSTART;TZID=America/New_York:20271201T170000
DTEND;TZID=America/New_York:20271201T213000
DTSTAMP:20260423T155119
CREATED:20260310T151412Z
LAST-MODIFIED:20260310T151746Z
UID:10006572-1827680400-1827696600@www.gapost233.com
SUMMARY:BINGO Night
DESCRIPTION:Doors OPEN at  5 pm\, \nRaffle Games \nBINGO at 7:30 PM  FIRST BALL \nMinimum $15 buy-in\, must be 8 years or older to attend.
URL:https://www.gapost233.com/event/bingo-night-5/2027-12-01/
LOCATION:Post 233 Main Hall\, 4635 U.S. 78\, Loganville\, GA\, 30052\, United States
GEO:33.8337745;-83.8911131
X-APPLE-STRUCTURED-LOCATION;VALUE=URI;X-ADDRESS=Post 233 Main Hall 4635 U.S. 78 Loganville GA 30052 United States;X-APPLE-RADIUS=500;X-TITLE=4635 U.S. 78:geo:-83.8911131,33.8337745
END:VEVENT
BEGIN:VEVENT
DTSTART;TZID=America/New_York:20271202T170000
DTEND;TZID=America/New_York:20271202T213000
DTSTAMP:20260423T155119
CREATED:20260310T151412Z
LAST-MODIFIED:20260310T151746Z
UID:10005091-1827766800-1827783000@www.gapost233.com
SUMMARY:BINGO Night
DESCRIPTION:Doors OPEN at  5 pm\, \nRaffle Games \nBINGO at 7:30 PM  FIRST BALL \nMinimum $15 buy-in\, must be 8 years or older to attend.
URL:https://www.gapost233.com/event/bingo-night-5/2027-12-02/
LOCATION:Post 233 Main Hall\, 4635 U.S. 78\, Loganville\, GA\, 30052\, United States
GEO:33.8337745;-83.8911131
X-APPLE-STRUCTURED-LOCATION;VALUE=URI;X-ADDRESS=Post 233 Main Hall 4635 U.S. 78 Loganville GA 30052 United States;X-APPLE-RADIUS=500;X-TITLE=4635 U.S. 78:geo:-83.8911131,33.8337745
END:VEVENT
BEGIN:VEVENT
DTSTART;TZID=America/New_York:20271203T180000
DTEND;TZID=America/New_York:20271203T213000
DTSTAMP:20260423T155119
CREATED:20240521T183946Z
LAST-MODIFIED:20240521T183947Z
UID:10004633-1827856800-1827869400@www.gapost233.com
SUMMARY:Find Old Glory
DESCRIPTION:Buy Tickets! $2 each\, 3 for $5 or 6 for $10. \nTickets on sale daily until 8 PM on Friday. \nDrawing at 8:30 PM on Friday
URL:https://www.gapost233.com/event/find-old-glory-2-2/2027-12-03/
LOCATION:GA Post233-Patriot’s Grill\, 4635 Highway 78\, Loganville\, GA\, 30052
END:VEVENT
BEGIN:VEVENT
DTSTART;TZID=America/New_York:20271205T140000
DTEND;TZID=America/New_York:20271205T160000
DTSTAMP:20260423T155119
CREATED:20250512T151419Z
LAST-MODIFIED:20250512T152527Z
UID:10005868-1828015200-1828022400@www.gapost233.com
SUMMARY:Sunday BINGO
DESCRIPTION:Doors OPEN at Noon\, Raffle Games start at 1:00 pm\, BINGO starts at 2:00 pm \nWe reserve the Right to change Games & Prizes \n\n\nand Revoke Admission \n\n\nCredit Cards Accepted * Visa * Mastercard * Discover \n\n\n\n\nEVERY PLAYER MUST HAVE A RECEIPT – PLAYERS CANNOT SHARE CARDS \n\n\nHosted by the American Legion Auxiliary Unit #233 \n\n\n4635 Atlanta Hwy. Loganville\, Ga. 30052 \n\n\n770-466-4728 \n\n\nYOU MUST BINGO ON THE LAST NUMBER CALLED \n\n\n\n\nPrices \n\n\n4 Books $15.00 \n\n\n5 Books $17.50 \n\n\n6 Books $20.00 \n\n\n7 Books $22.50 \n\n\n8 Books $25.00 \n\n\nExtra Cards \n\n\n$50 & $100 -$0.50 ea \n\n\n \n 
URL:https://www.gapost233.com/event/sunday-bingo-7/2027-12-05/
LOCATION:GA
END:VEVENT
BEGIN:VEVENT
DTSTART;TZID=America/New_York:20271206T170000
DTEND;TZID=America/New_York:20271206T213000
DTSTAMP:20260423T155119
CREATED:20260310T151412Z
LAST-MODIFIED:20260310T151746Z
UID:10006573-1828112400-1828128600@www.gapost233.com
SUMMARY:BINGO Night
DESCRIPTION:Doors OPEN at  5 pm\, \nRaffle Games \nBINGO at 7:30 PM  FIRST BALL \nMinimum $15 buy-in\, must be 8 years or older to attend.
URL:https://www.gapost233.com/event/bingo-night-5/2027-12-06/
LOCATION:Post 233 Main Hall\, 4635 U.S. 78\, Loganville\, GA\, 30052\, United States
GEO:33.8337745;-83.8911131
X-APPLE-STRUCTURED-LOCATION;VALUE=URI;X-ADDRESS=Post 233 Main Hall 4635 U.S. 78 Loganville GA 30052 United States;X-APPLE-RADIUS=500;X-TITLE=4635 U.S. 78:geo:-83.8911131,33.8337745
END:VEVENT
BEGIN:VEVENT
DTSTART;TZID=America/New_York:20271208T170000
DTEND;TZID=America/New_York:20271208T213000
DTSTAMP:20260423T155119
CREATED:20260310T151412Z
LAST-MODIFIED:20260310T151746Z
UID:10006574-1828285200-1828301400@www.gapost233.com
SUMMARY:BINGO Night
DESCRIPTION:Doors OPEN at  5 pm\, \nRaffle Games \nBINGO at 7:30 PM  FIRST BALL \nMinimum $15 buy-in\, must be 8 years or older to attend.
URL:https://www.gapost233.com/event/bingo-night-5/2027-12-08/
LOCATION:Post 233 Main Hall\, 4635 U.S. 78\, Loganville\, GA\, 30052\, United States
GEO:33.8337745;-83.8911131
X-APPLE-STRUCTURED-LOCATION;VALUE=URI;X-ADDRESS=Post 233 Main Hall 4635 U.S. 78 Loganville GA 30052 United States;X-APPLE-RADIUS=500;X-TITLE=4635 U.S. 78:geo:-83.8911131,33.8337745
END:VEVENT
BEGIN:VEVENT
DTSTART;TZID=America/New_York:20271209T170000
DTEND;TZID=America/New_York:20271209T213000
DTSTAMP:20260423T155119
CREATED:20260310T151412Z
LAST-MODIFIED:20260310T151746Z
UID:10005092-1828371600-1828387800@www.gapost233.com
SUMMARY:BINGO Night
DESCRIPTION:Doors OPEN at  5 pm\, \nRaffle Games \nBINGO at 7:30 PM  FIRST BALL \nMinimum $15 buy-in\, must be 8 years or older to attend.
URL:https://www.gapost233.com/event/bingo-night-5/2027-12-09/
LOCATION:Post 233 Main Hall\, 4635 U.S. 78\, Loganville\, GA\, 30052\, United States
GEO:33.8337745;-83.8911131
X-APPLE-STRUCTURED-LOCATION;VALUE=URI;X-ADDRESS=Post 233 Main Hall 4635 U.S. 78 Loganville GA 30052 United States;X-APPLE-RADIUS=500;X-TITLE=4635 U.S. 78:geo:-83.8911131,33.8337745
END:VEVENT
BEGIN:VEVENT
DTSTART;TZID=America/New_York:20271210T180000
DTEND;TZID=America/New_York:20271210T213000
DTSTAMP:20260423T155119
CREATED:20240521T183946Z
LAST-MODIFIED:20240521T183947Z
UID:10004634-1828461600-1828474200@www.gapost233.com
SUMMARY:Find Old Glory
DESCRIPTION:Buy Tickets! $2 each\, 3 for $5 or 6 for $10. \nTickets on sale daily until 8 PM on Friday. \nDrawing at 8:30 PM on Friday
URL:https://www.gapost233.com/event/find-old-glory-2-2/2027-12-10/
LOCATION:GA Post233-Patriot’s Grill\, 4635 Highway 78\, Loganville\, GA\, 30052
END:VEVENT
BEGIN:VEVENT
DTSTART;TZID=America/New_York:20271210T190000
DTEND;TZID=America/New_York:20271210T220000
DTSTAMP:20260423T155119
CREATED:20260304T035218Z
LAST-MODIFIED:20260304T035714Z
UID:10006202-1828465200-1828476000@www.gapost233.com
SUMMARY:Trivia Night
DESCRIPTION:🧠✨ Think You’ve Got What It Takes to Win Trivia Night? ✨🧠 \nGet your team together and join us for an exciting Trivia Night with DJ Joey\, hosted by Outspoken Entertainment at Patriots’ Grill! Put your knowledge to the test with a fun mix of questions covering everything from pop culture and history to music\, movies\, sports\, and more. \nWhether you’re a trivia master or just looking for a great night out with friends\, this event promises plenty of laughs\, friendly competition\, and chances to win prizes. \n📅 Every 2nd Friday!📍 Patriots’ Grill🚪 Doors Open: 6:00 PM❓ Trivia Starts: 7:00 PM \nBring your smartest friends\, grab some food and drinks\, and get ready for a night of brain-teasing fun. Form your team\, show off your knowledge\, and see if you can claim the top spot! \n🎉 Why You Should Come:• Fun and engaging trivia rounds• Great food and drinks at Patriots’ Grill• Prizes and bragging rights for the winners• A perfect midweek night out \nSeats can fill up fast\, so arrive early\, get settled in\, and get ready to play.
URL:https://www.gapost233.com/event/trivia-night/2027-12-10/
LOCATION:GA
ATTACH;FMTTYPE=image/png:https://www.gapost233.com/wp-content/uploads/2026/03/177c5127-601d-422d-b090-f233685b0a61.png
END:VEVENT
BEGIN:VEVENT
DTSTART;TZID=America/New_York:20271212T140000
DTEND;TZID=America/New_York:20271212T160000
DTSTAMP:20260423T155119
CREATED:20250512T151419Z
LAST-MODIFIED:20250512T152527Z
UID:10005869-1828620000-1828627200@www.gapost233.com
SUMMARY:Sunday BINGO
DESCRIPTION:Doors OPEN at Noon\, Raffle Games start at 1:00 pm\, BINGO starts at 2:00 pm \nWe reserve the Right to change Games & Prizes \n\n\nand Revoke Admission \n\n\nCredit Cards Accepted * Visa * Mastercard * Discover \n\n\n\n\nEVERY PLAYER MUST HAVE A RECEIPT – PLAYERS CANNOT SHARE CARDS \n\n\nHosted by the American Legion Auxiliary Unit #233 \n\n\n4635 Atlanta Hwy. Loganville\, Ga. 30052 \n\n\n770-466-4728 \n\n\nYOU MUST BINGO ON THE LAST NUMBER CALLED \n\n\n\n\nPrices \n\n\n4 Books $15.00 \n\n\n5 Books $17.50 \n\n\n6 Books $20.00 \n\n\n7 Books $22.50 \n\n\n8 Books $25.00 \n\n\nExtra Cards \n\n\n$50 & $100 -$0.50 ea \n\n\n \n 
URL:https://www.gapost233.com/event/sunday-bingo-7/2027-12-12/
LOCATION:GA
END:VEVENT
BEGIN:VEVENT
DTSTART;TZID=America/New_York:20271213T170000
DTEND;TZID=America/New_York:20271213T213000
DTSTAMP:20260423T155119
CREATED:20260310T151412Z
LAST-MODIFIED:20260310T151746Z
UID:10006575-1828717200-1828733400@www.gapost233.com
SUMMARY:BINGO Night
DESCRIPTION:Doors OPEN at  5 pm\, \nRaffle Games \nBINGO at 7:30 PM  FIRST BALL \nMinimum $15 buy-in\, must be 8 years or older to attend.
URL:https://www.gapost233.com/event/bingo-night-5/2027-12-13/
LOCATION:Post 233 Main Hall\, 4635 U.S. 78\, Loganville\, GA\, 30052\, United States
GEO:33.8337745;-83.8911131
X-APPLE-STRUCTURED-LOCATION;VALUE=URI;X-ADDRESS=Post 233 Main Hall 4635 U.S. 78 Loganville GA 30052 United States;X-APPLE-RADIUS=500;X-TITLE=4635 U.S. 78:geo:-83.8911131,33.8337745
END:VEVENT
BEGIN:VEVENT
DTSTART;TZID=America/New_York:20271215T170000
DTEND;TZID=America/New_York:20271215T213000
DTSTAMP:20260423T155120
CREATED:20260310T151412Z
LAST-MODIFIED:20260310T151746Z
UID:10006576-1828890000-1828906200@www.gapost233.com
SUMMARY:BINGO Night
DESCRIPTION:Doors OPEN at  5 pm\, \nRaffle Games \nBINGO at 7:30 PM  FIRST BALL \nMinimum $15 buy-in\, must be 8 years or older to attend.
URL:https://www.gapost233.com/event/bingo-night-5/2027-12-15/
LOCATION:Post 233 Main Hall\, 4635 U.S. 78\, Loganville\, GA\, 30052\, United States
GEO:33.8337745;-83.8911131
X-APPLE-STRUCTURED-LOCATION;VALUE=URI;X-ADDRESS=Post 233 Main Hall 4635 U.S. 78 Loganville GA 30052 United States;X-APPLE-RADIUS=500;X-TITLE=4635 U.S. 78:geo:-83.8911131,33.8337745
END:VEVENT
BEGIN:VEVENT
DTSTART;TZID=America/New_York:20271216T170000
DTEND;TZID=America/New_York:20271216T213000
DTSTAMP:20260423T155120
CREATED:20260310T151412Z
LAST-MODIFIED:20260310T151746Z
UID:10005093-1828976400-1828992600@www.gapost233.com
SUMMARY:BINGO Night
DESCRIPTION:Doors OPEN at  5 pm\, \nRaffle Games \nBINGO at 7:30 PM  FIRST BALL \nMinimum $15 buy-in\, must be 8 years or older to attend.
URL:https://www.gapost233.com/event/bingo-night-5/2027-12-16/
LOCATION:Post 233 Main Hall\, 4635 U.S. 78\, Loganville\, GA\, 30052\, United States
GEO:33.8337745;-83.8911131
X-APPLE-STRUCTURED-LOCATION;VALUE=URI;X-ADDRESS=Post 233 Main Hall 4635 U.S. 78 Loganville GA 30052 United States;X-APPLE-RADIUS=500;X-TITLE=4635 U.S. 78:geo:-83.8911131,33.8337745
END:VEVENT
BEGIN:VEVENT
DTSTART;TZID=America/New_York:20271217T180000
DTEND;TZID=America/New_York:20271217T213000
DTSTAMP:20260423T155120
CREATED:20240521T183946Z
LAST-MODIFIED:20240521T183947Z
UID:10004635-1829066400-1829079000@www.gapost233.com
SUMMARY:Find Old Glory
DESCRIPTION:Buy Tickets! $2 each\, 3 for $5 or 6 for $10. \nTickets on sale daily until 8 PM on Friday. \nDrawing at 8:30 PM on Friday
URL:https://www.gapost233.com/event/find-old-glory-2-2/2027-12-17/
LOCATION:GA Post233-Patriot’s Grill\, 4635 Highway 78\, Loganville\, GA\, 30052
END:VEVENT
BEGIN:VEVENT
DTSTART;TZID=America/New_York:20271219T140000
DTEND;TZID=America/New_York:20271219T160000
DTSTAMP:20260423T155120
CREATED:20250512T151419Z
LAST-MODIFIED:20250512T152527Z
UID:10005870-1829224800-1829232000@www.gapost233.com
SUMMARY:Sunday BINGO
DESCRIPTION:Doors OPEN at Noon\, Raffle Games start at 1:00 pm\, BINGO starts at 2:00 pm \nWe reserve the Right to change Games & Prizes \n\n\nand Revoke Admission \n\n\nCredit Cards Accepted * Visa * Mastercard * Discover \n\n\n\n\nEVERY PLAYER MUST HAVE A RECEIPT – PLAYERS CANNOT SHARE CARDS \n\n\nHosted by the American Legion Auxiliary Unit #233 \n\n\n4635 Atlanta Hwy. Loganville\, Ga. 30052 \n\n\n770-466-4728 \n\n\nYOU MUST BINGO ON THE LAST NUMBER CALLED \n\n\n\n\nPrices \n\n\n4 Books $15.00 \n\n\n5 Books $17.50 \n\n\n6 Books $20.00 \n\n\n7 Books $22.50 \n\n\n8 Books $25.00 \n\n\nExtra Cards \n\n\n$50 & $100 -$0.50 ea \n\n\n \n 
URL:https://www.gapost233.com/event/sunday-bingo-7/2027-12-19/
LOCATION:GA
END:VEVENT
BEGIN:VEVENT
DTSTART;TZID=America/New_York:20271220T170000
DTEND;TZID=America/New_York:20271220T213000
DTSTAMP:20260423T155120
CREATED:20260310T151412Z
LAST-MODIFIED:20260310T151746Z
UID:10006577-1829322000-1829338200@www.gapost233.com
SUMMARY:BINGO Night
DESCRIPTION:Doors OPEN at  5 pm\, \nRaffle Games \nBINGO at 7:30 PM  FIRST BALL \nMinimum $15 buy-in\, must be 8 years or older to attend.
URL:https://www.gapost233.com/event/bingo-night-5/2027-12-20/
LOCATION:Post 233 Main Hall\, 4635 U.S. 78\, Loganville\, GA\, 30052\, United States
GEO:33.8337745;-83.8911131
X-APPLE-STRUCTURED-LOCATION;VALUE=URI;X-ADDRESS=Post 233 Main Hall 4635 U.S. 78 Loganville GA 30052 United States;X-APPLE-RADIUS=500;X-TITLE=4635 U.S. 78:geo:-83.8911131,33.8337745
END:VEVENT
BEGIN:VEVENT
DTSTART;TZID=America/New_York:20271221T190000
DTEND;TZID=America/New_York:20271221T210000
DTSTAMP:20260423T155120
CREATED:20230607T213114Z
LAST-MODIFIED:20230620T132819Z
UID:10002226-1829415600-1829422800@www.gapost233.com
SUMMARY:ALR Meeting
DESCRIPTION:The American Legion Riders will meet tonight at 7:00pm. Guests are welcome to attend the meeting to learn more about this very active group.
URL:https://www.gapost233.com/event/alr-meeting-2/2027-12-21/
LOCATION:Robert Boss Pavilion\, 4635 U.S. 78\, Loganville\, GA\, 30052\, United States
END:VEVENT
BEGIN:VEVENT
DTSTART;TZID=America/New_York:20271222T170000
DTEND;TZID=America/New_York:20271222T213000
DTSTAMP:20260423T155120
CREATED:20260310T151412Z
LAST-MODIFIED:20260310T151746Z
UID:10006578-1829494800-1829511000@www.gapost233.com
SUMMARY:BINGO Night
DESCRIPTION:Doors OPEN at  5 pm\, \nRaffle Games \nBINGO at 7:30 PM  FIRST BALL \nMinimum $15 buy-in\, must be 8 years or older to attend.
URL:https://www.gapost233.com/event/bingo-night-5/2027-12-22/
LOCATION:Post 233 Main Hall\, 4635 U.S. 78\, Loganville\, GA\, 30052\, United States
GEO:33.8337745;-83.8911131
X-APPLE-STRUCTURED-LOCATION;VALUE=URI;X-ADDRESS=Post 233 Main Hall 4635 U.S. 78 Loganville GA 30052 United States;X-APPLE-RADIUS=500;X-TITLE=4635 U.S. 78:geo:-83.8911131,33.8337745
END:VEVENT
BEGIN:VEVENT
DTSTART;TZID=America/New_York:20271223T170000
DTEND;TZID=America/New_York:20271223T213000
DTSTAMP:20260423T155120
CREATED:20260310T151412Z
LAST-MODIFIED:20260310T151746Z
UID:10005094-1829581200-1829597400@www.gapost233.com
SUMMARY:BINGO Night
DESCRIPTION:Doors OPEN at  5 pm\, \nRaffle Games \nBINGO at 7:30 PM  FIRST BALL \nMinimum $15 buy-in\, must be 8 years or older to attend.
URL:https://www.gapost233.com/event/bingo-night-5/2027-12-23/
LOCATION:Post 233 Main Hall\, 4635 U.S. 78\, Loganville\, GA\, 30052\, United States
GEO:33.8337745;-83.8911131
X-APPLE-STRUCTURED-LOCATION;VALUE=URI;X-ADDRESS=Post 233 Main Hall 4635 U.S. 78 Loganville GA 30052 United States;X-APPLE-RADIUS=500;X-TITLE=4635 U.S. 78:geo:-83.8911131,33.8337745
END:VEVENT
BEGIN:VEVENT
DTSTART;TZID=America/New_York:20271224T180000
DTEND;TZID=America/New_York:20271224T213000
DTSTAMP:20260423T155120
CREATED:20240521T183946Z
LAST-MODIFIED:20240521T183947Z
UID:10004636-1829671200-1829683800@www.gapost233.com
SUMMARY:Find Old Glory
DESCRIPTION:Buy Tickets! $2 each\, 3 for $5 or 6 for $10. \nTickets on sale daily until 8 PM on Friday. \nDrawing at 8:30 PM on Friday
URL:https://www.gapost233.com/event/find-old-glory-2-2/2027-12-24/
LOCATION:GA Post233-Patriot’s Grill\, 4635 Highway 78\, Loganville\, GA\, 30052
END:VEVENT
BEGIN:VEVENT
DTSTART;TZID=America/New_York:20271226T140000
DTEND;TZID=America/New_York:20271226T160000
DTSTAMP:20260423T155120
CREATED:20250512T151419Z
LAST-MODIFIED:20250512T152527Z
UID:10005871-1829829600-1829836800@www.gapost233.com
SUMMARY:Sunday BINGO
DESCRIPTION:Doors OPEN at Noon\, Raffle Games start at 1:00 pm\, BINGO starts at 2:00 pm \nWe reserve the Right to change Games & Prizes \n\n\nand Revoke Admission \n\n\nCredit Cards Accepted * Visa * Mastercard * Discover \n\n\n\n\nEVERY PLAYER MUST HAVE A RECEIPT – PLAYERS CANNOT SHARE CARDS \n\n\nHosted by the American Legion Auxiliary Unit #233 \n\n\n4635 Atlanta Hwy. Loganville\, Ga. 30052 \n\n\n770-466-4728 \n\n\nYOU MUST BINGO ON THE LAST NUMBER CALLED \n\n\n\n\nPrices \n\n\n4 Books $15.00 \n\n\n5 Books $17.50 \n\n\n6 Books $20.00 \n\n\n7 Books $22.50 \n\n\n8 Books $25.00 \n\n\nExtra Cards \n\n\n$50 & $100 -$0.50 ea \n\n\n \n 
URL:https://www.gapost233.com/event/sunday-bingo-7/2027-12-26/
LOCATION:GA
END:VEVENT
BEGIN:VEVENT
DTSTART;TZID=America/New_York:20271227T170000
DTEND;TZID=America/New_York:20271227T213000
DTSTAMP:20260423T155120
CREATED:20260310T151412Z
LAST-MODIFIED:20260310T151746Z
UID:10006579-1829926800-1829943000@www.gapost233.com
SUMMARY:BINGO Night
DESCRIPTION:Doors OPEN at  5 pm\, \nRaffle Games \nBINGO at 7:30 PM  FIRST BALL \nMinimum $15 buy-in\, must be 8 years or older to attend.
URL:https://www.gapost233.com/event/bingo-night-5/2027-12-27/
LOCATION:Post 233 Main Hall\, 4635 U.S. 78\, Loganville\, GA\, 30052\, United States
GEO:33.8337745;-83.8911131
X-APPLE-STRUCTURED-LOCATION;VALUE=URI;X-ADDRESS=Post 233 Main Hall 4635 U.S. 78 Loganville GA 30052 United States;X-APPLE-RADIUS=500;X-TITLE=4635 U.S. 78:geo:-83.8911131,33.8337745
END:VEVENT
BEGIN:VEVENT
DTSTART;TZID=America/New_York:20271229T170000
DTEND;TZID=America/New_York:20271229T213000
DTSTAMP:20260423T155120
CREATED:20260310T151412Z
LAST-MODIFIED:20260310T151746Z
UID:10006580-1830099600-1830115800@www.gapost233.com
SUMMARY:BINGO Night
DESCRIPTION:Doors OPEN at  5 pm\, \nRaffle Games \nBINGO at 7:30 PM  FIRST BALL \nMinimum $15 buy-in\, must be 8 years or older to attend.
URL:https://www.gapost233.com/event/bingo-night-5/2027-12-29/
LOCATION:Post 233 Main Hall\, 4635 U.S. 78\, Loganville\, GA\, 30052\, United States
GEO:33.8337745;-83.8911131
X-APPLE-STRUCTURED-LOCATION;VALUE=URI;X-ADDRESS=Post 233 Main Hall 4635 U.S. 78 Loganville GA 30052 United States;X-APPLE-RADIUS=500;X-TITLE=4635 U.S. 78:geo:-83.8911131,33.8337745
END:VEVENT
BEGIN:VEVENT
DTSTART;TZID=America/New_York:20271230T170000
DTEND;TZID=America/New_York:20271230T213000
DTSTAMP:20260423T155120
CREATED:20260310T151412Z
LAST-MODIFIED:20260310T151746Z
UID:10005095-1830186000-1830202200@www.gapost233.com
SUMMARY:BINGO Night
DESCRIPTION:Doors OPEN at  5 pm\, \nRaffle Games \nBINGO at 7:30 PM  FIRST BALL \nMinimum $15 buy-in\, must be 8 years or older to attend.
URL:https://www.gapost233.com/event/bingo-night-5/2027-12-30/
LOCATION:Post 233 Main Hall\, 4635 U.S. 78\, Loganville\, GA\, 30052\, United States
GEO:33.8337745;-83.8911131
X-APPLE-STRUCTURED-LOCATION;VALUE=URI;X-ADDRESS=Post 233 Main Hall 4635 U.S. 78 Loganville GA 30052 United States;X-APPLE-RADIUS=500;X-TITLE=4635 U.S. 78:geo:-83.8911131,33.8337745
END:VEVENT
BEGIN:VEVENT
DTSTART;TZID=America/New_York:20271231T180000
DTEND;TZID=America/New_York:20271231T213000
DTSTAMP:20260423T155120
CREATED:20240521T183946Z
LAST-MODIFIED:20240521T183947Z
UID:10004637-1830276000-1830288600@www.gapost233.com
SUMMARY:Find Old Glory
DESCRIPTION:Buy Tickets! $2 each\, 3 for $5 or 6 for $10. \nTickets on sale daily until 8 PM on Friday. \nDrawing at 8:30 PM on Friday
URL:https://www.gapost233.com/event/find-old-glory-2-2/2027-12-31/
LOCATION:GA Post233-Patriot’s Grill\, 4635 Highway 78\, Loganville\, GA\, 30052
END:VEVENT
END:VCALENDAR