BEGIN:VCALENDAR
VERSION:2.0
PRODID:-//AMERICAN LEGION POST 233 - ECPv6.10.1.1//NONSGML v1.0//EN
CALSCALE:GREGORIAN
METHOD:PUBLISH
X-ORIGINAL-URL:https://www.gapost233.com
X-WR-CALDESC:Events for AMERICAN LEGION POST 233
REFRESH-INTERVAL;VALUE=DURATION:PT1H
X-Robots-Tag:noindex
X-PUBLISHED-TTL:PT1H
BEGIN:VTIMEZONE
TZID:America/New_York
BEGIN:DAYLIGHT
TZOFFSETFROM:-0500
TZOFFSETTO:-0400
TZNAME:EDT
DTSTART:20290311T070000
END:DAYLIGHT
BEGIN:STANDARD
TZOFFSETFROM:-0400
TZOFFSETTO:-0500
TZNAME:EST
DTSTART:20291104T060000
END:STANDARD
BEGIN:DAYLIGHT
TZOFFSETFROM:-0500
TZOFFSETTO:-0400
TZNAME:EDT
DTSTART:20300310T070000
END:DAYLIGHT
BEGIN:STANDARD
TZOFFSETFROM:-0400
TZOFFSETTO:-0500
TZNAME:EST
DTSTART:20301103T060000
END:STANDARD
END:VTIMEZONE
BEGIN:VEVENT
DTSTART;TZID=America/New_York:20291005T180000
DTEND;TZID=America/New_York:20291005T213000
DTSTAMP:20260422T225321
CREATED:20240521T183946Z
LAST-MODIFIED:20240521T183947Z
UID:10006076-1885917600-1885930200@www.gapost233.com
SUMMARY:Find Old Glory
DESCRIPTION:Buy Tickets! $2 each\, 3 for $5 or 6 for $10. \nTickets on sale daily until 8 PM on Friday. \nDrawing at 8:30 PM on Friday
URL:https://www.gapost233.com/event/find-old-glory-2-2/2029-10-05/
LOCATION:GA Post233-Patriot’s Grill\, 4635 Highway 78\, Loganville\, GA\, 30052
END:VEVENT
BEGIN:VEVENT
DTSTART;TZID=America/New_York:20291012T180000
DTEND;TZID=America/New_York:20291012T213000
DTSTAMP:20260422T225321
CREATED:20240521T183946Z
LAST-MODIFIED:20240521T183947Z
UID:10006077-1886522400-1886535000@www.gapost233.com
SUMMARY:Find Old Glory
DESCRIPTION:Buy Tickets! $2 each\, 3 for $5 or 6 for $10. \nTickets on sale daily until 8 PM on Friday. \nDrawing at 8:30 PM on Friday
URL:https://www.gapost233.com/event/find-old-glory-2-2/2029-10-12/
LOCATION:GA Post233-Patriot’s Grill\, 4635 Highway 78\, Loganville\, GA\, 30052
END:VEVENT
BEGIN:VEVENT
DTSTART;TZID=America/New_York:20291019T180000
DTEND;TZID=America/New_York:20291019T213000
DTSTAMP:20260422T225321
CREATED:20240521T183946Z
LAST-MODIFIED:20240521T183947Z
UID:10006078-1887127200-1887139800@www.gapost233.com
SUMMARY:Find Old Glory
DESCRIPTION:Buy Tickets! $2 each\, 3 for $5 or 6 for $10. \nTickets on sale daily until 8 PM on Friday. \nDrawing at 8:30 PM on Friday
URL:https://www.gapost233.com/event/find-old-glory-2-2/2029-10-19/
LOCATION:GA Post233-Patriot’s Grill\, 4635 Highway 78\, Loganville\, GA\, 30052
END:VEVENT
BEGIN:VEVENT
DTSTART;TZID=America/New_York:20291026T180000
DTEND;TZID=America/New_York:20291026T213000
DTSTAMP:20260422T225321
CREATED:20240521T183946Z
LAST-MODIFIED:20240521T183947Z
UID:10006079-1887732000-1887744600@www.gapost233.com
SUMMARY:Find Old Glory
DESCRIPTION:Buy Tickets! $2 each\, 3 for $5 or 6 for $10. \nTickets on sale daily until 8 PM on Friday. \nDrawing at 8:30 PM on Friday
URL:https://www.gapost233.com/event/find-old-glory-2-2/2029-10-26/
LOCATION:GA Post233-Patriot’s Grill\, 4635 Highway 78\, Loganville\, GA\, 30052
END:VEVENT
BEGIN:VEVENT
DTSTART;TZID=America/New_York:20291102T180000
DTEND;TZID=America/New_York:20291102T213000
DTSTAMP:20260422T225321
CREATED:20240521T183946Z
LAST-MODIFIED:20240521T183947Z
UID:10006080-1888336800-1888349400@www.gapost233.com
SUMMARY:Find Old Glory
DESCRIPTION:Buy Tickets! $2 each\, 3 for $5 or 6 for $10. \nTickets on sale daily until 8 PM on Friday. \nDrawing at 8:30 PM on Friday
URL:https://www.gapost233.com/event/find-old-glory-2-2/2029-11-02/
LOCATION:GA Post233-Patriot’s Grill\, 4635 Highway 78\, Loganville\, GA\, 30052
END:VEVENT
BEGIN:VEVENT
DTSTART;TZID=America/New_York:20291109T180000
DTEND;TZID=America/New_York:20291109T213000
DTSTAMP:20260422T225321
CREATED:20240521T183946Z
LAST-MODIFIED:20240521T183947Z
UID:10006081-1888941600-1888954200@www.gapost233.com
SUMMARY:Find Old Glory
DESCRIPTION:Buy Tickets! $2 each\, 3 for $5 or 6 for $10. \nTickets on sale daily until 8 PM on Friday. \nDrawing at 8:30 PM on Friday
URL:https://www.gapost233.com/event/find-old-glory-2-2/2029-11-09/
LOCATION:GA Post233-Patriot’s Grill\, 4635 Highway 78\, Loganville\, GA\, 30052
END:VEVENT
BEGIN:VEVENT
DTSTART;TZID=America/New_York:20291116T180000
DTEND;TZID=America/New_York:20291116T213000
DTSTAMP:20260422T225321
CREATED:20240521T183946Z
LAST-MODIFIED:20240521T183947Z
UID:10006082-1889546400-1889559000@www.gapost233.com
SUMMARY:Find Old Glory
DESCRIPTION:Buy Tickets! $2 each\, 3 for $5 or 6 for $10. \nTickets on sale daily until 8 PM on Friday. \nDrawing at 8:30 PM on Friday
URL:https://www.gapost233.com/event/find-old-glory-2-2/2029-11-16/
LOCATION:GA Post233-Patriot’s Grill\, 4635 Highway 78\, Loganville\, GA\, 30052
END:VEVENT
BEGIN:VEVENT
DTSTART;TZID=America/New_York:20291123T180000
DTEND;TZID=America/New_York:20291123T213000
DTSTAMP:20260422T225321
CREATED:20240521T183946Z
LAST-MODIFIED:20240521T183947Z
UID:10006083-1890151200-1890163800@www.gapost233.com
SUMMARY:Find Old Glory
DESCRIPTION:Buy Tickets! $2 each\, 3 for $5 or 6 for $10. \nTickets on sale daily until 8 PM on Friday. \nDrawing at 8:30 PM on Friday
URL:https://www.gapost233.com/event/find-old-glory-2-2/2029-11-23/
LOCATION:GA Post233-Patriot’s Grill\, 4635 Highway 78\, Loganville\, GA\, 30052
END:VEVENT
BEGIN:VEVENT
DTSTART;TZID=America/New_York:20291130T180000
DTEND;TZID=America/New_York:20291130T213000
DTSTAMP:20260422T225321
CREATED:20240521T183946Z
LAST-MODIFIED:20240521T183947Z
UID:10006084-1890756000-1890768600@www.gapost233.com
SUMMARY:Find Old Glory
DESCRIPTION:Buy Tickets! $2 each\, 3 for $5 or 6 for $10. \nTickets on sale daily until 8 PM on Friday. \nDrawing at 8:30 PM on Friday
URL:https://www.gapost233.com/event/find-old-glory-2-2/2029-11-30/
LOCATION:GA Post233-Patriot’s Grill\, 4635 Highway 78\, Loganville\, GA\, 30052
END:VEVENT
BEGIN:VEVENT
DTSTART;TZID=America/New_York:20291207T180000
DTEND;TZID=America/New_York:20291207T213000
DTSTAMP:20260422T225321
CREATED:20240521T183946Z
LAST-MODIFIED:20240521T183947Z
UID:10006085-1891360800-1891373400@www.gapost233.com
SUMMARY:Find Old Glory
DESCRIPTION:Buy Tickets! $2 each\, 3 for $5 or 6 for $10. \nTickets on sale daily until 8 PM on Friday. \nDrawing at 8:30 PM on Friday
URL:https://www.gapost233.com/event/find-old-glory-2-2/2029-12-07/
LOCATION:GA Post233-Patriot’s Grill\, 4635 Highway 78\, Loganville\, GA\, 30052
END:VEVENT
BEGIN:VEVENT
DTSTART;TZID=America/New_York:20291214T180000
DTEND;TZID=America/New_York:20291214T213000
DTSTAMP:20260422T225321
CREATED:20240521T183946Z
LAST-MODIFIED:20240521T183947Z
UID:10006086-1891965600-1891978200@www.gapost233.com
SUMMARY:Find Old Glory
DESCRIPTION:Buy Tickets! $2 each\, 3 for $5 or 6 for $10. \nTickets on sale daily until 8 PM on Friday. \nDrawing at 8:30 PM on Friday
URL:https://www.gapost233.com/event/find-old-glory-2-2/2029-12-14/
LOCATION:GA Post233-Patriot’s Grill\, 4635 Highway 78\, Loganville\, GA\, 30052
END:VEVENT
BEGIN:VEVENT
DTSTART;TZID=America/New_York:20291221T180000
DTEND;TZID=America/New_York:20291221T213000
DTSTAMP:20260422T225321
CREATED:20240521T183946Z
LAST-MODIFIED:20240521T183947Z
UID:10006087-1892570400-1892583000@www.gapost233.com
SUMMARY:Find Old Glory
DESCRIPTION:Buy Tickets! $2 each\, 3 for $5 or 6 for $10. \nTickets on sale daily until 8 PM on Friday. \nDrawing at 8:30 PM on Friday
URL:https://www.gapost233.com/event/find-old-glory-2-2/2029-12-21/
LOCATION:GA Post233-Patriot’s Grill\, 4635 Highway 78\, Loganville\, GA\, 30052
END:VEVENT
BEGIN:VEVENT
DTSTART;TZID=America/New_York:20291228T180000
DTEND;TZID=America/New_York:20291228T213000
DTSTAMP:20260422T225321
CREATED:20240521T183946Z
LAST-MODIFIED:20240521T183947Z
UID:10006088-1893175200-1893187800@www.gapost233.com
SUMMARY:Find Old Glory
DESCRIPTION:Buy Tickets! $2 each\, 3 for $5 or 6 for $10. \nTickets on sale daily until 8 PM on Friday. \nDrawing at 8:30 PM on Friday
URL:https://www.gapost233.com/event/find-old-glory-2-2/2029-12-28/
LOCATION:GA Post233-Patriot’s Grill\, 4635 Highway 78\, Loganville\, GA\, 30052
END:VEVENT
BEGIN:VEVENT
DTSTART;TZID=America/New_York:20300104T180000
DTEND;TZID=America/New_York:20300104T213000
DTSTAMP:20260422T225321
CREATED:20240521T183946Z
LAST-MODIFIED:20240521T183947Z
UID:10006089-1893780000-1893792600@www.gapost233.com
SUMMARY:Find Old Glory
DESCRIPTION:Buy Tickets! $2 each\, 3 for $5 or 6 for $10. \nTickets on sale daily until 8 PM on Friday. \nDrawing at 8:30 PM on Friday
URL:https://www.gapost233.com/event/find-old-glory-2-2/2030-01-04/
LOCATION:GA Post233-Patriot’s Grill\, 4635 Highway 78\, Loganville\, GA\, 30052
END:VEVENT
BEGIN:VEVENT
DTSTART;TZID=America/New_York:20300111T180000
DTEND;TZID=America/New_York:20300111T213000
DTSTAMP:20260422T225321
CREATED:20240521T183946Z
LAST-MODIFIED:20240521T183947Z
UID:10006090-1894384800-1894397400@www.gapost233.com
SUMMARY:Find Old Glory
DESCRIPTION:Buy Tickets! $2 each\, 3 for $5 or 6 for $10. \nTickets on sale daily until 8 PM on Friday. \nDrawing at 8:30 PM on Friday
URL:https://www.gapost233.com/event/find-old-glory-2-2/2030-01-11/
LOCATION:GA Post233-Patriot’s Grill\, 4635 Highway 78\, Loganville\, GA\, 30052
END:VEVENT
BEGIN:VEVENT
DTSTART;TZID=America/New_York:20300118T180000
DTEND;TZID=America/New_York:20300118T213000
DTSTAMP:20260422T225321
CREATED:20240521T183946Z
LAST-MODIFIED:20240521T183947Z
UID:10006091-1894989600-1895002200@www.gapost233.com
SUMMARY:Find Old Glory
DESCRIPTION:Buy Tickets! $2 each\, 3 for $5 or 6 for $10. \nTickets on sale daily until 8 PM on Friday. \nDrawing at 8:30 PM on Friday
URL:https://www.gapost233.com/event/find-old-glory-2-2/2030-01-18/
LOCATION:GA Post233-Patriot’s Grill\, 4635 Highway 78\, Loganville\, GA\, 30052
END:VEVENT
BEGIN:VEVENT
DTSTART;TZID=America/New_York:20300125T180000
DTEND;TZID=America/New_York:20300125T213000
DTSTAMP:20260422T225321
CREATED:20240521T183946Z
LAST-MODIFIED:20240521T183947Z
UID:10006092-1895594400-1895607000@www.gapost233.com
SUMMARY:Find Old Glory
DESCRIPTION:Buy Tickets! $2 each\, 3 for $5 or 6 for $10. \nTickets on sale daily until 8 PM on Friday. \nDrawing at 8:30 PM on Friday
URL:https://www.gapost233.com/event/find-old-glory-2-2/2030-01-25/
LOCATION:GA Post233-Patriot’s Grill\, 4635 Highway 78\, Loganville\, GA\, 30052
END:VEVENT
BEGIN:VEVENT
DTSTART;TZID=America/New_York:20300201T180000
DTEND;TZID=America/New_York:20300201T213000
DTSTAMP:20260422T225322
CREATED:20240521T183946Z
LAST-MODIFIED:20240521T183947Z
UID:10006093-1896199200-1896211800@www.gapost233.com
SUMMARY:Find Old Glory
DESCRIPTION:Buy Tickets! $2 each\, 3 for $5 or 6 for $10. \nTickets on sale daily until 8 PM on Friday. \nDrawing at 8:30 PM on Friday
URL:https://www.gapost233.com/event/find-old-glory-2-2/2030-02-01/
LOCATION:GA Post233-Patriot’s Grill\, 4635 Highway 78\, Loganville\, GA\, 30052
END:VEVENT
BEGIN:VEVENT
DTSTART;TZID=America/New_York:20300208T180000
DTEND;TZID=America/New_York:20300208T213000
DTSTAMP:20260422T225322
CREATED:20240521T183946Z
LAST-MODIFIED:20240521T183947Z
UID:10006094-1896804000-1896816600@www.gapost233.com
SUMMARY:Find Old Glory
DESCRIPTION:Buy Tickets! $2 each\, 3 for $5 or 6 for $10. \nTickets on sale daily until 8 PM on Friday. \nDrawing at 8:30 PM on Friday
URL:https://www.gapost233.com/event/find-old-glory-2-2/2030-02-08/
LOCATION:GA Post233-Patriot’s Grill\, 4635 Highway 78\, Loganville\, GA\, 30052
END:VEVENT
BEGIN:VEVENT
DTSTART;TZID=America/New_York:20300215T180000
DTEND;TZID=America/New_York:20300215T213000
DTSTAMP:20260422T225322
CREATED:20240521T183946Z
LAST-MODIFIED:20240521T183947Z
UID:10006095-1897408800-1897421400@www.gapost233.com
SUMMARY:Find Old Glory
DESCRIPTION:Buy Tickets! $2 each\, 3 for $5 or 6 for $10. \nTickets on sale daily until 8 PM on Friday. \nDrawing at 8:30 PM on Friday
URL:https://www.gapost233.com/event/find-old-glory-2-2/2030-02-15/
LOCATION:GA Post233-Patriot’s Grill\, 4635 Highway 78\, Loganville\, GA\, 30052
END:VEVENT
BEGIN:VEVENT
DTSTART;TZID=America/New_York:20300222T180000
DTEND;TZID=America/New_York:20300222T213000
DTSTAMP:20260422T225322
CREATED:20240521T183946Z
LAST-MODIFIED:20240521T183947Z
UID:10006096-1898013600-1898026200@www.gapost233.com
SUMMARY:Find Old Glory
DESCRIPTION:Buy Tickets! $2 each\, 3 for $5 or 6 for $10. \nTickets on sale daily until 8 PM on Friday. \nDrawing at 8:30 PM on Friday
URL:https://www.gapost233.com/event/find-old-glory-2-2/2030-02-22/
LOCATION:GA Post233-Patriot’s Grill\, 4635 Highway 78\, Loganville\, GA\, 30052
END:VEVENT
BEGIN:VEVENT
DTSTART;TZID=America/New_York:20300301T180000
DTEND;TZID=America/New_York:20300301T213000
DTSTAMP:20260422T225322
CREATED:20240521T183946Z
LAST-MODIFIED:20240521T183947Z
UID:10006097-1898618400-1898631000@www.gapost233.com
SUMMARY:Find Old Glory
DESCRIPTION:Buy Tickets! $2 each\, 3 for $5 or 6 for $10. \nTickets on sale daily until 8 PM on Friday. \nDrawing at 8:30 PM on Friday
URL:https://www.gapost233.com/event/find-old-glory-2-2/2030-03-01/
LOCATION:GA Post233-Patriot’s Grill\, 4635 Highway 78\, Loganville\, GA\, 30052
END:VEVENT
BEGIN:VEVENT
DTSTART;TZID=America/New_York:20300308T180000
DTEND;TZID=America/New_York:20300308T213000
DTSTAMP:20260422T225322
CREATED:20240521T183946Z
LAST-MODIFIED:20240521T183947Z
UID:10006098-1899223200-1899235800@www.gapost233.com
SUMMARY:Find Old Glory
DESCRIPTION:Buy Tickets! $2 each\, 3 for $5 or 6 for $10. \nTickets on sale daily until 8 PM on Friday. \nDrawing at 8:30 PM on Friday
URL:https://www.gapost233.com/event/find-old-glory-2-2/2030-03-08/
LOCATION:GA Post233-Patriot’s Grill\, 4635 Highway 78\, Loganville\, GA\, 30052
END:VEVENT
BEGIN:VEVENT
DTSTART;TZID=America/New_York:20300315T180000
DTEND;TZID=America/New_York:20300315T213000
DTSTAMP:20260422T225322
CREATED:20240521T183946Z
LAST-MODIFIED:20240521T183947Z
UID:10006099-1899828000-1899840600@www.gapost233.com
SUMMARY:Find Old Glory
DESCRIPTION:Buy Tickets! $2 each\, 3 for $5 or 6 for $10. \nTickets on sale daily until 8 PM on Friday. \nDrawing at 8:30 PM on Friday
URL:https://www.gapost233.com/event/find-old-glory-2-2/2030-03-15/
LOCATION:GA Post233-Patriot’s Grill\, 4635 Highway 78\, Loganville\, GA\, 30052
END:VEVENT
BEGIN:VEVENT
DTSTART;TZID=America/New_York:20300322T180000
DTEND;TZID=America/New_York:20300322T213000
DTSTAMP:20260422T225322
CREATED:20240521T183946Z
LAST-MODIFIED:20240521T183947Z
UID:10006100-1900432800-1900445400@www.gapost233.com
SUMMARY:Find Old Glory
DESCRIPTION:Buy Tickets! $2 each\, 3 for $5 or 6 for $10. \nTickets on sale daily until 8 PM on Friday. \nDrawing at 8:30 PM on Friday
URL:https://www.gapost233.com/event/find-old-glory-2-2/2030-03-22/
LOCATION:GA Post233-Patriot’s Grill\, 4635 Highway 78\, Loganville\, GA\, 30052
END:VEVENT
BEGIN:VEVENT
DTSTART;TZID=America/New_York:20300329T180000
DTEND;TZID=America/New_York:20300329T213000
DTSTAMP:20260422T225322
CREATED:20240521T183946Z
LAST-MODIFIED:20240521T183947Z
UID:10006101-1901037600-1901050200@www.gapost233.com
SUMMARY:Find Old Glory
DESCRIPTION:Buy Tickets! $2 each\, 3 for $5 or 6 for $10. \nTickets on sale daily until 8 PM on Friday. \nDrawing at 8:30 PM on Friday
URL:https://www.gapost233.com/event/find-old-glory-2-2/2030-03-29/
LOCATION:GA Post233-Patriot’s Grill\, 4635 Highway 78\, Loganville\, GA\, 30052
END:VEVENT
BEGIN:VEVENT
DTSTART;TZID=America/New_York:20300405T180000
DTEND;TZID=America/New_York:20300405T213000
DTSTAMP:20260422T225322
CREATED:20240521T183946Z
LAST-MODIFIED:20240521T183947Z
UID:10006102-1901642400-1901655000@www.gapost233.com
SUMMARY:Find Old Glory
DESCRIPTION:Buy Tickets! $2 each\, 3 for $5 or 6 for $10. \nTickets on sale daily until 8 PM on Friday. \nDrawing at 8:30 PM on Friday
URL:https://www.gapost233.com/event/find-old-glory-2-2/2030-04-05/
LOCATION:GA Post233-Patriot’s Grill\, 4635 Highway 78\, Loganville\, GA\, 30052
END:VEVENT
BEGIN:VEVENT
DTSTART;TZID=America/New_York:20300412T180000
DTEND;TZID=America/New_York:20300412T213000
DTSTAMP:20260422T225322
CREATED:20240521T183946Z
LAST-MODIFIED:20240521T183947Z
UID:10006103-1902247200-1902259800@www.gapost233.com
SUMMARY:Find Old Glory
DESCRIPTION:Buy Tickets! $2 each\, 3 for $5 or 6 for $10. \nTickets on sale daily until 8 PM on Friday. \nDrawing at 8:30 PM on Friday
URL:https://www.gapost233.com/event/find-old-glory-2-2/2030-04-12/
LOCATION:GA Post233-Patriot’s Grill\, 4635 Highway 78\, Loganville\, GA\, 30052
END:VEVENT
BEGIN:VEVENT
DTSTART;TZID=America/New_York:20300419T180000
DTEND;TZID=America/New_York:20300419T213000
DTSTAMP:20260422T225322
CREATED:20240521T183946Z
LAST-MODIFIED:20240521T183947Z
UID:10006104-1902852000-1902864600@www.gapost233.com
SUMMARY:Find Old Glory
DESCRIPTION:Buy Tickets! $2 each\, 3 for $5 or 6 for $10. \nTickets on sale daily until 8 PM on Friday. \nDrawing at 8:30 PM on Friday
URL:https://www.gapost233.com/event/find-old-glory-2-2/2030-04-19/
LOCATION:GA Post233-Patriot’s Grill\, 4635 Highway 78\, Loganville\, GA\, 30052
END:VEVENT
BEGIN:VEVENT
DTSTART;TZID=America/New_York:20300426T180000
DTEND;TZID=America/New_York:20300426T213000
DTSTAMP:20260422T225322
CREATED:20240521T183946Z
LAST-MODIFIED:20240521T183947Z
UID:10006105-1903456800-1903469400@www.gapost233.com
SUMMARY:Find Old Glory
DESCRIPTION:Buy Tickets! $2 each\, 3 for $5 or 6 for $10. \nTickets on sale daily until 8 PM on Friday. \nDrawing at 8:30 PM on Friday
URL:https://www.gapost233.com/event/find-old-glory-2-2/2030-04-26/
LOCATION:GA Post233-Patriot’s Grill\, 4635 Highway 78\, Loganville\, GA\, 30052
END:VEVENT
END:VCALENDAR