BEGIN:VCALENDAR
VERSION:2.0
PRODID:-//AMERICAN LEGION POST 233 - ECPv6.10.1.1//NONSGML v1.0//EN
CALSCALE:GREGORIAN
METHOD:PUBLISH
X-ORIGINAL-URL:https://www.gapost233.com
X-WR-CALDESC:Events for AMERICAN LEGION POST 233
REFRESH-INTERVAL;VALUE=DURATION:PT1H
X-Robots-Tag:noindex
X-PUBLISHED-TTL:PT1H
BEGIN:VTIMEZONE
TZID:America/New_York
BEGIN:DAYLIGHT
TZOFFSETFROM:-0500
TZOFFSETTO:-0400
TZNAME:EDT
DTSTART:20250309T070000
END:DAYLIGHT
BEGIN:STANDARD
TZOFFSETFROM:-0400
TZOFFSETTO:-0500
TZNAME:EST
DTSTART:20251102T060000
END:STANDARD
END:VTIMEZONE
BEGIN:VEVENT
DTSTART;TZID=America/New_York:20250930T080000
DTEND;TZID=America/New_York:20250930T170000
DTSTAMP:20260422T222005
CREATED:20250927T204511Z
LAST-MODIFIED:20250927T204511Z
UID:10006018-1759219200-1759251600@www.gapost233.com
SUMMARY:Charity Golf Tournament
DESCRIPTION:http://www.gapost233.com/wp-content/uploads/2025/09/Golf-Tournament-revised-2-1.mp4
URL:https://www.gapost233.com/event/charity-golf-tournament/2025-09-30/2/
LOCATION:Providence Golf Club\, 656 Providence Club DR\, Monroe
END:VEVENT
BEGIN:VEVENT
DTSTART;TZID=America/New_York:20250930T073000
DTEND;TZID=America/New_York:20250930T180000
DTSTAMP:20260422T222005
CREATED:20250927T204511Z
LAST-MODIFIED:20250927T204511Z
UID:10006017-1759217400-1759255200@www.gapost233.com
SUMMARY:Charity Golf Tournament
DESCRIPTION:http://www.gapost233.com/wp-content/uploads/2025/09/Golf-Tournament-revised-2-1.mp4
URL:https://www.gapost233.com/event/charity-golf-tournament/2025-09-30/1/
LOCATION:Providence Golf Club\, 656 Providence Club DR\, Monroe
END:VEVENT
END:VCALENDAR