BEGIN:VCALENDAR
VERSION:2.0
PRODID:-//AMERICAN LEGION POST 233 - ECPv6.10.1.1//NONSGML v1.0//EN
CALSCALE:GREGORIAN
METHOD:PUBLISH
X-ORIGINAL-URL:https://www.gapost233.com
X-WR-CALDESC:Events for AMERICAN LEGION POST 233
REFRESH-INTERVAL;VALUE=DURATION:PT1H
X-Robots-Tag:noindex
X-PUBLISHED-TTL:PT1H
BEGIN:VTIMEZONE
TZID:America/New_York
BEGIN:DAYLIGHT
TZOFFSETFROM:-0500
TZOFFSETTO:-0400
TZNAME:EDT
DTSTART:20270314T070000
END:DAYLIGHT
BEGIN:STANDARD
TZOFFSETFROM:-0400
TZOFFSETTO:-0500
TZNAME:EST
DTSTART:20271107T060000
END:STANDARD
END:VTIMEZONE
BEGIN:VEVENT
DTSTART;TZID=America/New_York:20270422T170000
DTEND;TZID=America/New_York:20270422T213000
DTSTAMP:20260423T052937
CREATED:20260310T151412Z
LAST-MODIFIED:20260310T151746Z
UID:10005059-1808413200-1808429400@www.gapost233.com
SUMMARY:BINGO Night
DESCRIPTION:Doors OPEN at  5 pm\, \nRaffle Games \nBINGO at 7:30 PM  FIRST BALL \nMinimum $15 buy-in\, must be 8 years or older to attend.
URL:https://www.gapost233.com/event/bingo-night-5/2027-04-22/
LOCATION:Post 233 Main Hall\, 4635 U.S. 78\, Loganville\, GA\, 30052\, United States
GEO:33.8337745;-83.8911131
X-APPLE-STRUCTURED-LOCATION;VALUE=URI;X-ADDRESS=Post 233 Main Hall 4635 U.S. 78 Loganville GA 30052 United States;X-APPLE-RADIUS=500;X-TITLE=4635 U.S. 78:geo:-83.8911131,33.8337745
END:VEVENT
BEGIN:VEVENT
DTSTART;TZID=America/New_York:20270426T170000
DTEND;TZID=America/New_York:20270426T213000
DTSTAMP:20260423T052937
CREATED:20260310T151412Z
LAST-MODIFIED:20260310T151746Z
UID:10006509-1808758800-1808775000@www.gapost233.com
SUMMARY:BINGO Night
DESCRIPTION:Doors OPEN at  5 pm\, \nRaffle Games \nBINGO at 7:30 PM  FIRST BALL \nMinimum $15 buy-in\, must be 8 years or older to attend.
URL:https://www.gapost233.com/event/bingo-night-5/2027-04-26/
LOCATION:Post 233 Main Hall\, 4635 U.S. 78\, Loganville\, GA\, 30052\, United States
GEO:33.8337745;-83.8911131
X-APPLE-STRUCTURED-LOCATION;VALUE=URI;X-ADDRESS=Post 233 Main Hall 4635 U.S. 78 Loganville GA 30052 United States;X-APPLE-RADIUS=500;X-TITLE=4635 U.S. 78:geo:-83.8911131,33.8337745
END:VEVENT
BEGIN:VEVENT
DTSTART;TZID=America/New_York:20270428T170000
DTEND;TZID=America/New_York:20270428T213000
DTSTAMP:20260423T052937
CREATED:20260310T151412Z
LAST-MODIFIED:20260310T151746Z
UID:10006510-1808931600-1808947800@www.gapost233.com
SUMMARY:BINGO Night
DESCRIPTION:Doors OPEN at  5 pm\, \nRaffle Games \nBINGO at 7:30 PM  FIRST BALL \nMinimum $15 buy-in\, must be 8 years or older to attend.
URL:https://www.gapost233.com/event/bingo-night-5/2027-04-28/
LOCATION:Post 233 Main Hall\, 4635 U.S. 78\, Loganville\, GA\, 30052\, United States
GEO:33.8337745;-83.8911131
X-APPLE-STRUCTURED-LOCATION;VALUE=URI;X-ADDRESS=Post 233 Main Hall 4635 U.S. 78 Loganville GA 30052 United States;X-APPLE-RADIUS=500;X-TITLE=4635 U.S. 78:geo:-83.8911131,33.8337745
END:VEVENT
BEGIN:VEVENT
DTSTART;TZID=America/New_York:20270429T170000
DTEND;TZID=America/New_York:20270429T213000
DTSTAMP:20260423T052937
CREATED:20260310T151412Z
LAST-MODIFIED:20260310T151746Z
UID:10005060-1809018000-1809034200@www.gapost233.com
SUMMARY:BINGO Night
DESCRIPTION:Doors OPEN at  5 pm\, \nRaffle Games \nBINGO at 7:30 PM  FIRST BALL \nMinimum $15 buy-in\, must be 8 years or older to attend.
URL:https://www.gapost233.com/event/bingo-night-5/2027-04-29/
LOCATION:Post 233 Main Hall\, 4635 U.S. 78\, Loganville\, GA\, 30052\, United States
GEO:33.8337745;-83.8911131
X-APPLE-STRUCTURED-LOCATION;VALUE=URI;X-ADDRESS=Post 233 Main Hall 4635 U.S. 78 Loganville GA 30052 United States;X-APPLE-RADIUS=500;X-TITLE=4635 U.S. 78:geo:-83.8911131,33.8337745
END:VEVENT
BEGIN:VEVENT
DTSTART;TZID=America/New_York:20270503T170000
DTEND;TZID=America/New_York:20270503T213000
DTSTAMP:20260423T052937
CREATED:20260310T151412Z
LAST-MODIFIED:20260310T151746Z
UID:10006511-1809363600-1809379800@www.gapost233.com
SUMMARY:BINGO Night
DESCRIPTION:Doors OPEN at  5 pm\, \nRaffle Games \nBINGO at 7:30 PM  FIRST BALL \nMinimum $15 buy-in\, must be 8 years or older to attend.
URL:https://www.gapost233.com/event/bingo-night-5/2027-05-03/
LOCATION:Post 233 Main Hall\, 4635 U.S. 78\, Loganville\, GA\, 30052\, United States
GEO:33.8337745;-83.8911131
X-APPLE-STRUCTURED-LOCATION;VALUE=URI;X-ADDRESS=Post 233 Main Hall 4635 U.S. 78 Loganville GA 30052 United States;X-APPLE-RADIUS=500;X-TITLE=4635 U.S. 78:geo:-83.8911131,33.8337745
END:VEVENT
BEGIN:VEVENT
DTSTART;TZID=America/New_York:20270505T170000
DTEND;TZID=America/New_York:20270505T213000
DTSTAMP:20260423T052937
CREATED:20260310T151412Z
LAST-MODIFIED:20260310T151746Z
UID:10006512-1809536400-1809552600@www.gapost233.com
SUMMARY:BINGO Night
DESCRIPTION:Doors OPEN at  5 pm\, \nRaffle Games \nBINGO at 7:30 PM  FIRST BALL \nMinimum $15 buy-in\, must be 8 years or older to attend.
URL:https://www.gapost233.com/event/bingo-night-5/2027-05-05/
LOCATION:Post 233 Main Hall\, 4635 U.S. 78\, Loganville\, GA\, 30052\, United States
GEO:33.8337745;-83.8911131
X-APPLE-STRUCTURED-LOCATION;VALUE=URI;X-ADDRESS=Post 233 Main Hall 4635 U.S. 78 Loganville GA 30052 United States;X-APPLE-RADIUS=500;X-TITLE=4635 U.S. 78:geo:-83.8911131,33.8337745
END:VEVENT
BEGIN:VEVENT
DTSTART;TZID=America/New_York:20270506T170000
DTEND;TZID=America/New_York:20270506T213000
DTSTAMP:20260423T052937
CREATED:20260310T151412Z
LAST-MODIFIED:20260310T151746Z
UID:10005061-1809622800-1809639000@www.gapost233.com
SUMMARY:BINGO Night
DESCRIPTION:Doors OPEN at  5 pm\, \nRaffle Games \nBINGO at 7:30 PM  FIRST BALL \nMinimum $15 buy-in\, must be 8 years or older to attend.
URL:https://www.gapost233.com/event/bingo-night-5/2027-05-06/
LOCATION:Post 233 Main Hall\, 4635 U.S. 78\, Loganville\, GA\, 30052\, United States
GEO:33.8337745;-83.8911131
X-APPLE-STRUCTURED-LOCATION;VALUE=URI;X-ADDRESS=Post 233 Main Hall 4635 U.S. 78 Loganville GA 30052 United States;X-APPLE-RADIUS=500;X-TITLE=4635 U.S. 78:geo:-83.8911131,33.8337745
END:VEVENT
BEGIN:VEVENT
DTSTART;TZID=America/New_York:20270510T170000
DTEND;TZID=America/New_York:20270510T213000
DTSTAMP:20260423T052937
CREATED:20260310T151412Z
LAST-MODIFIED:20260310T151746Z
UID:10006513-1809968400-1809984600@www.gapost233.com
SUMMARY:BINGO Night
DESCRIPTION:Doors OPEN at  5 pm\, \nRaffle Games \nBINGO at 7:30 PM  FIRST BALL \nMinimum $15 buy-in\, must be 8 years or older to attend.
URL:https://www.gapost233.com/event/bingo-night-5/2027-05-10/
LOCATION:Post 233 Main Hall\, 4635 U.S. 78\, Loganville\, GA\, 30052\, United States
GEO:33.8337745;-83.8911131
X-APPLE-STRUCTURED-LOCATION;VALUE=URI;X-ADDRESS=Post 233 Main Hall 4635 U.S. 78 Loganville GA 30052 United States;X-APPLE-RADIUS=500;X-TITLE=4635 U.S. 78:geo:-83.8911131,33.8337745
END:VEVENT
BEGIN:VEVENT
DTSTART;TZID=America/New_York:20270512T170000
DTEND;TZID=America/New_York:20270512T213000
DTSTAMP:20260423T052937
CREATED:20260310T151412Z
LAST-MODIFIED:20260310T151746Z
UID:10006514-1810141200-1810157400@www.gapost233.com
SUMMARY:BINGO Night
DESCRIPTION:Doors OPEN at  5 pm\, \nRaffle Games \nBINGO at 7:30 PM  FIRST BALL \nMinimum $15 buy-in\, must be 8 years or older to attend.
URL:https://www.gapost233.com/event/bingo-night-5/2027-05-12/
LOCATION:Post 233 Main Hall\, 4635 U.S. 78\, Loganville\, GA\, 30052\, United States
GEO:33.8337745;-83.8911131
X-APPLE-STRUCTURED-LOCATION;VALUE=URI;X-ADDRESS=Post 233 Main Hall 4635 U.S. 78 Loganville GA 30052 United States;X-APPLE-RADIUS=500;X-TITLE=4635 U.S. 78:geo:-83.8911131,33.8337745
END:VEVENT
BEGIN:VEVENT
DTSTART;TZID=America/New_York:20270513T170000
DTEND;TZID=America/New_York:20270513T213000
DTSTAMP:20260423T052937
CREATED:20260310T151412Z
LAST-MODIFIED:20260310T151746Z
UID:10005062-1810227600-1810243800@www.gapost233.com
SUMMARY:BINGO Night
DESCRIPTION:Doors OPEN at  5 pm\, \nRaffle Games \nBINGO at 7:30 PM  FIRST BALL \nMinimum $15 buy-in\, must be 8 years or older to attend.
URL:https://www.gapost233.com/event/bingo-night-5/2027-05-13/
LOCATION:Post 233 Main Hall\, 4635 U.S. 78\, Loganville\, GA\, 30052\, United States
GEO:33.8337745;-83.8911131
X-APPLE-STRUCTURED-LOCATION;VALUE=URI;X-ADDRESS=Post 233 Main Hall 4635 U.S. 78 Loganville GA 30052 United States;X-APPLE-RADIUS=500;X-TITLE=4635 U.S. 78:geo:-83.8911131,33.8337745
END:VEVENT
BEGIN:VEVENT
DTSTART;TZID=America/New_York:20270517T170000
DTEND;TZID=America/New_York:20270517T213000
DTSTAMP:20260423T052937
CREATED:20260310T151412Z
LAST-MODIFIED:20260310T151746Z
UID:10006515-1810573200-1810589400@www.gapost233.com
SUMMARY:BINGO Night
DESCRIPTION:Doors OPEN at  5 pm\, \nRaffle Games \nBINGO at 7:30 PM  FIRST BALL \nMinimum $15 buy-in\, must be 8 years or older to attend.
URL:https://www.gapost233.com/event/bingo-night-5/2027-05-17/
LOCATION:Post 233 Main Hall\, 4635 U.S. 78\, Loganville\, GA\, 30052\, United States
GEO:33.8337745;-83.8911131
X-APPLE-STRUCTURED-LOCATION;VALUE=URI;X-ADDRESS=Post 233 Main Hall 4635 U.S. 78 Loganville GA 30052 United States;X-APPLE-RADIUS=500;X-TITLE=4635 U.S. 78:geo:-83.8911131,33.8337745
END:VEVENT
BEGIN:VEVENT
DTSTART;TZID=America/New_York:20270519T170000
DTEND;TZID=America/New_York:20270519T213000
DTSTAMP:20260423T052937
CREATED:20260310T151412Z
LAST-MODIFIED:20260310T151746Z
UID:10006516-1810746000-1810762200@www.gapost233.com
SUMMARY:BINGO Night
DESCRIPTION:Doors OPEN at  5 pm\, \nRaffle Games \nBINGO at 7:30 PM  FIRST BALL \nMinimum $15 buy-in\, must be 8 years or older to attend.
URL:https://www.gapost233.com/event/bingo-night-5/2027-05-19/
LOCATION:Post 233 Main Hall\, 4635 U.S. 78\, Loganville\, GA\, 30052\, United States
GEO:33.8337745;-83.8911131
X-APPLE-STRUCTURED-LOCATION;VALUE=URI;X-ADDRESS=Post 233 Main Hall 4635 U.S. 78 Loganville GA 30052 United States;X-APPLE-RADIUS=500;X-TITLE=4635 U.S. 78:geo:-83.8911131,33.8337745
END:VEVENT
BEGIN:VEVENT
DTSTART;TZID=America/New_York:20270520T170000
DTEND;TZID=America/New_York:20270520T213000
DTSTAMP:20260423T052937
CREATED:20260310T151412Z
LAST-MODIFIED:20260310T151746Z
UID:10005063-1810832400-1810848600@www.gapost233.com
SUMMARY:BINGO Night
DESCRIPTION:Doors OPEN at  5 pm\, \nRaffle Games \nBINGO at 7:30 PM  FIRST BALL \nMinimum $15 buy-in\, must be 8 years or older to attend.
URL:https://www.gapost233.com/event/bingo-night-5/2027-05-20/
LOCATION:Post 233 Main Hall\, 4635 U.S. 78\, Loganville\, GA\, 30052\, United States
GEO:33.8337745;-83.8911131
X-APPLE-STRUCTURED-LOCATION;VALUE=URI;X-ADDRESS=Post 233 Main Hall 4635 U.S. 78 Loganville GA 30052 United States;X-APPLE-RADIUS=500;X-TITLE=4635 U.S. 78:geo:-83.8911131,33.8337745
END:VEVENT
BEGIN:VEVENT
DTSTART;TZID=America/New_York:20270524T170000
DTEND;TZID=America/New_York:20270524T213000
DTSTAMP:20260423T052937
CREATED:20260310T151412Z
LAST-MODIFIED:20260310T151746Z
UID:10006517-1811178000-1811194200@www.gapost233.com
SUMMARY:BINGO Night
DESCRIPTION:Doors OPEN at  5 pm\, \nRaffle Games \nBINGO at 7:30 PM  FIRST BALL \nMinimum $15 buy-in\, must be 8 years or older to attend.
URL:https://www.gapost233.com/event/bingo-night-5/2027-05-24/
LOCATION:Post 233 Main Hall\, 4635 U.S. 78\, Loganville\, GA\, 30052\, United States
GEO:33.8337745;-83.8911131
X-APPLE-STRUCTURED-LOCATION;VALUE=URI;X-ADDRESS=Post 233 Main Hall 4635 U.S. 78 Loganville GA 30052 United States;X-APPLE-RADIUS=500;X-TITLE=4635 U.S. 78:geo:-83.8911131,33.8337745
END:VEVENT
BEGIN:VEVENT
DTSTART;TZID=America/New_York:20270526T170000
DTEND;TZID=America/New_York:20270526T213000
DTSTAMP:20260423T052937
CREATED:20260310T151412Z
LAST-MODIFIED:20260310T151746Z
UID:10006518-1811350800-1811367000@www.gapost233.com
SUMMARY:BINGO Night
DESCRIPTION:Doors OPEN at  5 pm\, \nRaffle Games \nBINGO at 7:30 PM  FIRST BALL \nMinimum $15 buy-in\, must be 8 years or older to attend.
URL:https://www.gapost233.com/event/bingo-night-5/2027-05-26/
LOCATION:Post 233 Main Hall\, 4635 U.S. 78\, Loganville\, GA\, 30052\, United States
GEO:33.8337745;-83.8911131
X-APPLE-STRUCTURED-LOCATION;VALUE=URI;X-ADDRESS=Post 233 Main Hall 4635 U.S. 78 Loganville GA 30052 United States;X-APPLE-RADIUS=500;X-TITLE=4635 U.S. 78:geo:-83.8911131,33.8337745
END:VEVENT
BEGIN:VEVENT
DTSTART;TZID=America/New_York:20270527T170000
DTEND;TZID=America/New_York:20270527T213000
DTSTAMP:20260423T052937
CREATED:20260310T151412Z
LAST-MODIFIED:20260310T151746Z
UID:10005064-1811437200-1811453400@www.gapost233.com
SUMMARY:BINGO Night
DESCRIPTION:Doors OPEN at  5 pm\, \nRaffle Games \nBINGO at 7:30 PM  FIRST BALL \nMinimum $15 buy-in\, must be 8 years or older to attend.
URL:https://www.gapost233.com/event/bingo-night-5/2027-05-27/
LOCATION:Post 233 Main Hall\, 4635 U.S. 78\, Loganville\, GA\, 30052\, United States
GEO:33.8337745;-83.8911131
X-APPLE-STRUCTURED-LOCATION;VALUE=URI;X-ADDRESS=Post 233 Main Hall 4635 U.S. 78 Loganville GA 30052 United States;X-APPLE-RADIUS=500;X-TITLE=4635 U.S. 78:geo:-83.8911131,33.8337745
END:VEVENT
BEGIN:VEVENT
DTSTART;TZID=America/New_York:20270531T170000
DTEND;TZID=America/New_York:20270531T213000
DTSTAMP:20260423T052937
CREATED:20260310T151412Z
LAST-MODIFIED:20260310T151746Z
UID:10006519-1811782800-1811799000@www.gapost233.com
SUMMARY:BINGO Night
DESCRIPTION:Doors OPEN at  5 pm\, \nRaffle Games \nBINGO at 7:30 PM  FIRST BALL \nMinimum $15 buy-in\, must be 8 years or older to attend.
URL:https://www.gapost233.com/event/bingo-night-5/2027-05-31/
LOCATION:Post 233 Main Hall\, 4635 U.S. 78\, Loganville\, GA\, 30052\, United States
GEO:33.8337745;-83.8911131
X-APPLE-STRUCTURED-LOCATION;VALUE=URI;X-ADDRESS=Post 233 Main Hall 4635 U.S. 78 Loganville GA 30052 United States;X-APPLE-RADIUS=500;X-TITLE=4635 U.S. 78:geo:-83.8911131,33.8337745
END:VEVENT
BEGIN:VEVENT
DTSTART;TZID=America/New_York:20270602T170000
DTEND;TZID=America/New_York:20270602T213000
DTSTAMP:20260423T052937
CREATED:20260310T151412Z
LAST-MODIFIED:20260310T151746Z
UID:10006520-1811955600-1811971800@www.gapost233.com
SUMMARY:BINGO Night
DESCRIPTION:Doors OPEN at  5 pm\, \nRaffle Games \nBINGO at 7:30 PM  FIRST BALL \nMinimum $15 buy-in\, must be 8 years or older to attend.
URL:https://www.gapost233.com/event/bingo-night-5/2027-06-02/
LOCATION:Post 233 Main Hall\, 4635 U.S. 78\, Loganville\, GA\, 30052\, United States
GEO:33.8337745;-83.8911131
X-APPLE-STRUCTURED-LOCATION;VALUE=URI;X-ADDRESS=Post 233 Main Hall 4635 U.S. 78 Loganville GA 30052 United States;X-APPLE-RADIUS=500;X-TITLE=4635 U.S. 78:geo:-83.8911131,33.8337745
END:VEVENT
BEGIN:VEVENT
DTSTART;TZID=America/New_York:20270603T170000
DTEND;TZID=America/New_York:20270603T213000
DTSTAMP:20260423T052937
CREATED:20260310T151412Z
LAST-MODIFIED:20260310T151746Z
UID:10005065-1812042000-1812058200@www.gapost233.com
SUMMARY:BINGO Night
DESCRIPTION:Doors OPEN at  5 pm\, \nRaffle Games \nBINGO at 7:30 PM  FIRST BALL \nMinimum $15 buy-in\, must be 8 years or older to attend.
URL:https://www.gapost233.com/event/bingo-night-5/2027-06-03/
LOCATION:Post 233 Main Hall\, 4635 U.S. 78\, Loganville\, GA\, 30052\, United States
GEO:33.8337745;-83.8911131
X-APPLE-STRUCTURED-LOCATION;VALUE=URI;X-ADDRESS=Post 233 Main Hall 4635 U.S. 78 Loganville GA 30052 United States;X-APPLE-RADIUS=500;X-TITLE=4635 U.S. 78:geo:-83.8911131,33.8337745
END:VEVENT
BEGIN:VEVENT
DTSTART;TZID=America/New_York:20270607T170000
DTEND;TZID=America/New_York:20270607T213000
DTSTAMP:20260423T052937
CREATED:20260310T151412Z
LAST-MODIFIED:20260310T151746Z
UID:10006521-1812387600-1812403800@www.gapost233.com
SUMMARY:BINGO Night
DESCRIPTION:Doors OPEN at  5 pm\, \nRaffle Games \nBINGO at 7:30 PM  FIRST BALL \nMinimum $15 buy-in\, must be 8 years or older to attend.
URL:https://www.gapost233.com/event/bingo-night-5/2027-06-07/
LOCATION:Post 233 Main Hall\, 4635 U.S. 78\, Loganville\, GA\, 30052\, United States
GEO:33.8337745;-83.8911131
X-APPLE-STRUCTURED-LOCATION;VALUE=URI;X-ADDRESS=Post 233 Main Hall 4635 U.S. 78 Loganville GA 30052 United States;X-APPLE-RADIUS=500;X-TITLE=4635 U.S. 78:geo:-83.8911131,33.8337745
END:VEVENT
BEGIN:VEVENT
DTSTART;TZID=America/New_York:20270609T170000
DTEND;TZID=America/New_York:20270609T213000
DTSTAMP:20260423T052937
CREATED:20260310T151412Z
LAST-MODIFIED:20260310T151746Z
UID:10006522-1812560400-1812576600@www.gapost233.com
SUMMARY:BINGO Night
DESCRIPTION:Doors OPEN at  5 pm\, \nRaffle Games \nBINGO at 7:30 PM  FIRST BALL \nMinimum $15 buy-in\, must be 8 years or older to attend.
URL:https://www.gapost233.com/event/bingo-night-5/2027-06-09/
LOCATION:Post 233 Main Hall\, 4635 U.S. 78\, Loganville\, GA\, 30052\, United States
GEO:33.8337745;-83.8911131
X-APPLE-STRUCTURED-LOCATION;VALUE=URI;X-ADDRESS=Post 233 Main Hall 4635 U.S. 78 Loganville GA 30052 United States;X-APPLE-RADIUS=500;X-TITLE=4635 U.S. 78:geo:-83.8911131,33.8337745
END:VEVENT
BEGIN:VEVENT
DTSTART;TZID=America/New_York:20270610T170000
DTEND;TZID=America/New_York:20270610T213000
DTSTAMP:20260423T052937
CREATED:20260310T151412Z
LAST-MODIFIED:20260310T151746Z
UID:10005066-1812646800-1812663000@www.gapost233.com
SUMMARY:BINGO Night
DESCRIPTION:Doors OPEN at  5 pm\, \nRaffle Games \nBINGO at 7:30 PM  FIRST BALL \nMinimum $15 buy-in\, must be 8 years or older to attend.
URL:https://www.gapost233.com/event/bingo-night-5/2027-06-10/
LOCATION:Post 233 Main Hall\, 4635 U.S. 78\, Loganville\, GA\, 30052\, United States
GEO:33.8337745;-83.8911131
X-APPLE-STRUCTURED-LOCATION;VALUE=URI;X-ADDRESS=Post 233 Main Hall 4635 U.S. 78 Loganville GA 30052 United States;X-APPLE-RADIUS=500;X-TITLE=4635 U.S. 78:geo:-83.8911131,33.8337745
END:VEVENT
BEGIN:VEVENT
DTSTART;TZID=America/New_York:20270614T170000
DTEND;TZID=America/New_York:20270614T213000
DTSTAMP:20260423T052937
CREATED:20260310T151412Z
LAST-MODIFIED:20260310T151746Z
UID:10006523-1812992400-1813008600@www.gapost233.com
SUMMARY:BINGO Night
DESCRIPTION:Doors OPEN at  5 pm\, \nRaffle Games \nBINGO at 7:30 PM  FIRST BALL \nMinimum $15 buy-in\, must be 8 years or older to attend.
URL:https://www.gapost233.com/event/bingo-night-5/2027-06-14/
LOCATION:Post 233 Main Hall\, 4635 U.S. 78\, Loganville\, GA\, 30052\, United States
GEO:33.8337745;-83.8911131
X-APPLE-STRUCTURED-LOCATION;VALUE=URI;X-ADDRESS=Post 233 Main Hall 4635 U.S. 78 Loganville GA 30052 United States;X-APPLE-RADIUS=500;X-TITLE=4635 U.S. 78:geo:-83.8911131,33.8337745
END:VEVENT
BEGIN:VEVENT
DTSTART;TZID=America/New_York:20270616T170000
DTEND;TZID=America/New_York:20270616T213000
DTSTAMP:20260423T052937
CREATED:20260310T151412Z
LAST-MODIFIED:20260310T151746Z
UID:10006524-1813165200-1813181400@www.gapost233.com
SUMMARY:BINGO Night
DESCRIPTION:Doors OPEN at  5 pm\, \nRaffle Games \nBINGO at 7:30 PM  FIRST BALL \nMinimum $15 buy-in\, must be 8 years or older to attend.
URL:https://www.gapost233.com/event/bingo-night-5/2027-06-16/
LOCATION:Post 233 Main Hall\, 4635 U.S. 78\, Loganville\, GA\, 30052\, United States
GEO:33.8337745;-83.8911131
X-APPLE-STRUCTURED-LOCATION;VALUE=URI;X-ADDRESS=Post 233 Main Hall 4635 U.S. 78 Loganville GA 30052 United States;X-APPLE-RADIUS=500;X-TITLE=4635 U.S. 78:geo:-83.8911131,33.8337745
END:VEVENT
BEGIN:VEVENT
DTSTART;TZID=America/New_York:20270617T170000
DTEND;TZID=America/New_York:20270617T213000
DTSTAMP:20260423T052937
CREATED:20260310T151412Z
LAST-MODIFIED:20260310T151746Z
UID:10005067-1813251600-1813267800@www.gapost233.com
SUMMARY:BINGO Night
DESCRIPTION:Doors OPEN at  5 pm\, \nRaffle Games \nBINGO at 7:30 PM  FIRST BALL \nMinimum $15 buy-in\, must be 8 years or older to attend.
URL:https://www.gapost233.com/event/bingo-night-5/2027-06-17/
LOCATION:Post 233 Main Hall\, 4635 U.S. 78\, Loganville\, GA\, 30052\, United States
GEO:33.8337745;-83.8911131
X-APPLE-STRUCTURED-LOCATION;VALUE=URI;X-ADDRESS=Post 233 Main Hall 4635 U.S. 78 Loganville GA 30052 United States;X-APPLE-RADIUS=500;X-TITLE=4635 U.S. 78:geo:-83.8911131,33.8337745
END:VEVENT
BEGIN:VEVENT
DTSTART;TZID=America/New_York:20270621T170000
DTEND;TZID=America/New_York:20270621T213000
DTSTAMP:20260423T052937
CREATED:20260310T151412Z
LAST-MODIFIED:20260310T151746Z
UID:10006525-1813597200-1813613400@www.gapost233.com
SUMMARY:BINGO Night
DESCRIPTION:Doors OPEN at  5 pm\, \nRaffle Games \nBINGO at 7:30 PM  FIRST BALL \nMinimum $15 buy-in\, must be 8 years or older to attend.
URL:https://www.gapost233.com/event/bingo-night-5/2027-06-21/
LOCATION:Post 233 Main Hall\, 4635 U.S. 78\, Loganville\, GA\, 30052\, United States
GEO:33.8337745;-83.8911131
X-APPLE-STRUCTURED-LOCATION;VALUE=URI;X-ADDRESS=Post 233 Main Hall 4635 U.S. 78 Loganville GA 30052 United States;X-APPLE-RADIUS=500;X-TITLE=4635 U.S. 78:geo:-83.8911131,33.8337745
END:VEVENT
BEGIN:VEVENT
DTSTART;TZID=America/New_York:20270623T170000
DTEND;TZID=America/New_York:20270623T213000
DTSTAMP:20260423T052937
CREATED:20260310T151412Z
LAST-MODIFIED:20260310T151746Z
UID:10006526-1813770000-1813786200@www.gapost233.com
SUMMARY:BINGO Night
DESCRIPTION:Doors OPEN at  5 pm\, \nRaffle Games \nBINGO at 7:30 PM  FIRST BALL \nMinimum $15 buy-in\, must be 8 years or older to attend.
URL:https://www.gapost233.com/event/bingo-night-5/2027-06-23/
LOCATION:Post 233 Main Hall\, 4635 U.S. 78\, Loganville\, GA\, 30052\, United States
GEO:33.8337745;-83.8911131
X-APPLE-STRUCTURED-LOCATION;VALUE=URI;X-ADDRESS=Post 233 Main Hall 4635 U.S. 78 Loganville GA 30052 United States;X-APPLE-RADIUS=500;X-TITLE=4635 U.S. 78:geo:-83.8911131,33.8337745
END:VEVENT
BEGIN:VEVENT
DTSTART;TZID=America/New_York:20270624T170000
DTEND;TZID=America/New_York:20270624T213000
DTSTAMP:20260423T052937
CREATED:20260310T151412Z
LAST-MODIFIED:20260310T151746Z
UID:10005068-1813856400-1813872600@www.gapost233.com
SUMMARY:BINGO Night
DESCRIPTION:Doors OPEN at  5 pm\, \nRaffle Games \nBINGO at 7:30 PM  FIRST BALL \nMinimum $15 buy-in\, must be 8 years or older to attend.
URL:https://www.gapost233.com/event/bingo-night-5/2027-06-24/
LOCATION:Post 233 Main Hall\, 4635 U.S. 78\, Loganville\, GA\, 30052\, United States
GEO:33.8337745;-83.8911131
X-APPLE-STRUCTURED-LOCATION;VALUE=URI;X-ADDRESS=Post 233 Main Hall 4635 U.S. 78 Loganville GA 30052 United States;X-APPLE-RADIUS=500;X-TITLE=4635 U.S. 78:geo:-83.8911131,33.8337745
END:VEVENT
BEGIN:VEVENT
DTSTART;TZID=America/New_York:20270628T170000
DTEND;TZID=America/New_York:20270628T213000
DTSTAMP:20260423T052937
CREATED:20260310T151412Z
LAST-MODIFIED:20260310T151746Z
UID:10006527-1814202000-1814218200@www.gapost233.com
SUMMARY:BINGO Night
DESCRIPTION:Doors OPEN at  5 pm\, \nRaffle Games \nBINGO at 7:30 PM  FIRST BALL \nMinimum $15 buy-in\, must be 8 years or older to attend.
URL:https://www.gapost233.com/event/bingo-night-5/2027-06-28/
LOCATION:Post 233 Main Hall\, 4635 U.S. 78\, Loganville\, GA\, 30052\, United States
GEO:33.8337745;-83.8911131
X-APPLE-STRUCTURED-LOCATION;VALUE=URI;X-ADDRESS=Post 233 Main Hall 4635 U.S. 78 Loganville GA 30052 United States;X-APPLE-RADIUS=500;X-TITLE=4635 U.S. 78:geo:-83.8911131,33.8337745
END:VEVENT
BEGIN:VEVENT
DTSTART;TZID=America/New_York:20270630T170000
DTEND;TZID=America/New_York:20270630T213000
DTSTAMP:20260423T052937
CREATED:20260310T151412Z
LAST-MODIFIED:20260310T151746Z
UID:10006528-1814374800-1814391000@www.gapost233.com
SUMMARY:BINGO Night
DESCRIPTION:Doors OPEN at  5 pm\, \nRaffle Games \nBINGO at 7:30 PM  FIRST BALL \nMinimum $15 buy-in\, must be 8 years or older to attend.
URL:https://www.gapost233.com/event/bingo-night-5/2027-06-30/
LOCATION:Post 233 Main Hall\, 4635 U.S. 78\, Loganville\, GA\, 30052\, United States
GEO:33.8337745;-83.8911131
X-APPLE-STRUCTURED-LOCATION;VALUE=URI;X-ADDRESS=Post 233 Main Hall 4635 U.S. 78 Loganville GA 30052 United States;X-APPLE-RADIUS=500;X-TITLE=4635 U.S. 78:geo:-83.8911131,33.8337745
END:VEVENT
END:VCALENDAR