BEGIN:VCALENDAR
VERSION:2.0
PRODID:-//AMERICAN LEGION POST 233 - ECPv6.10.1.1//NONSGML v1.0//EN
CALSCALE:GREGORIAN
METHOD:PUBLISH
X-WR-CALNAME:AMERICAN LEGION POST 233
X-ORIGINAL-URL:https://www.gapost233.com
X-WR-CALDESC:Events for AMERICAN LEGION POST 233
REFRESH-INTERVAL;VALUE=DURATION:PT1H
X-Robots-Tag:noindex
X-PUBLISHED-TTL:PT1H
BEGIN:VTIMEZONE
TZID:America/New_York
BEGIN:DAYLIGHT
TZOFFSETFROM:-0500
TZOFFSETTO:-0400
TZNAME:EDT
DTSTART:20230312T070000
END:DAYLIGHT
BEGIN:STANDARD
TZOFFSETFROM:-0400
TZOFFSETTO:-0500
TZNAME:EST
DTSTART:20231105T060000
END:STANDARD
BEGIN:DAYLIGHT
TZOFFSETFROM:-0500
TZOFFSETTO:-0400
TZNAME:EDT
DTSTART:20240310T070000
END:DAYLIGHT
BEGIN:STANDARD
TZOFFSETFROM:-0400
TZOFFSETTO:-0500
TZNAME:EST
DTSTART:20241103T060000
END:STANDARD
END:VTIMEZONE
BEGIN:VEVENT
DTSTART;TZID=America/New_York:20241207T090000
DTEND;TZID=America/New_York:20241207T150000
DTSTAMP:20260423T054125
CREATED:20241112T175443Z
LAST-MODIFIED:20241112T175443Z
UID:10004778-1733562000-1733583600@www.gapost233.com
SUMMARY:Christmas Craft Fair
DESCRIPTION:
URL:https://www.gapost233.com/event/christmas-craft-fair-5/
LOCATION:Post 233 Main Hall\, 4635 U.S. 78\, Loganville\, GA\, 30052\, United States
GEO:33.8337745;-83.8911131
X-APPLE-STRUCTURED-LOCATION;VALUE=URI;X-ADDRESS=Post 233 Main Hall 4635 U.S. 78 Loganville GA 30052 United States;X-APPLE-RADIUS=500;X-TITLE=4635 U.S. 78:geo:-83.8911131,33.8337745
END:VEVENT
BEGIN:VEVENT
DTSTART;TZID=America/New_York:20241114T100000
DTEND;TZID=America/New_York:20241114T150000
DTSTAMP:20260423T054125
CREATED:20231217T191354Z
LAST-MODIFIED:20241001T150111Z
UID:10004075-1731578400-1731596400@www.gapost233.com
SUMMARY:Donate Blood
DESCRIPTION:
URL:https://www.gapost233.com/event/donate-blood/
LOCATION:Post 233 Main Hall\, 4635 U.S. 78\, Loganville\, GA\, 30052\, United States
GEO:33.8337745;-83.8911131
X-APPLE-STRUCTURED-LOCATION;VALUE=URI;X-ADDRESS=Post 233 Main Hall 4635 U.S. 78 Loganville GA 30052 United States;X-APPLE-RADIUS=500;X-TITLE=4635 U.S. 78:geo:-83.8911131,33.8337745
END:VEVENT
BEGIN:VEVENT
DTSTART;TZID=America/New_York:20240527T193000
DTEND;TZID=America/New_York:20240527T213000
DTSTAMP:20260423T054125
CREATED:20240527T213129Z
LAST-MODIFIED:20240527T213241Z
UID:10001257-1716838200-1716845400@www.gapost233.com
SUMMARY:Cancelled BINGO Cancelled
DESCRIPTION:Come see us Wednesday for a bigger BINGO night
URL:https://www.gapost233.com/event/weekday-bingo-3/
LOCATION:Post 233 Main Hall\, 4635 U.S. 78\, Loganville\, GA\, 30052\, United States
GEO:33.8337745;-83.8911131
X-APPLE-STRUCTURED-LOCATION;VALUE=URI;X-ADDRESS=Post 233 Main Hall 4635 U.S. 78 Loganville GA 30052 United States;X-APPLE-RADIUS=500;X-TITLE=4635 U.S. 78:geo:-83.8911131,33.8337745
END:VEVENT
BEGIN:VEVENT
DTSTART;TZID=America/New_York:20240322T183000
DTEND;TZID=America/New_York:20240322T210000
DTSTAMP:20260423T054125
CREATED:20240309T182442Z
LAST-MODIFIED:20240309T182953Z
UID:10004446-1711132200-1711141200@www.gapost233.com
SUMMARY:Almost Home Cookin'
DESCRIPTION:Join Us for a Great Roast Pork Dinner
URL:https://www.gapost233.com/event/almost-home-cooking/
LOCATION:Post 233 Main Hall\, 4635 U.S. 78\, Loganville\, GA\, 30052\, United States
GEO:33.8337745;-83.8911131
X-APPLE-STRUCTURED-LOCATION;VALUE=URI;X-ADDRESS=Post 233 Main Hall 4635 U.S. 78 Loganville GA 30052 United States;X-APPLE-RADIUS=500;X-TITLE=4635 U.S. 78:geo:-83.8911131,33.8337745
END:VEVENT
BEGIN:VEVENT
DTSTART;TZID=America/New_York:20240309T170000
DTEND;TZID=America/New_York:20240309T200000
DTSTAMP:20260423T054125
CREATED:20240209T160228Z
LAST-MODIFIED:20240209T161942Z
UID:10004445-1710003600-1710014400@www.gapost233.com
SUMMARY:Spaghetti Night
DESCRIPTION:
URL:https://www.gapost233.com/event/spaghetti-night/
LOCATION:Post 233 Main Hall\, 4635 U.S. 78\, Loganville\, GA\, 30052\, United States
GEO:33.8337745;-83.8911131
X-APPLE-STRUCTURED-LOCATION;VALUE=URI;X-ADDRESS=Post 233 Main Hall 4635 U.S. 78 Loganville GA 30052 United States;X-APPLE-RADIUS=500;X-TITLE=4635 U.S. 78:geo:-83.8911131,33.8337745
END:VEVENT
BEGIN:VEVENT
DTSTART;TZID=America/New_York:20231215T090000
DTEND;TZID=America/New_York:20231215T150000
DTSTAMP:20260423T054125
CREATED:20231005T164645Z
LAST-MODIFIED:20231005T164829Z
UID:10004068-1702630800-1702652400@www.gapost233.com
SUMMARY:Kids Christmas Party
DESCRIPTION:
URL:https://www.gapost233.com/event/kids-christmas-party/
LOCATION:Post 233 Main Hall\, 4635 U.S. 78\, Loganville\, GA\, 30052\, United States
GEO:33.8337745;-83.8911131
X-APPLE-STRUCTURED-LOCATION;VALUE=URI;X-ADDRESS=Post 233 Main Hall 4635 U.S. 78 Loganville GA 30052 United States;X-APPLE-RADIUS=500;X-TITLE=4635 U.S. 78:geo:-83.8911131,33.8337745
END:VEVENT
BEGIN:VEVENT
DTSTART;TZID=America/New_York:20231202T090000
DTEND;TZID=America/New_York:20231202T150000
DTSTAMP:20260423T054125
CREATED:20231005T165245Z
LAST-MODIFIED:20231005T165245Z
UID:10004069-1701507600-1701529200@www.gapost233.com
SUMMARY:Christmas Craft Fair
DESCRIPTION:
URL:https://www.gapost233.com/event/christmas-craft-fair-4/
LOCATION:Post 233 Main Hall\, 4635 U.S. 78\, Loganville\, GA\, 30052\, United States
GEO:33.8337745;-83.8911131
X-APPLE-STRUCTURED-LOCATION;VALUE=URI;X-ADDRESS=Post 233 Main Hall 4635 U.S. 78 Loganville GA 30052 United States;X-APPLE-RADIUS=500;X-TITLE=4635 U.S. 78:geo:-83.8911131,33.8337745
END:VEVENT
BEGIN:VEVENT
DTSTART;TZID=America/New_York:20231202T090000
DTEND;TZID=America/New_York:20231202T150000
DTSTAMP:20260423T054125
CREATED:20230714T192605Z
LAST-MODIFIED:20230714T193513Z
UID:10004064-1701507600-1701529200@www.gapost233.com
SUMMARY:Christmas Craft Fair
DESCRIPTION:
URL:https://www.gapost233.com/event/winter-craft-fair/
LOCATION:Post 233 Main Hall\, 4635 U.S. 78\, Loganville\, GA\, 30052\, United States
GEO:33.8337745;-83.8911131
X-APPLE-STRUCTURED-LOCATION;VALUE=URI;X-ADDRESS=Post 233 Main Hall 4635 U.S. 78 Loganville GA 30052 United States;X-APPLE-RADIUS=500;X-TITLE=4635 U.S. 78:geo:-83.8911131,33.8337745
END:VEVENT
BEGIN:VEVENT
DTSTART;TZID=America/New_York:20231110T050000
DTEND;TZID=America/New_York:20231110T220000
DTSTAMP:20260423T054125
CREATED:20231013T153245Z
LAST-MODIFIED:20231013T153245Z
UID:10004071-1699592400-1699653600@www.gapost233.com
SUMMARY:Post 233 Anniversary Dinner
DESCRIPTION:
URL:https://www.gapost233.com/event/post-233-anniversary-dinner-2/
LOCATION:Post 233 Main Hall\, 4635 U.S. 78\, Loganville\, GA\, 30052\, United States
GEO:33.8337745;-83.8911131
X-APPLE-STRUCTURED-LOCATION;VALUE=URI;X-ADDRESS=Post 233 Main Hall 4635 U.S. 78 Loganville GA 30052 United States;X-APPLE-RADIUS=500;X-TITLE=4635 U.S. 78:geo:-83.8911131,33.8337745
END:VEVENT
BEGIN:VEVENT
DTSTART;TZID=America/New_York:20231027T190000
DTEND;TZID=America/New_York:20231027T220000
DTSTAMP:20260423T054125
CREATED:20231023T202407Z
LAST-MODIFIED:20231023T202612Z
UID:10004072-1698433200-1698444000@www.gapost233.com
SUMMARY:Fishy Friday and Music Bingo
DESCRIPTION:Join us for Fishy Friday and Music Bingo
URL:https://www.gapost233.com/event/fishy-friday-and-music-bingo/
LOCATION:Post 233 Main Hall\, 4635 U.S. 78\, Loganville\, GA\, 30052\, United States
GEO:33.8337745;-83.8911131
X-APPLE-STRUCTURED-LOCATION;VALUE=URI;X-ADDRESS=Post 233 Main Hall 4635 U.S. 78 Loganville GA 30052 United States;X-APPLE-RADIUS=500;X-TITLE=4635 U.S. 78:geo:-83.8911131,33.8337745
END:VEVENT
BEGIN:VEVENT
DTSTART;TZID=America/New_York:20230923T090000
DTEND;TZID=America/New_York:20230923T150000
DTSTAMP:20260423T054125
CREATED:20230714T192107Z
LAST-MODIFIED:20230828T142154Z
UID:10004063-1695459600-1695481200@www.gapost233.com
SUMMARY:Fall Craft Fair
DESCRIPTION:
URL:https://www.gapost233.com/event/fall-craft-fair-2/
LOCATION:Post 233 Main Hall\, 4635 U.S. 78\, Loganville\, GA\, 30052\, United States
GEO:33.8337745;-83.8911131
X-APPLE-STRUCTURED-LOCATION;VALUE=URI;X-ADDRESS=Post 233 Main Hall 4635 U.S. 78 Loganville GA 30052 United States;X-APPLE-RADIUS=500;X-TITLE=4635 U.S. 78:geo:-83.8911131,33.8337745
END:VEVENT
BEGIN:VEVENT
DTSTART;TZID=America/New_York:20230810T090000
DTEND;TZID=America/New_York:20230810T130000
DTSTAMP:20260423T054125
CREATED:20230715T144112Z
LAST-MODIFIED:20230715T144614Z
UID:10004065-1691658000-1691672400@www.gapost233.com
SUMMARY:AARP Smart Driver Course
DESCRIPTION:
URL:https://www.gapost233.com/event/13138/
LOCATION:Post 233 Main Hall\, 4635 U.S. 78\, Loganville\, GA\, 30052\, United States
GEO:33.8337745;-83.8911131
X-APPLE-STRUCTURED-LOCATION;VALUE=URI;X-ADDRESS=Post 233 Main Hall 4635 U.S. 78 Loganville GA 30052 United States;X-APPLE-RADIUS=500;X-TITLE=4635 U.S. 78:geo:-83.8911131,33.8337745
END:VEVENT
BEGIN:VEVENT
DTSTART;TZID=America/New_York:20230807T193000
DTEND;TZID=America/New_York:20230807T213000
DTSTAMP:20260423T054125
CREATED:20230807T143015Z
LAST-MODIFIED:20230807T143016Z
UID:10001131-1691436600-1691443800@www.gapost233.com
SUMMARY:CANCELLED!!! Weekday BINGO CANCELLED!!!
DESCRIPTION:NO BINGO 8/7/2023!!!\nThe National Weather Service is calling for heavy weather this afternoon into this evening with high winds. They are expecting tree damage and power outages. We will not have BINGO tonight so that our employees can avoid being on the road during dangerous conditions..
URL:https://www.gapost233.com/event/weekday-bingo-2-2/
LOCATION:Post 233 Main Hall\, 4635 U.S. 78\, Loganville\, GA\, 30052\, United States
GEO:33.8337745;-83.8911131
X-APPLE-STRUCTURED-LOCATION;VALUE=URI;X-ADDRESS=Post 233 Main Hall 4635 U.S. 78 Loganville GA 30052 United States;X-APPLE-RADIUS=500;X-TITLE=4635 U.S. 78:geo:-83.8911131,33.8337745
END:VEVENT
BEGIN:VEVENT
DTSTART;TZID=America/New_York:20230729T190000
DTEND;TZID=America/New_York:20230729T223000
DTSTAMP:20260423T054125
CREATED:20230707T155755Z
LAST-MODIFIED:20230715T150930Z
UID:10004062-1690657200-1690669800@www.gapost233.com
SUMMARY:Boot Scootin Boogie Dance!
DESCRIPTION:
URL:https://www.gapost233.com/event/boot-scootin/
LOCATION:Post 233 Main Hall\, 4635 U.S. 78\, Loganville\, GA\, 30052\, United States
GEO:33.8337745;-83.8911131
X-APPLE-STRUCTURED-LOCATION;VALUE=URI;X-ADDRESS=Post 233 Main Hall 4635 U.S. 78 Loganville GA 30052 United States;X-APPLE-RADIUS=500;X-TITLE=4635 U.S. 78:geo:-83.8911131,33.8337745
END:VEVENT
BEGIN:VEVENT
DTSTART;TZID=America/New_York:20230704T200000
DTEND;TZID=America/New_York:20230704T210000
DTSTAMP:20260423T054125
CREATED:20200810T223314Z
LAST-MODIFIED:20200810T223314Z
UID:10000162-1688500800-1688504400@www.gapost233.com
SUMMARY:Post 233 American Legion Meeting
DESCRIPTION:Our Monthly meeting!  A great time to find out what your local legion is up to!
URL:https://www.gapost233.com/event/post-233-american-legion-meeting/2023-07-04/
LOCATION:Post 233 Main Hall\, 4635 U.S. 78\, Loganville\, GA\, 30052\, United States
GEO:33.8337745;-83.8911131
X-APPLE-STRUCTURED-LOCATION;VALUE=URI;X-ADDRESS=Post 233 Main Hall 4635 U.S. 78 Loganville GA 30052 United States;X-APPLE-RADIUS=500;X-TITLE=4635 U.S. 78:geo:-83.8911131,33.8337745
END:VEVENT
BEGIN:VEVENT
DTSTART;TZID=America/New_York:20230606T200000
DTEND;TZID=America/New_York:20230606T210000
DTSTAMP:20260423T054125
CREATED:20200810T223314Z
LAST-MODIFIED:20200810T223314Z
UID:10000161-1686081600-1686085200@www.gapost233.com
SUMMARY:Post 233 American Legion Meeting
DESCRIPTION:Our Monthly meeting!  A great time to find out what your local legion is up to!
URL:https://www.gapost233.com/event/post-233-american-legion-meeting/2023-06-06/
LOCATION:Post 233 Main Hall\, 4635 U.S. 78\, Loganville\, GA\, 30052\, United States
GEO:33.8337745;-83.8911131
X-APPLE-STRUCTURED-LOCATION;VALUE=URI;X-ADDRESS=Post 233 Main Hall 4635 U.S. 78 Loganville GA 30052 United States;X-APPLE-RADIUS=500;X-TITLE=4635 U.S. 78:geo:-83.8911131,33.8337745
END:VEVENT
BEGIN:VEVENT
DTSTART;TZID=America/New_York:20230520T170000
DTEND;TZID=America/New_York:20230520T200000
DTSTAMP:20260423T054125
CREATED:20230504T191652Z
LAST-MODIFIED:20230504T193402Z
UID:10002179-1684602000-1684612800@www.gapost233.com
SUMMARY:Mama Mia-Spagetti Night
DESCRIPTION:Spagetti Night Flyer
URL:https://www.gapost233.com/event/mama-mia-spagetti-night/
LOCATION:Post 233 Main Hall\, 4635 U.S. 78\, Loganville\, GA\, 30052\, United States
GEO:33.8337745;-83.8911131
X-APPLE-STRUCTURED-LOCATION;VALUE=URI;X-ADDRESS=Post 233 Main Hall 4635 U.S. 78 Loganville GA 30052 United States;X-APPLE-RADIUS=500;X-TITLE=4635 U.S. 78:geo:-83.8911131,33.8337745
END:VEVENT
BEGIN:VEVENT
DTSTART;TZID=America/New_York:20230512T183000
DTEND;TZID=America/New_York:20230512T230000
DTSTAMP:20260423T054125
CREATED:20230505T225438Z
LAST-MODIFIED:20230505T225438Z
UID:10002180-1683916200-1683932400@www.gapost233.com
SUMMARY:Casino Night
DESCRIPTION:Join us for fun\, games and food
URL:https://www.gapost233.com/event/casino-night/
LOCATION:Post 233 Main Hall\, 4635 U.S. 78\, Loganville\, GA\, 30052\, United States
GEO:33.8337745;-83.8911131
X-APPLE-STRUCTURED-LOCATION;VALUE=URI;X-ADDRESS=Post 233 Main Hall 4635 U.S. 78 Loganville GA 30052 United States;X-APPLE-RADIUS=500;X-TITLE=4635 U.S. 78:geo:-83.8911131,33.8337745
END:VEVENT
BEGIN:VEVENT
DTSTART;VALUE=DATE:20230508
DTEND;VALUE=DATE:20230509
DTSTAMP:20260423T054125
CREATED:20230506T181040Z
LAST-MODIFIED:20250403T152659Z
UID:10004948-1683532800-1683565200@www.gapost233.com
SUMMARY:NO BINGO -TONIGHT
DESCRIPTION:Doors Open at 5PM\, Raffle Games after 6:00PM\, BINGO at 7:30 PM \nMinimum $15 buy-in\, must be 8 years or older to attend.
URL:https://www.gapost233.com/event/weekday-bingo-2/2023-05-08/2/
LOCATION:Post 233 Main Hall\, 4635 U.S. 78\, Loganville\, GA\, 30052\, United States
GEO:33.8337745;-83.8911131
X-APPLE-STRUCTURED-LOCATION;VALUE=URI;X-ADDRESS=Post 233 Main Hall 4635 U.S. 78 Loganville GA 30052 United States;X-APPLE-RADIUS=500;X-TITLE=4635 U.S. 78:geo:-83.8911131,33.8337745
END:VEVENT
BEGIN:VEVENT
DTSTART;VALUE=DATE:20230508
DTEND;VALUE=DATE:20230509
DTSTAMP:20260423T054125
CREATED:20230506T181040Z
LAST-MODIFIED:20250403T152659Z
UID:10004947-1683504000-1683590399@www.gapost233.com
SUMMARY:NO BINGO -TONIGHT
DESCRIPTION:Doors Open at 5PM\, Raffle Games after 6:00PM\, BINGO at 7:30 PM \nMinimum $15 buy-in\, must be 8 years or older to attend.
URL:https://www.gapost233.com/event/weekday-bingo-2/2023-05-08/1/
LOCATION:Post 233 Main Hall\, 4635 U.S. 78\, Loganville\, GA\, 30052\, United States
GEO:33.8337745;-83.8911131
X-APPLE-STRUCTURED-LOCATION;VALUE=URI;X-ADDRESS=Post 233 Main Hall 4635 U.S. 78 Loganville GA 30052 United States;X-APPLE-RADIUS=500;X-TITLE=4635 U.S. 78:geo:-83.8911131,33.8337745
END:VEVENT
BEGIN:VEVENT
DTSTART;TZID=America/New_York:20230504T193000
DTEND;TZID=America/New_York:20230504T213000
DTSTAMP:20260423T054125
CREATED:20200629T005839Z
LAST-MODIFIED:20220707T111956Z
UID:10001091-1683228600-1683235800@www.gapost233.com
SUMMARY:Weekday BINGO
DESCRIPTION:Doors Open at 5PM\, Raffle Games after 6:00PM\, BINGO at 7:30 PM \nMinimum $15 buy-in\, must be 8 years or older to attend.
URL:https://www.gapost233.com/event/weekday-bingo/2023-05-04/
LOCATION:Post 233 Main Hall\, 4635 U.S. 78\, Loganville\, GA\, 30052\, United States
GEO:33.8337745;-83.8911131
X-APPLE-STRUCTURED-LOCATION;VALUE=URI;X-ADDRESS=Post 233 Main Hall 4635 U.S. 78 Loganville GA 30052 United States;X-APPLE-RADIUS=500;X-TITLE=4635 U.S. 78:geo:-83.8911131,33.8337745
END:VEVENT
BEGIN:VEVENT
DTSTART;TZID=America/New_York:20230503T193000
DTEND;TZID=America/New_York:20230503T213000
DTSTAMP:20260423T054125
CREATED:20200629T005839Z
LAST-MODIFIED:20220707T111956Z
UID:10001090-1683142200-1683149400@www.gapost233.com
SUMMARY:Weekday BINGO
DESCRIPTION:Doors Open at 5PM\, Raffle Games after 6:00PM\, BINGO at 7:30 PM \nMinimum $15 buy-in\, must be 8 years or older to attend.
URL:https://www.gapost233.com/event/weekday-bingo/2023-05-03/
LOCATION:Post 233 Main Hall\, 4635 U.S. 78\, Loganville\, GA\, 30052\, United States
GEO:33.8337745;-83.8911131
X-APPLE-STRUCTURED-LOCATION;VALUE=URI;X-ADDRESS=Post 233 Main Hall 4635 U.S. 78 Loganville GA 30052 United States;X-APPLE-RADIUS=500;X-TITLE=4635 U.S. 78:geo:-83.8911131,33.8337745
END:VEVENT
BEGIN:VEVENT
DTSTART;TZID=America/New_York:20230502T200000
DTEND;TZID=America/New_York:20230502T210000
DTSTAMP:20260423T054125
CREATED:20200810T223314Z
LAST-MODIFIED:20200810T223314Z
UID:10000160-1683057600-1683061200@www.gapost233.com
SUMMARY:Post 233 American Legion Meeting
DESCRIPTION:Our Monthly meeting!  A great time to find out what your local legion is up to!
URL:https://www.gapost233.com/event/post-233-american-legion-meeting/2023-05-02/
LOCATION:Post 233 Main Hall\, 4635 U.S. 78\, Loganville\, GA\, 30052\, United States
GEO:33.8337745;-83.8911131
X-APPLE-STRUCTURED-LOCATION;VALUE=URI;X-ADDRESS=Post 233 Main Hall 4635 U.S. 78 Loganville GA 30052 United States;X-APPLE-RADIUS=500;X-TITLE=4635 U.S. 78:geo:-83.8911131,33.8337745
END:VEVENT
BEGIN:VEVENT
DTSTART;TZID=America/New_York:20230501T193000
DTEND;TZID=America/New_York:20230501T213000
DTSTAMP:20260423T054125
CREATED:20200629T005839Z
LAST-MODIFIED:20220707T111956Z
UID:10001089-1682969400-1682976600@www.gapost233.com
SUMMARY:Weekday BINGO
DESCRIPTION:Doors Open at 5PM\, Raffle Games after 6:00PM\, BINGO at 7:30 PM \nMinimum $15 buy-in\, must be 8 years or older to attend.
URL:https://www.gapost233.com/event/weekday-bingo/2023-05-01/
LOCATION:Post 233 Main Hall\, 4635 U.S. 78\, Loganville\, GA\, 30052\, United States
GEO:33.8337745;-83.8911131
X-APPLE-STRUCTURED-LOCATION;VALUE=URI;X-ADDRESS=Post 233 Main Hall 4635 U.S. 78 Loganville GA 30052 United States;X-APPLE-RADIUS=500;X-TITLE=4635 U.S. 78:geo:-83.8911131,33.8337745
END:VEVENT
BEGIN:VEVENT
DTSTART;TZID=America/New_York:20230429T080000
DTEND;TZID=America/New_York:20230429T110000
DTSTAMP:20260423T054125
CREATED:20230417T182431Z
LAST-MODIFIED:20230417T190129Z
UID:10002178-1682755200-1682766000@www.gapost233.com
SUMMARY:Breakfast Buffet
DESCRIPTION:Join The American Legion Auxiliary and Sons of the American Legion for breakfast on Saturday April 29th.  \nView Menu and Details
URL:https://www.gapost233.com/event/breakfast-buffet/
LOCATION:Post 233 Main Hall\, 4635 U.S. 78\, Loganville\, GA\, 30052\, United States
GEO:33.8337745;-83.8911131
X-APPLE-STRUCTURED-LOCATION;VALUE=URI;X-ADDRESS=Post 233 Main Hall 4635 U.S. 78 Loganville GA 30052 United States;X-APPLE-RADIUS=500;X-TITLE=4635 U.S. 78:geo:-83.8911131,33.8337745
END:VEVENT
BEGIN:VEVENT
DTSTART;TZID=America/New_York:20230427T193000
DTEND;TZID=America/New_York:20230427T213000
DTSTAMP:20260423T054125
CREATED:20200629T005839Z
LAST-MODIFIED:20220707T111956Z
UID:10001088-1682623800-1682631000@www.gapost233.com
SUMMARY:Weekday BINGO
DESCRIPTION:Doors Open at 5PM\, Raffle Games after 6:00PM\, BINGO at 7:30 PM \nMinimum $15 buy-in\, must be 8 years or older to attend.
URL:https://www.gapost233.com/event/weekday-bingo/2023-04-27/
LOCATION:Post 233 Main Hall\, 4635 U.S. 78\, Loganville\, GA\, 30052\, United States
GEO:33.8337745;-83.8911131
X-APPLE-STRUCTURED-LOCATION;VALUE=URI;X-ADDRESS=Post 233 Main Hall 4635 U.S. 78 Loganville GA 30052 United States;X-APPLE-RADIUS=500;X-TITLE=4635 U.S. 78:geo:-83.8911131,33.8337745
END:VEVENT
BEGIN:VEVENT
DTSTART;TZID=America/New_York:20230426T193000
DTEND;TZID=America/New_York:20230426T213000
DTSTAMP:20260423T054125
CREATED:20200629T005839Z
LAST-MODIFIED:20220707T111956Z
UID:10001087-1682537400-1682544600@www.gapost233.com
SUMMARY:Weekday BINGO
DESCRIPTION:Doors Open at 5PM\, Raffle Games after 6:00PM\, BINGO at 7:30 PM \nMinimum $15 buy-in\, must be 8 years or older to attend.
URL:https://www.gapost233.com/event/weekday-bingo/2023-04-26/
LOCATION:Post 233 Main Hall\, 4635 U.S. 78\, Loganville\, GA\, 30052\, United States
GEO:33.8337745;-83.8911131
X-APPLE-STRUCTURED-LOCATION;VALUE=URI;X-ADDRESS=Post 233 Main Hall 4635 U.S. 78 Loganville GA 30052 United States;X-APPLE-RADIUS=500;X-TITLE=4635 U.S. 78:geo:-83.8911131,33.8337745
END:VEVENT
BEGIN:VEVENT
DTSTART;TZID=America/New_York:20230424T193000
DTEND;TZID=America/New_York:20230424T213000
DTSTAMP:20260423T054125
CREATED:20200629T005839Z
LAST-MODIFIED:20220707T111956Z
UID:10001086-1682364600-1682371800@www.gapost233.com
SUMMARY:Weekday BINGO
DESCRIPTION:Doors Open at 5PM\, Raffle Games after 6:00PM\, BINGO at 7:30 PM \nMinimum $15 buy-in\, must be 8 years or older to attend.
URL:https://www.gapost233.com/event/weekday-bingo/2023-04-24/
LOCATION:Post 233 Main Hall\, 4635 U.S. 78\, Loganville\, GA\, 30052\, United States
GEO:33.8337745;-83.8911131
X-APPLE-STRUCTURED-LOCATION;VALUE=URI;X-ADDRESS=Post 233 Main Hall 4635 U.S. 78 Loganville GA 30052 United States;X-APPLE-RADIUS=500;X-TITLE=4635 U.S. 78:geo:-83.8911131,33.8337745
END:VEVENT
BEGIN:VEVENT
DTSTART;TZID=America/New_York:20230420T193000
DTEND;TZID=America/New_York:20230420T213000
DTSTAMP:20260423T054125
CREATED:20200629T005839Z
LAST-MODIFIED:20220707T111956Z
UID:10001085-1682019000-1682026200@www.gapost233.com
SUMMARY:Weekday BINGO
DESCRIPTION:Doors Open at 5PM\, Raffle Games after 6:00PM\, BINGO at 7:30 PM \nMinimum $15 buy-in\, must be 8 years or older to attend.
URL:https://www.gapost233.com/event/weekday-bingo/2023-04-20/
LOCATION:Post 233 Main Hall\, 4635 U.S. 78\, Loganville\, GA\, 30052\, United States
GEO:33.8337745;-83.8911131
X-APPLE-STRUCTURED-LOCATION;VALUE=URI;X-ADDRESS=Post 233 Main Hall 4635 U.S. 78 Loganville GA 30052 United States;X-APPLE-RADIUS=500;X-TITLE=4635 U.S. 78:geo:-83.8911131,33.8337745
END:VEVENT
BEGIN:VEVENT
DTSTART;TZID=America/New_York:20230419T193000
DTEND;TZID=America/New_York:20230419T213000
DTSTAMP:20260423T054125
CREATED:20200629T005839Z
LAST-MODIFIED:20220707T111956Z
UID:10001084-1681932600-1681939800@www.gapost233.com
SUMMARY:Weekday BINGO
DESCRIPTION:Doors Open at 5PM\, Raffle Games after 6:00PM\, BINGO at 7:30 PM \nMinimum $15 buy-in\, must be 8 years or older to attend.
URL:https://www.gapost233.com/event/weekday-bingo/2023-04-19/
LOCATION:Post 233 Main Hall\, 4635 U.S. 78\, Loganville\, GA\, 30052\, United States
GEO:33.8337745;-83.8911131
X-APPLE-STRUCTURED-LOCATION;VALUE=URI;X-ADDRESS=Post 233 Main Hall 4635 U.S. 78 Loganville GA 30052 United States;X-APPLE-RADIUS=500;X-TITLE=4635 U.S. 78:geo:-83.8911131,33.8337745
END:VEVENT
END:VCALENDAR