BEGIN:VCALENDAR
VERSION:2.0
PRODID:-//AMERICAN LEGION POST 233 - ECPv6.10.1.1//NONSGML v1.0//EN
CALSCALE:GREGORIAN
METHOD:PUBLISH
X-ORIGINAL-URL:https://www.gapost233.com
X-WR-CALDESC:Events for AMERICAN LEGION POST 233
REFRESH-INTERVAL;VALUE=DURATION:PT1H
X-Robots-Tag:noindex
X-PUBLISHED-TTL:PT1H
BEGIN:VTIMEZONE
TZID:America/New_York
BEGIN:DAYLIGHT
TZOFFSETFROM:-0500
TZOFFSETTO:-0400
TZNAME:EDT
DTSTART:20260308T070000
END:DAYLIGHT
BEGIN:STANDARD
TZOFFSETFROM:-0400
TZOFFSETTO:-0500
TZNAME:EST
DTSTART:20261101T060000
END:STANDARD
END:VTIMEZONE
BEGIN:VEVENT
DTSTART;TZID=America/New_York:20260713T170000
DTEND;TZID=America/New_York:20260713T213000
DTSTAMP:20260420T081409
CREATED:20260310T151412Z
LAST-MODIFIED:20260310T151746Z
UID:10006427-1783962000-1783978200@www.gapost233.com
SUMMARY:BINGO Night
DESCRIPTION:Doors OPEN at  5 pm\, \nRaffle Games \nBINGO at 7:30 PM  FIRST BALL \nMinimum $15 buy-in\, must be 8 years or older to attend.
URL:https://www.gapost233.com/event/bingo-night-5/2026-07-13/
LOCATION:Post 233 Main Hall\, 4635 U.S. 78\, Loganville\, GA\, 30052\, United States
GEO:33.8337745;-83.8911131
X-APPLE-STRUCTURED-LOCATION;VALUE=URI;X-ADDRESS=Post 233 Main Hall 4635 U.S. 78 Loganville GA 30052 United States;X-APPLE-RADIUS=500;X-TITLE=4635 U.S. 78:geo:-83.8911131,33.8337745
END:VEVENT
BEGIN:VEVENT
DTSTART;TZID=America/New_York:20260715T170000
DTEND;TZID=America/New_York:20260715T213000
DTSTAMP:20260420T081409
CREATED:20260310T151412Z
LAST-MODIFIED:20260310T151746Z
UID:10006428-1784134800-1784151000@www.gapost233.com
SUMMARY:BINGO Night
DESCRIPTION:Doors OPEN at  5 pm\, \nRaffle Games \nBINGO at 7:30 PM  FIRST BALL \nMinimum $15 buy-in\, must be 8 years or older to attend.
URL:https://www.gapost233.com/event/bingo-night-5/2026-07-15/
LOCATION:Post 233 Main Hall\, 4635 U.S. 78\, Loganville\, GA\, 30052\, United States
GEO:33.8337745;-83.8911131
X-APPLE-STRUCTURED-LOCATION;VALUE=URI;X-ADDRESS=Post 233 Main Hall 4635 U.S. 78 Loganville GA 30052 United States;X-APPLE-RADIUS=500;X-TITLE=4635 U.S. 78:geo:-83.8911131,33.8337745
END:VEVENT
BEGIN:VEVENT
DTSTART;TZID=America/New_York:20260716T170000
DTEND;TZID=America/New_York:20260716T213000
DTSTAMP:20260420T081409
CREATED:20260310T151412Z
LAST-MODIFIED:20260310T151746Z
UID:10005019-1784221200-1784237400@www.gapost233.com
SUMMARY:BINGO Night
DESCRIPTION:Doors OPEN at  5 pm\, \nRaffle Games \nBINGO at 7:30 PM  FIRST BALL \nMinimum $15 buy-in\, must be 8 years or older to attend.
URL:https://www.gapost233.com/event/bingo-night-5/2026-07-16/
LOCATION:Post 233 Main Hall\, 4635 U.S. 78\, Loganville\, GA\, 30052\, United States
GEO:33.8337745;-83.8911131
X-APPLE-STRUCTURED-LOCATION;VALUE=URI;X-ADDRESS=Post 233 Main Hall 4635 U.S. 78 Loganville GA 30052 United States;X-APPLE-RADIUS=500;X-TITLE=4635 U.S. 78:geo:-83.8911131,33.8337745
END:VEVENT
BEGIN:VEVENT
DTSTART;TZID=America/New_York:20260720T170000
DTEND;TZID=America/New_York:20260720T213000
DTSTAMP:20260420T081409
CREATED:20260310T151412Z
LAST-MODIFIED:20260310T151746Z
UID:10006429-1784566800-1784583000@www.gapost233.com
SUMMARY:BINGO Night
DESCRIPTION:Doors OPEN at  5 pm\, \nRaffle Games \nBINGO at 7:30 PM  FIRST BALL \nMinimum $15 buy-in\, must be 8 years or older to attend.
URL:https://www.gapost233.com/event/bingo-night-5/2026-07-20/
LOCATION:Post 233 Main Hall\, 4635 U.S. 78\, Loganville\, GA\, 30052\, United States
GEO:33.8337745;-83.8911131
X-APPLE-STRUCTURED-LOCATION;VALUE=URI;X-ADDRESS=Post 233 Main Hall 4635 U.S. 78 Loganville GA 30052 United States;X-APPLE-RADIUS=500;X-TITLE=4635 U.S. 78:geo:-83.8911131,33.8337745
END:VEVENT
BEGIN:VEVENT
DTSTART;TZID=America/New_York:20260722T170000
DTEND;TZID=America/New_York:20260722T213000
DTSTAMP:20260420T081409
CREATED:20260310T151412Z
LAST-MODIFIED:20260310T151746Z
UID:10006430-1784739600-1784755800@www.gapost233.com
SUMMARY:BINGO Night
DESCRIPTION:Doors OPEN at  5 pm\, \nRaffle Games \nBINGO at 7:30 PM  FIRST BALL \nMinimum $15 buy-in\, must be 8 years or older to attend.
URL:https://www.gapost233.com/event/bingo-night-5/2026-07-22/
LOCATION:Post 233 Main Hall\, 4635 U.S. 78\, Loganville\, GA\, 30052\, United States
GEO:33.8337745;-83.8911131
X-APPLE-STRUCTURED-LOCATION;VALUE=URI;X-ADDRESS=Post 233 Main Hall 4635 U.S. 78 Loganville GA 30052 United States;X-APPLE-RADIUS=500;X-TITLE=4635 U.S. 78:geo:-83.8911131,33.8337745
END:VEVENT
BEGIN:VEVENT
DTSTART;TZID=America/New_York:20260723T170000
DTEND;TZID=America/New_York:20260723T213000
DTSTAMP:20260420T081409
CREATED:20260310T151412Z
LAST-MODIFIED:20260310T151746Z
UID:10005020-1784826000-1784842200@www.gapost233.com
SUMMARY:BINGO Night
DESCRIPTION:Doors OPEN at  5 pm\, \nRaffle Games \nBINGO at 7:30 PM  FIRST BALL \nMinimum $15 buy-in\, must be 8 years or older to attend.
URL:https://www.gapost233.com/event/bingo-night-5/2026-07-23/
LOCATION:Post 233 Main Hall\, 4635 U.S. 78\, Loganville\, GA\, 30052\, United States
GEO:33.8337745;-83.8911131
X-APPLE-STRUCTURED-LOCATION;VALUE=URI;X-ADDRESS=Post 233 Main Hall 4635 U.S. 78 Loganville GA 30052 United States;X-APPLE-RADIUS=500;X-TITLE=4635 U.S. 78:geo:-83.8911131,33.8337745
END:VEVENT
BEGIN:VEVENT
DTSTART;TZID=America/New_York:20260727T170000
DTEND;TZID=America/New_York:20260727T213000
DTSTAMP:20260420T081409
CREATED:20260310T151412Z
LAST-MODIFIED:20260310T151746Z
UID:10006431-1785171600-1785187800@www.gapost233.com
SUMMARY:BINGO Night
DESCRIPTION:Doors OPEN at  5 pm\, \nRaffle Games \nBINGO at 7:30 PM  FIRST BALL \nMinimum $15 buy-in\, must be 8 years or older to attend.
URL:https://www.gapost233.com/event/bingo-night-5/2026-07-27/
LOCATION:Post 233 Main Hall\, 4635 U.S. 78\, Loganville\, GA\, 30052\, United States
GEO:33.8337745;-83.8911131
X-APPLE-STRUCTURED-LOCATION;VALUE=URI;X-ADDRESS=Post 233 Main Hall 4635 U.S. 78 Loganville GA 30052 United States;X-APPLE-RADIUS=500;X-TITLE=4635 U.S. 78:geo:-83.8911131,33.8337745
END:VEVENT
BEGIN:VEVENT
DTSTART;TZID=America/New_York:20260729T170000
DTEND;TZID=America/New_York:20260729T213000
DTSTAMP:20260420T081409
CREATED:20260310T151412Z
LAST-MODIFIED:20260310T151746Z
UID:10006432-1785344400-1785360600@www.gapost233.com
SUMMARY:BINGO Night
DESCRIPTION:Doors OPEN at  5 pm\, \nRaffle Games \nBINGO at 7:30 PM  FIRST BALL \nMinimum $15 buy-in\, must be 8 years or older to attend.
URL:https://www.gapost233.com/event/bingo-night-5/2026-07-29/
LOCATION:Post 233 Main Hall\, 4635 U.S. 78\, Loganville\, GA\, 30052\, United States
GEO:33.8337745;-83.8911131
X-APPLE-STRUCTURED-LOCATION;VALUE=URI;X-ADDRESS=Post 233 Main Hall 4635 U.S. 78 Loganville GA 30052 United States;X-APPLE-RADIUS=500;X-TITLE=4635 U.S. 78:geo:-83.8911131,33.8337745
END:VEVENT
BEGIN:VEVENT
DTSTART;TZID=America/New_York:20260730T170000
DTEND;TZID=America/New_York:20260730T213000
DTSTAMP:20260420T081409
CREATED:20260310T151412Z
LAST-MODIFIED:20260310T151746Z
UID:10005021-1785430800-1785447000@www.gapost233.com
SUMMARY:BINGO Night
DESCRIPTION:Doors OPEN at  5 pm\, \nRaffle Games \nBINGO at 7:30 PM  FIRST BALL \nMinimum $15 buy-in\, must be 8 years or older to attend.
URL:https://www.gapost233.com/event/bingo-night-5/2026-07-30/
LOCATION:Post 233 Main Hall\, 4635 U.S. 78\, Loganville\, GA\, 30052\, United States
GEO:33.8337745;-83.8911131
X-APPLE-STRUCTURED-LOCATION;VALUE=URI;X-ADDRESS=Post 233 Main Hall 4635 U.S. 78 Loganville GA 30052 United States;X-APPLE-RADIUS=500;X-TITLE=4635 U.S. 78:geo:-83.8911131,33.8337745
END:VEVENT
BEGIN:VEVENT
DTSTART;TZID=America/New_York:20260803T170000
DTEND;TZID=America/New_York:20260803T213000
DTSTAMP:20260420T081409
CREATED:20260310T151412Z
LAST-MODIFIED:20260310T151746Z
UID:10006433-1785776400-1785792600@www.gapost233.com
SUMMARY:BINGO Night
DESCRIPTION:Doors OPEN at  5 pm\, \nRaffle Games \nBINGO at 7:30 PM  FIRST BALL \nMinimum $15 buy-in\, must be 8 years or older to attend.
URL:https://www.gapost233.com/event/bingo-night-5/2026-08-03/
LOCATION:Post 233 Main Hall\, 4635 U.S. 78\, Loganville\, GA\, 30052\, United States
GEO:33.8337745;-83.8911131
X-APPLE-STRUCTURED-LOCATION;VALUE=URI;X-ADDRESS=Post 233 Main Hall 4635 U.S. 78 Loganville GA 30052 United States;X-APPLE-RADIUS=500;X-TITLE=4635 U.S. 78:geo:-83.8911131,33.8337745
END:VEVENT
BEGIN:VEVENT
DTSTART;TZID=America/New_York:20260805T170000
DTEND;TZID=America/New_York:20260805T213000
DTSTAMP:20260420T081409
CREATED:20260310T151412Z
LAST-MODIFIED:20260310T151746Z
UID:10006434-1785949200-1785965400@www.gapost233.com
SUMMARY:BINGO Night
DESCRIPTION:Doors OPEN at  5 pm\, \nRaffle Games \nBINGO at 7:30 PM  FIRST BALL \nMinimum $15 buy-in\, must be 8 years or older to attend.
URL:https://www.gapost233.com/event/bingo-night-5/2026-08-05/
LOCATION:Post 233 Main Hall\, 4635 U.S. 78\, Loganville\, GA\, 30052\, United States
GEO:33.8337745;-83.8911131
X-APPLE-STRUCTURED-LOCATION;VALUE=URI;X-ADDRESS=Post 233 Main Hall 4635 U.S. 78 Loganville GA 30052 United States;X-APPLE-RADIUS=500;X-TITLE=4635 U.S. 78:geo:-83.8911131,33.8337745
END:VEVENT
BEGIN:VEVENT
DTSTART;TZID=America/New_York:20260806T170000
DTEND;TZID=America/New_York:20260806T213000
DTSTAMP:20260420T081409
CREATED:20260310T151412Z
LAST-MODIFIED:20260310T151746Z
UID:10005022-1786035600-1786051800@www.gapost233.com
SUMMARY:BINGO Night
DESCRIPTION:Doors OPEN at  5 pm\, \nRaffle Games \nBINGO at 7:30 PM  FIRST BALL \nMinimum $15 buy-in\, must be 8 years or older to attend.
URL:https://www.gapost233.com/event/bingo-night-5/2026-08-06/
LOCATION:Post 233 Main Hall\, 4635 U.S. 78\, Loganville\, GA\, 30052\, United States
GEO:33.8337745;-83.8911131
X-APPLE-STRUCTURED-LOCATION;VALUE=URI;X-ADDRESS=Post 233 Main Hall 4635 U.S. 78 Loganville GA 30052 United States;X-APPLE-RADIUS=500;X-TITLE=4635 U.S. 78:geo:-83.8911131,33.8337745
END:VEVENT
BEGIN:VEVENT
DTSTART;TZID=America/New_York:20260810T170000
DTEND;TZID=America/New_York:20260810T213000
DTSTAMP:20260420T081409
CREATED:20260310T151412Z
LAST-MODIFIED:20260310T151746Z
UID:10006435-1786381200-1786397400@www.gapost233.com
SUMMARY:BINGO Night
DESCRIPTION:Doors OPEN at  5 pm\, \nRaffle Games \nBINGO at 7:30 PM  FIRST BALL \nMinimum $15 buy-in\, must be 8 years or older to attend.
URL:https://www.gapost233.com/event/bingo-night-5/2026-08-10/
LOCATION:Post 233 Main Hall\, 4635 U.S. 78\, Loganville\, GA\, 30052\, United States
GEO:33.8337745;-83.8911131
X-APPLE-STRUCTURED-LOCATION;VALUE=URI;X-ADDRESS=Post 233 Main Hall 4635 U.S. 78 Loganville GA 30052 United States;X-APPLE-RADIUS=500;X-TITLE=4635 U.S. 78:geo:-83.8911131,33.8337745
END:VEVENT
BEGIN:VEVENT
DTSTART;TZID=America/New_York:20260812T170000
DTEND;TZID=America/New_York:20260812T213000
DTSTAMP:20260420T081409
CREATED:20260310T151412Z
LAST-MODIFIED:20260310T151746Z
UID:10006436-1786554000-1786570200@www.gapost233.com
SUMMARY:BINGO Night
DESCRIPTION:Doors OPEN at  5 pm\, \nRaffle Games \nBINGO at 7:30 PM  FIRST BALL \nMinimum $15 buy-in\, must be 8 years or older to attend.
URL:https://www.gapost233.com/event/bingo-night-5/2026-08-12/
LOCATION:Post 233 Main Hall\, 4635 U.S. 78\, Loganville\, GA\, 30052\, United States
GEO:33.8337745;-83.8911131
X-APPLE-STRUCTURED-LOCATION;VALUE=URI;X-ADDRESS=Post 233 Main Hall 4635 U.S. 78 Loganville GA 30052 United States;X-APPLE-RADIUS=500;X-TITLE=4635 U.S. 78:geo:-83.8911131,33.8337745
END:VEVENT
BEGIN:VEVENT
DTSTART;TZID=America/New_York:20260813T170000
DTEND;TZID=America/New_York:20260813T213000
DTSTAMP:20260420T081409
CREATED:20260310T151412Z
LAST-MODIFIED:20260310T151746Z
UID:10005023-1786640400-1786656600@www.gapost233.com
SUMMARY:BINGO Night
DESCRIPTION:Doors OPEN at  5 pm\, \nRaffle Games \nBINGO at 7:30 PM  FIRST BALL \nMinimum $15 buy-in\, must be 8 years or older to attend.
URL:https://www.gapost233.com/event/bingo-night-5/2026-08-13/
LOCATION:Post 233 Main Hall\, 4635 U.S. 78\, Loganville\, GA\, 30052\, United States
GEO:33.8337745;-83.8911131
X-APPLE-STRUCTURED-LOCATION;VALUE=URI;X-ADDRESS=Post 233 Main Hall 4635 U.S. 78 Loganville GA 30052 United States;X-APPLE-RADIUS=500;X-TITLE=4635 U.S. 78:geo:-83.8911131,33.8337745
END:VEVENT
BEGIN:VEVENT
DTSTART;TZID=America/New_York:20260817T170000
DTEND;TZID=America/New_York:20260817T213000
DTSTAMP:20260420T081409
CREATED:20260310T151412Z
LAST-MODIFIED:20260310T151746Z
UID:10006437-1786986000-1787002200@www.gapost233.com
SUMMARY:BINGO Night
DESCRIPTION:Doors OPEN at  5 pm\, \nRaffle Games \nBINGO at 7:30 PM  FIRST BALL \nMinimum $15 buy-in\, must be 8 years or older to attend.
URL:https://www.gapost233.com/event/bingo-night-5/2026-08-17/
LOCATION:Post 233 Main Hall\, 4635 U.S. 78\, Loganville\, GA\, 30052\, United States
GEO:33.8337745;-83.8911131
X-APPLE-STRUCTURED-LOCATION;VALUE=URI;X-ADDRESS=Post 233 Main Hall 4635 U.S. 78 Loganville GA 30052 United States;X-APPLE-RADIUS=500;X-TITLE=4635 U.S. 78:geo:-83.8911131,33.8337745
END:VEVENT
BEGIN:VEVENT
DTSTART;TZID=America/New_York:20260819T170000
DTEND;TZID=America/New_York:20260819T213000
DTSTAMP:20260420T081409
CREATED:20260310T151412Z
LAST-MODIFIED:20260310T151746Z
UID:10006438-1787158800-1787175000@www.gapost233.com
SUMMARY:BINGO Night
DESCRIPTION:Doors OPEN at  5 pm\, \nRaffle Games \nBINGO at 7:30 PM  FIRST BALL \nMinimum $15 buy-in\, must be 8 years or older to attend.
URL:https://www.gapost233.com/event/bingo-night-5/2026-08-19/
LOCATION:Post 233 Main Hall\, 4635 U.S. 78\, Loganville\, GA\, 30052\, United States
GEO:33.8337745;-83.8911131
X-APPLE-STRUCTURED-LOCATION;VALUE=URI;X-ADDRESS=Post 233 Main Hall 4635 U.S. 78 Loganville GA 30052 United States;X-APPLE-RADIUS=500;X-TITLE=4635 U.S. 78:geo:-83.8911131,33.8337745
END:VEVENT
BEGIN:VEVENT
DTSTART;TZID=America/New_York:20260820T170000
DTEND;TZID=America/New_York:20260820T213000
DTSTAMP:20260420T081409
CREATED:20260310T151412Z
LAST-MODIFIED:20260310T151746Z
UID:10005024-1787245200-1787261400@www.gapost233.com
SUMMARY:BINGO Night
DESCRIPTION:Doors OPEN at  5 pm\, \nRaffle Games \nBINGO at 7:30 PM  FIRST BALL \nMinimum $15 buy-in\, must be 8 years or older to attend.
URL:https://www.gapost233.com/event/bingo-night-5/2026-08-20/
LOCATION:Post 233 Main Hall\, 4635 U.S. 78\, Loganville\, GA\, 30052\, United States
GEO:33.8337745;-83.8911131
X-APPLE-STRUCTURED-LOCATION;VALUE=URI;X-ADDRESS=Post 233 Main Hall 4635 U.S. 78 Loganville GA 30052 United States;X-APPLE-RADIUS=500;X-TITLE=4635 U.S. 78:geo:-83.8911131,33.8337745
END:VEVENT
BEGIN:VEVENT
DTSTART;TZID=America/New_York:20260824T170000
DTEND;TZID=America/New_York:20260824T213000
DTSTAMP:20260420T081409
CREATED:20260310T151412Z
LAST-MODIFIED:20260310T151746Z
UID:10006439-1787590800-1787607000@www.gapost233.com
SUMMARY:BINGO Night
DESCRIPTION:Doors OPEN at  5 pm\, \nRaffle Games \nBINGO at 7:30 PM  FIRST BALL \nMinimum $15 buy-in\, must be 8 years or older to attend.
URL:https://www.gapost233.com/event/bingo-night-5/2026-08-24/
LOCATION:Post 233 Main Hall\, 4635 U.S. 78\, Loganville\, GA\, 30052\, United States
GEO:33.8337745;-83.8911131
X-APPLE-STRUCTURED-LOCATION;VALUE=URI;X-ADDRESS=Post 233 Main Hall 4635 U.S. 78 Loganville GA 30052 United States;X-APPLE-RADIUS=500;X-TITLE=4635 U.S. 78:geo:-83.8911131,33.8337745
END:VEVENT
BEGIN:VEVENT
DTSTART;TZID=America/New_York:20260826T170000
DTEND;TZID=America/New_York:20260826T213000
DTSTAMP:20260420T081409
CREATED:20260310T151412Z
LAST-MODIFIED:20260310T151746Z
UID:10006440-1787763600-1787779800@www.gapost233.com
SUMMARY:BINGO Night
DESCRIPTION:Doors OPEN at  5 pm\, \nRaffle Games \nBINGO at 7:30 PM  FIRST BALL \nMinimum $15 buy-in\, must be 8 years or older to attend.
URL:https://www.gapost233.com/event/bingo-night-5/2026-08-26/
LOCATION:Post 233 Main Hall\, 4635 U.S. 78\, Loganville\, GA\, 30052\, United States
GEO:33.8337745;-83.8911131
X-APPLE-STRUCTURED-LOCATION;VALUE=URI;X-ADDRESS=Post 233 Main Hall 4635 U.S. 78 Loganville GA 30052 United States;X-APPLE-RADIUS=500;X-TITLE=4635 U.S. 78:geo:-83.8911131,33.8337745
END:VEVENT
BEGIN:VEVENT
DTSTART;TZID=America/New_York:20260827T170000
DTEND;TZID=America/New_York:20260827T213000
DTSTAMP:20260420T081409
CREATED:20260310T151412Z
LAST-MODIFIED:20260310T151746Z
UID:10005025-1787850000-1787866200@www.gapost233.com
SUMMARY:BINGO Night
DESCRIPTION:Doors OPEN at  5 pm\, \nRaffle Games \nBINGO at 7:30 PM  FIRST BALL \nMinimum $15 buy-in\, must be 8 years or older to attend.
URL:https://www.gapost233.com/event/bingo-night-5/2026-08-27/
LOCATION:Post 233 Main Hall\, 4635 U.S. 78\, Loganville\, GA\, 30052\, United States
GEO:33.8337745;-83.8911131
X-APPLE-STRUCTURED-LOCATION;VALUE=URI;X-ADDRESS=Post 233 Main Hall 4635 U.S. 78 Loganville GA 30052 United States;X-APPLE-RADIUS=500;X-TITLE=4635 U.S. 78:geo:-83.8911131,33.8337745
END:VEVENT
BEGIN:VEVENT
DTSTART;TZID=America/New_York:20260831T170000
DTEND;TZID=America/New_York:20260831T213000
DTSTAMP:20260420T081409
CREATED:20260310T151412Z
LAST-MODIFIED:20260310T151746Z
UID:10006441-1788195600-1788211800@www.gapost233.com
SUMMARY:BINGO Night
DESCRIPTION:Doors OPEN at  5 pm\, \nRaffle Games \nBINGO at 7:30 PM  FIRST BALL \nMinimum $15 buy-in\, must be 8 years or older to attend.
URL:https://www.gapost233.com/event/bingo-night-5/2026-08-31/
LOCATION:Post 233 Main Hall\, 4635 U.S. 78\, Loganville\, GA\, 30052\, United States
GEO:33.8337745;-83.8911131
X-APPLE-STRUCTURED-LOCATION;VALUE=URI;X-ADDRESS=Post 233 Main Hall 4635 U.S. 78 Loganville GA 30052 United States;X-APPLE-RADIUS=500;X-TITLE=4635 U.S. 78:geo:-83.8911131,33.8337745
END:VEVENT
BEGIN:VEVENT
DTSTART;TZID=America/New_York:20260902T170000
DTEND;TZID=America/New_York:20260902T213000
DTSTAMP:20260420T081409
CREATED:20260310T151412Z
LAST-MODIFIED:20260310T151746Z
UID:10006442-1788368400-1788384600@www.gapost233.com
SUMMARY:BINGO Night
DESCRIPTION:Doors OPEN at  5 pm\, \nRaffle Games \nBINGO at 7:30 PM  FIRST BALL \nMinimum $15 buy-in\, must be 8 years or older to attend.
URL:https://www.gapost233.com/event/bingo-night-5/2026-09-02/
LOCATION:Post 233 Main Hall\, 4635 U.S. 78\, Loganville\, GA\, 30052\, United States
GEO:33.8337745;-83.8911131
X-APPLE-STRUCTURED-LOCATION;VALUE=URI;X-ADDRESS=Post 233 Main Hall 4635 U.S. 78 Loganville GA 30052 United States;X-APPLE-RADIUS=500;X-TITLE=4635 U.S. 78:geo:-83.8911131,33.8337745
END:VEVENT
BEGIN:VEVENT
DTSTART;TZID=America/New_York:20260903T170000
DTEND;TZID=America/New_York:20260903T213000
DTSTAMP:20260420T081409
CREATED:20260310T151412Z
LAST-MODIFIED:20260310T151746Z
UID:10005026-1788454800-1788471000@www.gapost233.com
SUMMARY:BINGO Night
DESCRIPTION:Doors OPEN at  5 pm\, \nRaffle Games \nBINGO at 7:30 PM  FIRST BALL \nMinimum $15 buy-in\, must be 8 years or older to attend.
URL:https://www.gapost233.com/event/bingo-night-5/2026-09-03/
LOCATION:Post 233 Main Hall\, 4635 U.S. 78\, Loganville\, GA\, 30052\, United States
GEO:33.8337745;-83.8911131
X-APPLE-STRUCTURED-LOCATION;VALUE=URI;X-ADDRESS=Post 233 Main Hall 4635 U.S. 78 Loganville GA 30052 United States;X-APPLE-RADIUS=500;X-TITLE=4635 U.S. 78:geo:-83.8911131,33.8337745
END:VEVENT
BEGIN:VEVENT
DTSTART;TZID=America/New_York:20260907T170000
DTEND;TZID=America/New_York:20260907T213000
DTSTAMP:20260420T081409
CREATED:20260310T151412Z
LAST-MODIFIED:20260310T151746Z
UID:10006443-1788800400-1788816600@www.gapost233.com
SUMMARY:BINGO Night
DESCRIPTION:Doors OPEN at  5 pm\, \nRaffle Games \nBINGO at 7:30 PM  FIRST BALL \nMinimum $15 buy-in\, must be 8 years or older to attend.
URL:https://www.gapost233.com/event/bingo-night-5/2026-09-07/
LOCATION:Post 233 Main Hall\, 4635 U.S. 78\, Loganville\, GA\, 30052\, United States
GEO:33.8337745;-83.8911131
X-APPLE-STRUCTURED-LOCATION;VALUE=URI;X-ADDRESS=Post 233 Main Hall 4635 U.S. 78 Loganville GA 30052 United States;X-APPLE-RADIUS=500;X-TITLE=4635 U.S. 78:geo:-83.8911131,33.8337745
END:VEVENT
BEGIN:VEVENT
DTSTART;TZID=America/New_York:20260909T170000
DTEND;TZID=America/New_York:20260909T213000
DTSTAMP:20260420T081409
CREATED:20260310T151412Z
LAST-MODIFIED:20260310T151746Z
UID:10006444-1788973200-1788989400@www.gapost233.com
SUMMARY:BINGO Night
DESCRIPTION:Doors OPEN at  5 pm\, \nRaffle Games \nBINGO at 7:30 PM  FIRST BALL \nMinimum $15 buy-in\, must be 8 years or older to attend.
URL:https://www.gapost233.com/event/bingo-night-5/2026-09-09/
LOCATION:Post 233 Main Hall\, 4635 U.S. 78\, Loganville\, GA\, 30052\, United States
GEO:33.8337745;-83.8911131
X-APPLE-STRUCTURED-LOCATION;VALUE=URI;X-ADDRESS=Post 233 Main Hall 4635 U.S. 78 Loganville GA 30052 United States;X-APPLE-RADIUS=500;X-TITLE=4635 U.S. 78:geo:-83.8911131,33.8337745
END:VEVENT
BEGIN:VEVENT
DTSTART;TZID=America/New_York:20260910T170000
DTEND;TZID=America/New_York:20260910T213000
DTSTAMP:20260420T081409
CREATED:20260310T151412Z
LAST-MODIFIED:20260310T151746Z
UID:10005027-1789059600-1789075800@www.gapost233.com
SUMMARY:BINGO Night
DESCRIPTION:Doors OPEN at  5 pm\, \nRaffle Games \nBINGO at 7:30 PM  FIRST BALL \nMinimum $15 buy-in\, must be 8 years or older to attend.
URL:https://www.gapost233.com/event/bingo-night-5/2026-09-10/
LOCATION:Post 233 Main Hall\, 4635 U.S. 78\, Loganville\, GA\, 30052\, United States
GEO:33.8337745;-83.8911131
X-APPLE-STRUCTURED-LOCATION;VALUE=URI;X-ADDRESS=Post 233 Main Hall 4635 U.S. 78 Loganville GA 30052 United States;X-APPLE-RADIUS=500;X-TITLE=4635 U.S. 78:geo:-83.8911131,33.8337745
END:VEVENT
BEGIN:VEVENT
DTSTART;TZID=America/New_York:20260914T170000
DTEND;TZID=America/New_York:20260914T213000
DTSTAMP:20260420T081409
CREATED:20260310T151412Z
LAST-MODIFIED:20260310T151746Z
UID:10006445-1789405200-1789421400@www.gapost233.com
SUMMARY:BINGO Night
DESCRIPTION:Doors OPEN at  5 pm\, \nRaffle Games \nBINGO at 7:30 PM  FIRST BALL \nMinimum $15 buy-in\, must be 8 years or older to attend.
URL:https://www.gapost233.com/event/bingo-night-5/2026-09-14/
LOCATION:Post 233 Main Hall\, 4635 U.S. 78\, Loganville\, GA\, 30052\, United States
GEO:33.8337745;-83.8911131
X-APPLE-STRUCTURED-LOCATION;VALUE=URI;X-ADDRESS=Post 233 Main Hall 4635 U.S. 78 Loganville GA 30052 United States;X-APPLE-RADIUS=500;X-TITLE=4635 U.S. 78:geo:-83.8911131,33.8337745
END:VEVENT
BEGIN:VEVENT
DTSTART;TZID=America/New_York:20260916T170000
DTEND;TZID=America/New_York:20260916T213000
DTSTAMP:20260420T081409
CREATED:20260310T151412Z
LAST-MODIFIED:20260310T151746Z
UID:10006446-1789578000-1789594200@www.gapost233.com
SUMMARY:BINGO Night
DESCRIPTION:Doors OPEN at  5 pm\, \nRaffle Games \nBINGO at 7:30 PM  FIRST BALL \nMinimum $15 buy-in\, must be 8 years or older to attend.
URL:https://www.gapost233.com/event/bingo-night-5/2026-09-16/
LOCATION:Post 233 Main Hall\, 4635 U.S. 78\, Loganville\, GA\, 30052\, United States
GEO:33.8337745;-83.8911131
X-APPLE-STRUCTURED-LOCATION;VALUE=URI;X-ADDRESS=Post 233 Main Hall 4635 U.S. 78 Loganville GA 30052 United States;X-APPLE-RADIUS=500;X-TITLE=4635 U.S. 78:geo:-83.8911131,33.8337745
END:VEVENT
BEGIN:VEVENT
DTSTART;TZID=America/New_York:20260917T170000
DTEND;TZID=America/New_York:20260917T213000
DTSTAMP:20260420T081409
CREATED:20260310T151412Z
LAST-MODIFIED:20260310T151746Z
UID:10005028-1789664400-1789680600@www.gapost233.com
SUMMARY:BINGO Night
DESCRIPTION:Doors OPEN at  5 pm\, \nRaffle Games \nBINGO at 7:30 PM  FIRST BALL \nMinimum $15 buy-in\, must be 8 years or older to attend.
URL:https://www.gapost233.com/event/bingo-night-5/2026-09-17/
LOCATION:Post 233 Main Hall\, 4635 U.S. 78\, Loganville\, GA\, 30052\, United States
GEO:33.8337745;-83.8911131
X-APPLE-STRUCTURED-LOCATION;VALUE=URI;X-ADDRESS=Post 233 Main Hall 4635 U.S. 78 Loganville GA 30052 United States;X-APPLE-RADIUS=500;X-TITLE=4635 U.S. 78:geo:-83.8911131,33.8337745
END:VEVENT
END:VCALENDAR