BEGIN:VCALENDAR
VERSION:2.0
PRODID:-//AMERICAN LEGION POST 233 - ECPv6.10.1.1//NONSGML v1.0//EN
CALSCALE:GREGORIAN
METHOD:PUBLISH
X-ORIGINAL-URL:https://www.gapost233.com
X-WR-CALDESC:Events for AMERICAN LEGION POST 233
REFRESH-INTERVAL;VALUE=DURATION:PT1H
X-Robots-Tag:noindex
X-PUBLISHED-TTL:PT1H
BEGIN:VTIMEZONE
TZID:America/New_York
BEGIN:DAYLIGHT
TZOFFSETFROM:-0500
TZOFFSETTO:-0400
TZNAME:EDT
DTSTART:20210314T070000
END:DAYLIGHT
BEGIN:STANDARD
TZOFFSETFROM:-0400
TZOFFSETTO:-0500
TZNAME:EST
DTSTART:20211107T060000
END:STANDARD
BEGIN:DAYLIGHT
TZOFFSETFROM:-0500
TZOFFSETTO:-0400
TZNAME:EDT
DTSTART:20220313T070000
END:DAYLIGHT
BEGIN:STANDARD
TZOFFSETFROM:-0400
TZOFFSETTO:-0500
TZNAME:EST
DTSTART:20221106T060000
END:STANDARD
BEGIN:DAYLIGHT
TZOFFSETFROM:-0500
TZOFFSETTO:-0400
TZNAME:EDT
DTSTART:20230312T070000
END:DAYLIGHT
BEGIN:STANDARD
TZOFFSETFROM:-0400
TZOFFSETTO:-0500
TZNAME:EST
DTSTART:20231105T060000
END:STANDARD
END:VTIMEZONE
BEGIN:VEVENT
DTSTART;TZID=America/New_York:20230416T190000
DTEND;TZID=America/New_York:20230416T210000
DTSTAMP:20260422T090320
CREATED:20150426T152120Z
LAST-MODIFIED:20171226T170140Z
UID:10000246-1681671600-1681678800@www.gapost233.com
SUMMARY:ALR Meeting
DESCRIPTION:The American Legion Riders will meet tonight at 7:00pm. Guests are welcome to attend the meeting to learn more about this very active group.
URL:https://www.gapost233.com/event/alr-meeting/2023-04-16/
LOCATION:Robert Boss Pavilion\, 4635 U.S. 78\, Loganville\, GA\, 30052\, United States
END:VEVENT
BEGIN:VEVENT
DTSTART;TZID=America/New_York:20230316T190000
DTEND;TZID=America/New_York:20230316T210000
DTSTAMP:20260422T090320
CREATED:20150426T152120Z
LAST-MODIFIED:20171226T170140Z
UID:10000245-1678993200-1679000400@www.gapost233.com
SUMMARY:ALR Meeting
DESCRIPTION:The American Legion Riders will meet tonight at 7:00pm. Guests are welcome to attend the meeting to learn more about this very active group.
URL:https://www.gapost233.com/event/alr-meeting/2023-03-16/
LOCATION:Robert Boss Pavilion\, 4635 U.S. 78\, Loganville\, GA\, 30052\, United States
END:VEVENT
BEGIN:VEVENT
DTSTART;TZID=America/New_York:20230216T190000
DTEND;TZID=America/New_York:20230216T210000
DTSTAMP:20260422T090320
CREATED:20150426T152120Z
LAST-MODIFIED:20171226T170140Z
UID:10000244-1676574000-1676581200@www.gapost233.com
SUMMARY:ALR Meeting
DESCRIPTION:The American Legion Riders will meet tonight at 7:00pm. Guests are welcome to attend the meeting to learn more about this very active group.
URL:https://www.gapost233.com/event/alr-meeting/2023-02-16/
LOCATION:Robert Boss Pavilion\, 4635 U.S. 78\, Loganville\, GA\, 30052\, United States
END:VEVENT
BEGIN:VEVENT
DTSTART;TZID=America/New_York:20230116T190000
DTEND;TZID=America/New_York:20230116T210000
DTSTAMP:20260422T090320
CREATED:20150426T152120Z
LAST-MODIFIED:20171226T170140Z
UID:10000243-1673895600-1673902800@www.gapost233.com
SUMMARY:ALR Meeting
DESCRIPTION:The American Legion Riders will meet tonight at 7:00pm. Guests are welcome to attend the meeting to learn more about this very active group.
URL:https://www.gapost233.com/event/alr-meeting/2023-01-16/
LOCATION:Robert Boss Pavilion\, 4635 U.S. 78\, Loganville\, GA\, 30052\, United States
END:VEVENT
BEGIN:VEVENT
DTSTART;TZID=America/New_York:20221216T190000
DTEND;TZID=America/New_York:20221216T210000
DTSTAMP:20260422T090320
CREATED:20150426T152120Z
LAST-MODIFIED:20171226T170140Z
UID:10000242-1671217200-1671224400@www.gapost233.com
SUMMARY:ALR Meeting
DESCRIPTION:The American Legion Riders will meet tonight at 7:00pm. Guests are welcome to attend the meeting to learn more about this very active group.
URL:https://www.gapost233.com/event/alr-meeting/2022-12-16/
LOCATION:Robert Boss Pavilion\, 4635 U.S. 78\, Loganville\, GA\, 30052\, United States
END:VEVENT
BEGIN:VEVENT
DTSTART;TZID=America/New_York:20221116T190000
DTEND;TZID=America/New_York:20221116T210000
DTSTAMP:20260422T090320
CREATED:20150426T152120Z
LAST-MODIFIED:20171226T170140Z
UID:10000241-1668625200-1668632400@www.gapost233.com
SUMMARY:ALR Meeting
DESCRIPTION:The American Legion Riders will meet tonight at 7:00pm. Guests are welcome to attend the meeting to learn more about this very active group.
URL:https://www.gapost233.com/event/alr-meeting/2022-11-16/
LOCATION:Robert Boss Pavilion\, 4635 U.S. 78\, Loganville\, GA\, 30052\, United States
END:VEVENT
BEGIN:VEVENT
DTSTART;TZID=America/New_York:20221016T190000
DTEND;TZID=America/New_York:20221016T210000
DTSTAMP:20260422T090320
CREATED:20150426T152120Z
LAST-MODIFIED:20171226T170140Z
UID:10000240-1665946800-1665954000@www.gapost233.com
SUMMARY:ALR Meeting
DESCRIPTION:The American Legion Riders will meet tonight at 7:00pm. Guests are welcome to attend the meeting to learn more about this very active group.
URL:https://www.gapost233.com/event/alr-meeting/2022-10-16/
LOCATION:Robert Boss Pavilion\, 4635 U.S. 78\, Loganville\, GA\, 30052\, United States
END:VEVENT
BEGIN:VEVENT
DTSTART;TZID=America/New_York:20220916T190000
DTEND;TZID=America/New_York:20220916T210000
DTSTAMP:20260422T090320
CREATED:20150426T152120Z
LAST-MODIFIED:20171226T170140Z
UID:10000239-1663354800-1663362000@www.gapost233.com
SUMMARY:ALR Meeting
DESCRIPTION:The American Legion Riders will meet tonight at 7:00pm. Guests are welcome to attend the meeting to learn more about this very active group.
URL:https://www.gapost233.com/event/alr-meeting/2022-09-16/
LOCATION:Robert Boss Pavilion\, 4635 U.S. 78\, Loganville\, GA\, 30052\, United States
END:VEVENT
BEGIN:VEVENT
DTSTART;TZID=America/New_York:20220816T190000
DTEND;TZID=America/New_York:20220816T210000
DTSTAMP:20260422T090320
CREATED:20150426T152120Z
LAST-MODIFIED:20171226T170140Z
UID:10000238-1660676400-1660683600@www.gapost233.com
SUMMARY:ALR Meeting
DESCRIPTION:The American Legion Riders will meet tonight at 7:00pm. Guests are welcome to attend the meeting to learn more about this very active group.
URL:https://www.gapost233.com/event/alr-meeting/2022-08-16/
LOCATION:Robert Boss Pavilion\, 4635 U.S. 78\, Loganville\, GA\, 30052\, United States
END:VEVENT
BEGIN:VEVENT
DTSTART;TZID=America/New_York:20220716T190000
DTEND;TZID=America/New_York:20220716T210000
DTSTAMP:20260422T090320
CREATED:20150426T152120Z
LAST-MODIFIED:20171226T170140Z
UID:10000237-1657998000-1658005200@www.gapost233.com
SUMMARY:ALR Meeting
DESCRIPTION:The American Legion Riders will meet tonight at 7:00pm. Guests are welcome to attend the meeting to learn more about this very active group.
URL:https://www.gapost233.com/event/alr-meeting/2022-07-16/
LOCATION:Robert Boss Pavilion\, 4635 U.S. 78\, Loganville\, GA\, 30052\, United States
END:VEVENT
BEGIN:VEVENT
DTSTART;TZID=America/New_York:20220616T190000
DTEND;TZID=America/New_York:20220616T210000
DTSTAMP:20260422T090320
CREATED:20150426T152120Z
LAST-MODIFIED:20171226T170140Z
UID:10000236-1655406000-1655413200@www.gapost233.com
SUMMARY:ALR Meeting
DESCRIPTION:The American Legion Riders will meet tonight at 7:00pm. Guests are welcome to attend the meeting to learn more about this very active group.
URL:https://www.gapost233.com/event/alr-meeting/2022-06-16/
LOCATION:Robert Boss Pavilion\, 4635 U.S. 78\, Loganville\, GA\, 30052\, United States
END:VEVENT
BEGIN:VEVENT
DTSTART;TZID=America/New_York:20220516T190000
DTEND;TZID=America/New_York:20220516T210000
DTSTAMP:20260422T090320
CREATED:20150426T152120Z
LAST-MODIFIED:20171226T170140Z
UID:10000235-1652727600-1652734800@www.gapost233.com
SUMMARY:ALR Meeting
DESCRIPTION:The American Legion Riders will meet tonight at 7:00pm. Guests are welcome to attend the meeting to learn more about this very active group.
URL:https://www.gapost233.com/event/alr-meeting/2022-05-16/
LOCATION:Robert Boss Pavilion\, 4635 U.S. 78\, Loganville\, GA\, 30052\, United States
END:VEVENT
BEGIN:VEVENT
DTSTART;TZID=America/New_York:20220416T190000
DTEND;TZID=America/New_York:20220416T210000
DTSTAMP:20260422T090320
CREATED:20150426T152120Z
LAST-MODIFIED:20171226T170140Z
UID:10000234-1650135600-1650142800@www.gapost233.com
SUMMARY:ALR Meeting
DESCRIPTION:The American Legion Riders will meet tonight at 7:00pm. Guests are welcome to attend the meeting to learn more about this very active group.
URL:https://www.gapost233.com/event/alr-meeting/2022-04-16/
LOCATION:Robert Boss Pavilion\, 4635 U.S. 78\, Loganville\, GA\, 30052\, United States
END:VEVENT
BEGIN:VEVENT
DTSTART;TZID=America/New_York:20220316T190000
DTEND;TZID=America/New_York:20220316T210000
DTSTAMP:20260422T090320
CREATED:20150426T152120Z
LAST-MODIFIED:20171226T170140Z
UID:10000233-1647457200-1647464400@www.gapost233.com
SUMMARY:ALR Meeting
DESCRIPTION:The American Legion Riders will meet tonight at 7:00pm. Guests are welcome to attend the meeting to learn more about this very active group.
URL:https://www.gapost233.com/event/alr-meeting/2022-03-16/
LOCATION:Robert Boss Pavilion\, 4635 U.S. 78\, Loganville\, GA\, 30052\, United States
END:VEVENT
BEGIN:VEVENT
DTSTART;TZID=America/New_York:20220216T190000
DTEND;TZID=America/New_York:20220216T210000
DTSTAMP:20260422T090320
CREATED:20150426T152120Z
LAST-MODIFIED:20171226T170140Z
UID:10000232-1645038000-1645045200@www.gapost233.com
SUMMARY:ALR Meeting
DESCRIPTION:The American Legion Riders will meet tonight at 7:00pm. Guests are welcome to attend the meeting to learn more about this very active group.
URL:https://www.gapost233.com/event/alr-meeting/2022-02-16/
LOCATION:Robert Boss Pavilion\, 4635 U.S. 78\, Loganville\, GA\, 30052\, United States
END:VEVENT
BEGIN:VEVENT
DTSTART;TZID=America/New_York:20220116T190000
DTEND;TZID=America/New_York:20220116T210000
DTSTAMP:20260422T090320
CREATED:20150426T152120Z
LAST-MODIFIED:20171226T170140Z
UID:10000231-1642359600-1642366800@www.gapost233.com
SUMMARY:ALR Meeting
DESCRIPTION:The American Legion Riders will meet tonight at 7:00pm. Guests are welcome to attend the meeting to learn more about this very active group.
URL:https://www.gapost233.com/event/alr-meeting/2022-01-16/
LOCATION:Robert Boss Pavilion\, 4635 U.S. 78\, Loganville\, GA\, 30052\, United States
END:VEVENT
BEGIN:VEVENT
DTSTART;TZID=America/New_York:20211216T190000
DTEND;TZID=America/New_York:20211216T210000
DTSTAMP:20260422T090320
CREATED:20150426T152120Z
LAST-MODIFIED:20171226T170140Z
UID:10000230-1639681200-1639688400@www.gapost233.com
SUMMARY:ALR Meeting
DESCRIPTION:The American Legion Riders will meet tonight at 7:00pm. Guests are welcome to attend the meeting to learn more about this very active group.
URL:https://www.gapost233.com/event/alr-meeting/2021-12-16/
LOCATION:Robert Boss Pavilion\, 4635 U.S. 78\, Loganville\, GA\, 30052\, United States
END:VEVENT
BEGIN:VEVENT
DTSTART;TZID=America/New_York:20211116T190000
DTEND;TZID=America/New_York:20211116T210000
DTSTAMP:20260422T090320
CREATED:20150426T152120Z
LAST-MODIFIED:20171226T170140Z
UID:10000229-1637089200-1637096400@www.gapost233.com
SUMMARY:ALR Meeting
DESCRIPTION:The American Legion Riders will meet tonight at 7:00pm. Guests are welcome to attend the meeting to learn more about this very active group.
URL:https://www.gapost233.com/event/alr-meeting/2021-11-16/
LOCATION:Robert Boss Pavilion\, 4635 U.S. 78\, Loganville\, GA\, 30052\, United States
END:VEVENT
BEGIN:VEVENT
DTSTART;TZID=America/New_York:20211016T190000
DTEND;TZID=America/New_York:20211016T210000
DTSTAMP:20260422T090320
CREATED:20150426T152120Z
LAST-MODIFIED:20171226T170140Z
UID:10000228-1634410800-1634418000@www.gapost233.com
SUMMARY:ALR Meeting
DESCRIPTION:The American Legion Riders will meet tonight at 7:00pm. Guests are welcome to attend the meeting to learn more about this very active group.
URL:https://www.gapost233.com/event/alr-meeting/2021-10-16/
LOCATION:Robert Boss Pavilion\, 4635 U.S. 78\, Loganville\, GA\, 30052\, United States
END:VEVENT
BEGIN:VEVENT
DTSTART;TZID=America/New_York:20210916T190000
DTEND;TZID=America/New_York:20210916T210000
DTSTAMP:20260422T090320
CREATED:20150426T152120Z
LAST-MODIFIED:20171226T170140Z
UID:10000227-1631818800-1631826000@www.gapost233.com
SUMMARY:ALR Meeting
DESCRIPTION:The American Legion Riders will meet tonight at 7:00pm. Guests are welcome to attend the meeting to learn more about this very active group.
URL:https://www.gapost233.com/event/alr-meeting/2021-09-16/
LOCATION:Robert Boss Pavilion\, 4635 U.S. 78\, Loganville\, GA\, 30052\, United States
END:VEVENT
BEGIN:VEVENT
DTSTART;TZID=America/New_York:20210816T190000
DTEND;TZID=America/New_York:20210816T210000
DTSTAMP:20260422T090320
CREATED:20150426T152120Z
LAST-MODIFIED:20171226T170140Z
UID:10000226-1629140400-1629147600@www.gapost233.com
SUMMARY:ALR Meeting
DESCRIPTION:The American Legion Riders will meet tonight at 7:00pm. Guests are welcome to attend the meeting to learn more about this very active group.
URL:https://www.gapost233.com/event/alr-meeting/2021-08-16/
LOCATION:Robert Boss Pavilion\, 4635 U.S. 78\, Loganville\, GA\, 30052\, United States
END:VEVENT
BEGIN:VEVENT
DTSTART;TZID=America/New_York:20210716T190000
DTEND;TZID=America/New_York:20210716T210000
DTSTAMP:20260422T090321
CREATED:20150426T152120Z
LAST-MODIFIED:20171226T170140Z
UID:10000225-1626462000-1626469200@www.gapost233.com
SUMMARY:ALR Meeting
DESCRIPTION:The American Legion Riders will meet tonight at 7:00pm. Guests are welcome to attend the meeting to learn more about this very active group.
URL:https://www.gapost233.com/event/alr-meeting/2021-07-16/
LOCATION:Robert Boss Pavilion\, 4635 U.S. 78\, Loganville\, GA\, 30052\, United States
END:VEVENT
BEGIN:VEVENT
DTSTART;TZID=America/New_York:20210616T190000
DTEND;TZID=America/New_York:20210616T210000
DTSTAMP:20260422T090321
CREATED:20150426T152120Z
LAST-MODIFIED:20171226T170140Z
UID:10000224-1623870000-1623877200@www.gapost233.com
SUMMARY:ALR Meeting
DESCRIPTION:The American Legion Riders will meet tonight at 7:00pm. Guests are welcome to attend the meeting to learn more about this very active group.
URL:https://www.gapost233.com/event/alr-meeting/2021-06-16/
LOCATION:Robert Boss Pavilion\, 4635 U.S. 78\, Loganville\, GA\, 30052\, United States
END:VEVENT
BEGIN:VEVENT
DTSTART;TZID=America/New_York:20210519T100000
DTEND;TZID=America/New_York:20210519T110000
DTSTAMP:20260422T090321
CREATED:20210203T233759Z
LAST-MODIFIED:20210203T233759Z
UID:10001808-1621418400-1621422000@www.gapost233.com
SUMMARY:Tai Chi for Veterans & others
DESCRIPTION:Veterans and their families as well as American Legion family members are invited to try out our free Tai Chi Class on Wednesday mornings.
URL:https://www.gapost233.com/event/tai-chi-for-veterans-others/2021-05-19/
LOCATION:Robert Boss Pavilion\, 4635 U.S. 78\, Loganville\, GA\, 30052\, United States
END:VEVENT
BEGIN:VEVENT
DTSTART;TZID=America/New_York:20210516T190000
DTEND;TZID=America/New_York:20210516T210000
DTSTAMP:20260422T090321
CREATED:20150426T152120Z
LAST-MODIFIED:20171226T170140Z
UID:10000223-1621191600-1621198800@www.gapost233.com
SUMMARY:ALR Meeting
DESCRIPTION:The American Legion Riders will meet tonight at 7:00pm. Guests are welcome to attend the meeting to learn more about this very active group.
URL:https://www.gapost233.com/event/alr-meeting/2021-05-16/
LOCATION:Robert Boss Pavilion\, 4635 U.S. 78\, Loganville\, GA\, 30052\, United States
END:VEVENT
BEGIN:VEVENT
DTSTART;TZID=America/New_York:20210512T100000
DTEND;TZID=America/New_York:20210512T110000
DTSTAMP:20260422T090321
CREATED:20210203T233759Z
LAST-MODIFIED:20210203T233759Z
UID:10001807-1620813600-1620817200@www.gapost233.com
SUMMARY:Tai Chi for Veterans & others
DESCRIPTION:Veterans and their families as well as American Legion family members are invited to try out our free Tai Chi Class on Wednesday mornings.
URL:https://www.gapost233.com/event/tai-chi-for-veterans-others/2021-05-12/
LOCATION:Robert Boss Pavilion\, 4635 U.S. 78\, Loganville\, GA\, 30052\, United States
END:VEVENT
BEGIN:VEVENT
DTSTART;TZID=America/New_York:20210505T100000
DTEND;TZID=America/New_York:20210505T110000
DTSTAMP:20260422T090321
CREATED:20210203T233759Z
LAST-MODIFIED:20210203T233759Z
UID:10001806-1620208800-1620212400@www.gapost233.com
SUMMARY:Tai Chi for Veterans & others
DESCRIPTION:Veterans and their families as well as American Legion family members are invited to try out our free Tai Chi Class on Wednesday mornings.
URL:https://www.gapost233.com/event/tai-chi-for-veterans-others/2021-05-05/
LOCATION:Robert Boss Pavilion\, 4635 U.S. 78\, Loganville\, GA\, 30052\, United States
END:VEVENT
BEGIN:VEVENT
DTSTART;TZID=America/New_York:20210428T100000
DTEND;TZID=America/New_York:20210428T110000
DTSTAMP:20260422T090321
CREATED:20210203T233759Z
LAST-MODIFIED:20210203T233759Z
UID:10001805-1619604000-1619607600@www.gapost233.com
SUMMARY:Tai Chi for Veterans & others
DESCRIPTION:Veterans and their families as well as American Legion family members are invited to try out our free Tai Chi Class on Wednesday mornings.
URL:https://www.gapost233.com/event/tai-chi-for-veterans-others/2021-04-28/
LOCATION:Robert Boss Pavilion\, 4635 U.S. 78\, Loganville\, GA\, 30052\, United States
END:VEVENT
BEGIN:VEVENT
DTSTART;TZID=America/New_York:20210421T100000
DTEND;TZID=America/New_York:20210421T110000
DTSTAMP:20260422T090321
CREATED:20210203T233759Z
LAST-MODIFIED:20210203T233759Z
UID:10001804-1618999200-1619002800@www.gapost233.com
SUMMARY:Tai Chi for Veterans & others
DESCRIPTION:Veterans and their families as well as American Legion family members are invited to try out our free Tai Chi Class on Wednesday mornings.
URL:https://www.gapost233.com/event/tai-chi-for-veterans-others/2021-04-21/
LOCATION:Robert Boss Pavilion\, 4635 U.S. 78\, Loganville\, GA\, 30052\, United States
END:VEVENT
BEGIN:VEVENT
DTSTART;TZID=America/New_York:20210416T190000
DTEND;TZID=America/New_York:20210416T210000
DTSTAMP:20260422T090321
CREATED:20150426T152120Z
LAST-MODIFIED:20171226T170140Z
UID:10000222-1618599600-1618606800@www.gapost233.com
SUMMARY:ALR Meeting
DESCRIPTION:The American Legion Riders will meet tonight at 7:00pm. Guests are welcome to attend the meeting to learn more about this very active group.
URL:https://www.gapost233.com/event/alr-meeting/2021-04-16/
LOCATION:Robert Boss Pavilion\, 4635 U.S. 78\, Loganville\, GA\, 30052\, United States
END:VEVENT
END:VCALENDAR