BEGIN:VCALENDAR
VERSION:2.0
PRODID:-//AMERICAN LEGION POST 233 - ECPv6.10.1.1//NONSGML v1.0//EN
CALSCALE:GREGORIAN
METHOD:PUBLISH
X-WR-CALNAME:AMERICAN LEGION POST 233
X-ORIGINAL-URL:https://www.gapost233.com
X-WR-CALDESC:Events for AMERICAN LEGION POST 233
REFRESH-INTERVAL;VALUE=DURATION:PT1H
X-Robots-Tag:noindex
X-PUBLISHED-TTL:PT1H
BEGIN:VTIMEZONE
TZID:America/New_York
BEGIN:DAYLIGHT
TZOFFSETFROM:-0500
TZOFFSETTO:-0400
TZNAME:EDT
DTSTART:20150308T070000
END:DAYLIGHT
BEGIN:STANDARD
TZOFFSETFROM:-0400
TZOFFSETTO:-0500
TZNAME:EST
DTSTART:20151101T060000
END:STANDARD
BEGIN:DAYLIGHT
TZOFFSETFROM:-0500
TZOFFSETTO:-0400
TZNAME:EDT
DTSTART:20160313T070000
END:DAYLIGHT
BEGIN:STANDARD
TZOFFSETFROM:-0400
TZOFFSETTO:-0500
TZNAME:EST
DTSTART:20161106T060000
END:STANDARD
BEGIN:DAYLIGHT
TZOFFSETFROM:-0500
TZOFFSETTO:-0400
TZNAME:EDT
DTSTART:20170312T070000
END:DAYLIGHT
BEGIN:STANDARD
TZOFFSETFROM:-0400
TZOFFSETTO:-0500
TZNAME:EST
DTSTART:20171105T060000
END:STANDARD
BEGIN:DAYLIGHT
TZOFFSETFROM:-0500
TZOFFSETTO:-0400
TZNAME:EDT
DTSTART:20180311T070000
END:DAYLIGHT
BEGIN:STANDARD
TZOFFSETFROM:-0400
TZOFFSETTO:-0500
TZNAME:EST
DTSTART:20181104T060000
END:STANDARD
BEGIN:DAYLIGHT
TZOFFSETFROM:-0500
TZOFFSETTO:-0400
TZNAME:EDT
DTSTART:20190310T070000
END:DAYLIGHT
BEGIN:STANDARD
TZOFFSETFROM:-0400
TZOFFSETTO:-0500
TZNAME:EST
DTSTART:20191103T060000
END:STANDARD
END:VTIMEZONE
BEGIN:VEVENT
DTSTART;TZID=America/New_York:20190916T190000
DTEND;TZID=America/New_York:20190916T210000
DTSTAMP:20260422T154729
CREATED:20150426T152120Z
LAST-MODIFIED:20171226T170140Z
UID:10000203-1568660400-1568667600@www.gapost233.com
SUMMARY:ALR Meeting
DESCRIPTION:The American Legion Riders will meet tonight at 7:00pm. Guests are welcome to attend the meeting to learn more about this very active group.
URL:https://www.gapost233.com/event/alr-meeting/2019-09-16/
LOCATION:Robert Boss Pavilion\, 4635 U.S. 78\, Loganville\, GA\, 30052\, United States
END:VEVENT
BEGIN:VEVENT
DTSTART;TZID=America/New_York:20190816T190000
DTEND;TZID=America/New_York:20190816T210000
DTSTAMP:20260422T154729
CREATED:20150426T152120Z
LAST-MODIFIED:20171226T170140Z
UID:10000202-1565982000-1565989200@www.gapost233.com
SUMMARY:ALR Meeting
DESCRIPTION:The American Legion Riders will meet tonight at 7:00pm. Guests are welcome to attend the meeting to learn more about this very active group.
URL:https://www.gapost233.com/event/alr-meeting/2019-08-16/
LOCATION:Robert Boss Pavilion\, 4635 U.S. 78\, Loganville\, GA\, 30052\, United States
END:VEVENT
BEGIN:VEVENT
DTSTART;TZID=America/New_York:20190716T190000
DTEND;TZID=America/New_York:20190716T210000
DTSTAMP:20260422T154729
CREATED:20150426T152120Z
LAST-MODIFIED:20171226T170140Z
UID:10000201-1563303600-1563310800@www.gapost233.com
SUMMARY:ALR Meeting
DESCRIPTION:The American Legion Riders will meet tonight at 7:00pm. Guests are welcome to attend the meeting to learn more about this very active group.
URL:https://www.gapost233.com/event/alr-meeting/2019-07-16/
LOCATION:Robert Boss Pavilion\, 4635 U.S. 78\, Loganville\, GA\, 30052\, United States
END:VEVENT
BEGIN:VEVENT
DTSTART;TZID=America/New_York:20190616T190000
DTEND;TZID=America/New_York:20190616T210000
DTSTAMP:20260422T154729
CREATED:20150426T152120Z
LAST-MODIFIED:20171226T170140Z
UID:10000200-1560711600-1560718800@www.gapost233.com
SUMMARY:ALR Meeting
DESCRIPTION:The American Legion Riders will meet tonight at 7:00pm. Guests are welcome to attend the meeting to learn more about this very active group.
URL:https://www.gapost233.com/event/alr-meeting/2019-06-16/
LOCATION:Robert Boss Pavilion\, 4635 U.S. 78\, Loganville\, GA\, 30052\, United States
END:VEVENT
BEGIN:VEVENT
DTSTART;TZID=America/New_York:20190516T190000
DTEND;TZID=America/New_York:20190516T210000
DTSTAMP:20260422T154729
CREATED:20150426T152120Z
LAST-MODIFIED:20171226T170140Z
UID:10000199-1558033200-1558040400@www.gapost233.com
SUMMARY:ALR Meeting
DESCRIPTION:The American Legion Riders will meet tonight at 7:00pm. Guests are welcome to attend the meeting to learn more about this very active group.
URL:https://www.gapost233.com/event/alr-meeting/2019-05-16/
LOCATION:Robert Boss Pavilion\, 4635 U.S. 78\, Loganville\, GA\, 30052\, United States
END:VEVENT
BEGIN:VEVENT
DTSTART;TZID=America/New_York:20190416T190000
DTEND;TZID=America/New_York:20190416T210000
DTSTAMP:20260422T154729
CREATED:20150426T152120Z
LAST-MODIFIED:20171226T170140Z
UID:10000198-1555441200-1555448400@www.gapost233.com
SUMMARY:ALR Meeting
DESCRIPTION:The American Legion Riders will meet tonight at 7:00pm. Guests are welcome to attend the meeting to learn more about this very active group.
URL:https://www.gapost233.com/event/alr-meeting/2019-04-16/
LOCATION:Robert Boss Pavilion\, 4635 U.S. 78\, Loganville\, GA\, 30052\, United States
END:VEVENT
BEGIN:VEVENT
DTSTART;TZID=America/New_York:20190316T190000
DTEND;TZID=America/New_York:20190316T210000
DTSTAMP:20260422T154729
CREATED:20150426T152120Z
LAST-MODIFIED:20171226T170140Z
UID:10000197-1552762800-1552770000@www.gapost233.com
SUMMARY:ALR Meeting
DESCRIPTION:The American Legion Riders will meet tonight at 7:00pm. Guests are welcome to attend the meeting to learn more about this very active group.
URL:https://www.gapost233.com/event/alr-meeting/2019-03-16/
LOCATION:Robert Boss Pavilion\, 4635 U.S. 78\, Loganville\, GA\, 30052\, United States
END:VEVENT
BEGIN:VEVENT
DTSTART;TZID=America/New_York:20190216T190000
DTEND;TZID=America/New_York:20190216T210000
DTSTAMP:20260422T154729
CREATED:20150426T152120Z
LAST-MODIFIED:20171226T170140Z
UID:10000196-1550343600-1550350800@www.gapost233.com
SUMMARY:ALR Meeting
DESCRIPTION:The American Legion Riders will meet tonight at 7:00pm. Guests are welcome to attend the meeting to learn more about this very active group.
URL:https://www.gapost233.com/event/alr-meeting/2019-02-16/
LOCATION:Robert Boss Pavilion\, 4635 U.S. 78\, Loganville\, GA\, 30052\, United States
END:VEVENT
BEGIN:VEVENT
DTSTART;TZID=America/New_York:20190116T190000
DTEND;TZID=America/New_York:20190116T210000
DTSTAMP:20260422T154729
CREATED:20150426T152120Z
LAST-MODIFIED:20171226T170140Z
UID:10000195-1547665200-1547672400@www.gapost233.com
SUMMARY:ALR Meeting
DESCRIPTION:The American Legion Riders will meet tonight at 7:00pm. Guests are welcome to attend the meeting to learn more about this very active group.
URL:https://www.gapost233.com/event/alr-meeting/2019-01-16/
LOCATION:Robert Boss Pavilion\, 4635 U.S. 78\, Loganville\, GA\, 30052\, United States
END:VEVENT
BEGIN:VEVENT
DTSTART;TZID=America/New_York:20181218T190000
DTEND;TZID=America/New_York:20181218T210000
DTSTAMP:20260422T154729
CREATED:20150426T152120Z
LAST-MODIFIED:20181217T034438Z
UID:10000381-1545159600-1545166800@www.gapost233.com
SUMMARY:Cancelled! ALR Meeting Cancelled!
DESCRIPTION:The American Legion Riders met during the annual Christmas Party on 12/16 and will not meet again in December.  Come see us in January.
URL:https://www.gapost233.com/event/alr-meeting-2018-12-18/
LOCATION:Robert Boss Pavilion\, 4635 U.S. 78\, Loganville\, GA\, 30052\, United States
END:VEVENT
BEGIN:VEVENT
DTSTART;TZID=America/New_York:20181216T190000
DTEND;TZID=America/New_York:20181216T210000
DTSTAMP:20260422T154729
CREATED:20150426T152120Z
LAST-MODIFIED:20171226T170140Z
UID:10000194-1544986800-1544994000@www.gapost233.com
SUMMARY:ALR Meeting
DESCRIPTION:The American Legion Riders will meet tonight at 7:00pm. Guests are welcome to attend the meeting to learn more about this very active group.
URL:https://www.gapost233.com/event/alr-meeting/2018-12-16/
LOCATION:Robert Boss Pavilion\, 4635 U.S. 78\, Loganville\, GA\, 30052\, United States
END:VEVENT
BEGIN:VEVENT
DTSTART;TZID=America/New_York:20181120T190000
DTEND;TZID=America/New_York:20181120T210000
DTSTAMP:20260422T154729
CREATED:20150426T152120Z
LAST-MODIFIED:20181114T234441Z
UID:10000382-1542740400-1542747600@www.gapost233.com
SUMMARY:Cancelled! ALR Meeting Cancelled!
DESCRIPTION:Our November meeting is cancelled so our folks can enjoy Thanksgiving week with their families.
URL:https://www.gapost233.com/event/alr-meeting-2018-11-20/
LOCATION:Robert Boss Pavilion\, 4635 U.S. 78\, Loganville\, GA\, 30052\, United States
END:VEVENT
BEGIN:VEVENT
DTSTART;TZID=America/New_York:20181116T190000
DTEND;TZID=America/New_York:20181116T210000
DTSTAMP:20260422T154729
CREATED:20150426T152120Z
LAST-MODIFIED:20171226T170140Z
UID:10000193-1542394800-1542402000@www.gapost233.com
SUMMARY:ALR Meeting
DESCRIPTION:The American Legion Riders will meet tonight at 7:00pm. Guests are welcome to attend the meeting to learn more about this very active group.
URL:https://www.gapost233.com/event/alr-meeting/2018-11-16/
LOCATION:Robert Boss Pavilion\, 4635 U.S. 78\, Loganville\, GA\, 30052\, United States
END:VEVENT
BEGIN:VEVENT
DTSTART;TZID=America/New_York:20181016T190000
DTEND;TZID=America/New_York:20181016T210000
DTSTAMP:20260422T154729
CREATED:20150426T152120Z
LAST-MODIFIED:20171226T170140Z
UID:10000192-1539716400-1539723600@www.gapost233.com
SUMMARY:ALR Meeting
DESCRIPTION:The American Legion Riders will meet tonight at 7:00pm. Guests are welcome to attend the meeting to learn more about this very active group.
URL:https://www.gapost233.com/event/alr-meeting/2018-10-16/
LOCATION:Robert Boss Pavilion\, 4635 U.S. 78\, Loganville\, GA\, 30052\, United States
END:VEVENT
BEGIN:VEVENT
DTSTART;TZID=America/New_York:20180916T190000
DTEND;TZID=America/New_York:20180916T210000
DTSTAMP:20260422T154729
CREATED:20150426T152120Z
LAST-MODIFIED:20171226T170140Z
UID:10000191-1537124400-1537131600@www.gapost233.com
SUMMARY:ALR Meeting
DESCRIPTION:The American Legion Riders will meet tonight at 7:00pm. Guests are welcome to attend the meeting to learn more about this very active group.
URL:https://www.gapost233.com/event/alr-meeting/2018-09-16/
LOCATION:Robert Boss Pavilion\, 4635 U.S. 78\, Loganville\, GA\, 30052\, United States
END:VEVENT
BEGIN:VEVENT
DTSTART;TZID=America/New_York:20180816T190000
DTEND;TZID=America/New_York:20180816T210000
DTSTAMP:20260422T154729
CREATED:20150426T152120Z
LAST-MODIFIED:20171226T170140Z
UID:10000190-1534446000-1534453200@www.gapost233.com
SUMMARY:ALR Meeting
DESCRIPTION:The American Legion Riders will meet tonight at 7:00pm. Guests are welcome to attend the meeting to learn more about this very active group.
URL:https://www.gapost233.com/event/alr-meeting/2018-08-16/
LOCATION:Robert Boss Pavilion\, 4635 U.S. 78\, Loganville\, GA\, 30052\, United States
END:VEVENT
BEGIN:VEVENT
DTSTART;TZID=America/New_York:20180716T190000
DTEND;TZID=America/New_York:20180716T210000
DTSTAMP:20260422T154729
CREATED:20150426T152120Z
LAST-MODIFIED:20171226T170140Z
UID:10000189-1531767600-1531774800@www.gapost233.com
SUMMARY:ALR Meeting
DESCRIPTION:The American Legion Riders will meet tonight at 7:00pm. Guests are welcome to attend the meeting to learn more about this very active group.
URL:https://www.gapost233.com/event/alr-meeting/2018-07-16/
LOCATION:Robert Boss Pavilion\, 4635 U.S. 78\, Loganville\, GA\, 30052\, United States
END:VEVENT
BEGIN:VEVENT
DTSTART;TZID=America/New_York:20180616T190000
DTEND;TZID=America/New_York:20180616T210000
DTSTAMP:20260422T154729
CREATED:20150426T152120Z
LAST-MODIFIED:20171226T170140Z
UID:10000188-1529175600-1529182800@www.gapost233.com
SUMMARY:ALR Meeting
DESCRIPTION:The American Legion Riders will meet tonight at 7:00pm. Guests are welcome to attend the meeting to learn more about this very active group.
URL:https://www.gapost233.com/event/alr-meeting/2018-06-16/
LOCATION:Robert Boss Pavilion\, 4635 U.S. 78\, Loganville\, GA\, 30052\, United States
END:VEVENT
BEGIN:VEVENT
DTSTART;TZID=America/New_York:20180516T190000
DTEND;TZID=America/New_York:20180516T210000
DTSTAMP:20260422T154729
CREATED:20150426T152120Z
LAST-MODIFIED:20171226T170140Z
UID:10000187-1526497200-1526504400@www.gapost233.com
SUMMARY:ALR Meeting
DESCRIPTION:The American Legion Riders will meet tonight at 7:00pm. Guests are welcome to attend the meeting to learn more about this very active group.
URL:https://www.gapost233.com/event/alr-meeting/2018-05-16/
LOCATION:Robert Boss Pavilion\, 4635 U.S. 78\, Loganville\, GA\, 30052\, United States
END:VEVENT
BEGIN:VEVENT
DTSTART;TZID=America/New_York:20180416T190000
DTEND;TZID=America/New_York:20180416T210000
DTSTAMP:20260422T154729
CREATED:20150426T152120Z
LAST-MODIFIED:20171226T170140Z
UID:10000186-1523905200-1523912400@www.gapost233.com
SUMMARY:ALR Meeting
DESCRIPTION:The American Legion Riders will meet tonight at 7:00pm. Guests are welcome to attend the meeting to learn more about this very active group.
URL:https://www.gapost233.com/event/alr-meeting/2018-04-16/
LOCATION:Robert Boss Pavilion\, 4635 U.S. 78\, Loganville\, GA\, 30052\, United States
END:VEVENT
BEGIN:VEVENT
DTSTART;TZID=America/New_York:20180316T190000
DTEND;TZID=America/New_York:20180316T210000
DTSTAMP:20260422T154729
CREATED:20150426T152120Z
LAST-MODIFIED:20171226T170140Z
UID:10000185-1521226800-1521234000@www.gapost233.com
SUMMARY:ALR Meeting
DESCRIPTION:The American Legion Riders will meet tonight at 7:00pm. Guests are welcome to attend the meeting to learn more about this very active group.
URL:https://www.gapost233.com/event/alr-meeting/2018-03-16/
LOCATION:Robert Boss Pavilion\, 4635 U.S. 78\, Loganville\, GA\, 30052\, United States
END:VEVENT
BEGIN:VEVENT
DTSTART;TZID=America/New_York:20180216T190000
DTEND;TZID=America/New_York:20180216T210000
DTSTAMP:20260422T154729
CREATED:20150426T152120Z
LAST-MODIFIED:20171226T170140Z
UID:10000184-1518807600-1518814800@www.gapost233.com
SUMMARY:ALR Meeting
DESCRIPTION:The American Legion Riders will meet tonight at 7:00pm. Guests are welcome to attend the meeting to learn more about this very active group.
URL:https://www.gapost233.com/event/alr-meeting/2018-02-16/
LOCATION:Robert Boss Pavilion\, 4635 U.S. 78\, Loganville\, GA\, 30052\, United States
END:VEVENT
BEGIN:VEVENT
DTSTART;TZID=America/New_York:20180116T190000
DTEND;TZID=America/New_York:20180116T210000
DTSTAMP:20260422T154729
CREATED:20150426T152120Z
LAST-MODIFIED:20171226T170140Z
UID:10000183-1516129200-1516136400@www.gapost233.com
SUMMARY:ALR Meeting
DESCRIPTION:The American Legion Riders will meet tonight at 7:00pm. Guests are welcome to attend the meeting to learn more about this very active group.
URL:https://www.gapost233.com/event/alr-meeting/2018-01-16/
LOCATION:Robert Boss Pavilion\, 4635 U.S. 78\, Loganville\, GA\, 30052\, United States
END:VEVENT
BEGIN:VEVENT
DTSTART;TZID=America/New_York:20170308T190000
DTEND;TZID=America/New_York:20170308T203000
DTSTAMP:20260422T154729
CREATED:20170227T235836Z
LAST-MODIFIED:20170228T000251Z
UID:10000485-1488999600-1489005000@www.gapost233.com
SUMMARY:Ride For America planning meeting
DESCRIPTION:The ALR and others will be gathering to plan for Ride for America 2017
URL:https://www.gapost233.com/event/ride-for-america-planning-meeting-4/
LOCATION:Robert Boss Pavilion\, 4635 U.S. 78\, Loganville\, GA\, 30052\, United States
END:VEVENT
BEGIN:VEVENT
DTSTART;TZID=America/New_York:20160908T190000
DTEND;TZID=America/New_York:20160908T210000
DTSTAMP:20260422T154729
CREATED:20150116T132317Z
LAST-MODIFIED:20160803T004548Z
UID:10000075-1473361200-1473368400@www.gapost233.com
SUMMARY:SAL Meeting
DESCRIPTION:Tonight at 7:00pm is the monthly meeting for the Sons of the American Legion. S.A.L. members include males of all ages whose parents or grandparents served in the U.S. military and were eligible for American Legion membership. If you are interested in learning more about S.A.L. please join us as a guest tonight.
URL:https://www.gapost233.com/event/sal-meeting-2016-09-05/
LOCATION:Robert Boss Pavilion\, 4635 U.S. 78\, Loganville\, GA\, 30052\, United States
END:VEVENT
BEGIN:VEVENT
DTSTART;TZID=America/New_York:20160711T190000
DTEND;TZID=America/New_York:20160711T210000
DTSTAMP:20260422T154729
CREATED:20150116T132317Z
LAST-MODIFIED:20160627T003035Z
UID:10000074-1468263600-1468270800@www.gapost233.com
SUMMARY:SAL Meeting
DESCRIPTION:*NOTE* this meeting has been postponed until 7/11 because of the Independence Day holiday. \nTonight at 7:00pm is the monthly meeting for the Sons of the American Legion. S.A.L. members include males of all ages whose parents or grandparents served in the U.S. military and were eligible for American Legion membership. If you are interested in learning more about S.A.L. please join us as a guest tonight.
URL:https://www.gapost233.com/event/sal-meeting-2016-07-04/
LOCATION:Robert Boss Pavilion\, 4635 U.S. 78\, Loganville\, GA\, 30052\, United States
END:VEVENT
BEGIN:VEVENT
DTSTART;TZID=America/New_York:20150629T100000
DTEND;TZID=America/New_York:20150629T120000
DTSTAMP:20260422T154729
CREATED:20150412T110550Z
LAST-MODIFIED:20150412T110550Z
UID:10000033-1435572000-1435579200@www.gapost233.com
SUMMARY:Packing for Soldiers’ Connection
DESCRIPTION:Soldiers’ Connection room – Robert Boss Building
URL:https://www.gapost233.com/event/packing-for-soldiers-connection-3/
LOCATION:Robert Boss Pavilion\, 4635 U.S. 78\, Loganville\, GA\, 30052\, United States
CATEGORIES:Auxiliary
END:VEVENT
BEGIN:VEVENT
DTSTART;TZID=America/New_York:20150608T100000
DTEND;TZID=America/New_York:20150608T120000
DTSTAMP:20260422T154729
CREATED:20150412T110346Z
LAST-MODIFIED:20150412T110346Z
UID:10000031-1433757600-1433764800@www.gapost233.com
SUMMARY:Packing for Soldiers’ Connection
DESCRIPTION:Soldiers’ Connection room – Robert Boss Building
URL:https://www.gapost233.com/event/packing-for-soldiers-connection-2/
LOCATION:Robert Boss Pavilion\, 4635 U.S. 78\, Loganville\, GA\, 30052\, United States
CATEGORIES:Auxiliary
END:VEVENT
BEGIN:VEVENT
DTSTART;TZID=America/New_York:20150518T100000
DTEND;TZID=America/New_York:20150518T120000
DTSTAMP:20260422T154729
CREATED:20150412T110037Z
LAST-MODIFIED:20150412T110037Z
UID:10000180-1431943200-1431950400@www.gapost233.com
SUMMARY:Packing for Soldiers’ Connection
DESCRIPTION:Soldiers’ Connection room – Robert Boss Building
URL:https://www.gapost233.com/event/packing-for-soldiers-connection/
LOCATION:Robert Boss Pavilion\, 4635 U.S. 78\, Loganville\, GA\, 30052\, United States
CATEGORIES:Auxiliary
END:VEVENT
BEGIN:VEVENT
DTSTART;TZID=America/New_York:20150516T120000
DTEND;TZID=America/New_York:20150516T140000
DTSTAMP:20260422T154729
CREATED:20150412T105607Z
LAST-MODIFIED:20150412T105607Z
UID:10000179-1431777600-1431784800@www.gapost233.com
SUMMARY:Auxiliary New Member Quarterly Luncheon
DESCRIPTION:Welcoming our new members.
URL:https://www.gapost233.com/event/auxiliary-new-member-quarterly-luncheon/
LOCATION:Robert Boss Pavilion\, 4635 U.S. 78\, Loganville\, GA\, 30052\, United States
CATEGORIES:Auxiliary
END:VEVENT
END:VCALENDAR